Workbook

Sheet Munka1
B2: Tabelul nr.1a. – Oferta educaţională a Universităţii Sapientia la nivel de licență pentru anul universitar 2025/2026
B3: Facultatea | C3: Denumirea programului de studiu | D3: Situaţia programului de studiu | E3: Anul de evaluarea internă/externă, reevaluare
D4: A-acreditat; AP- autorizat provizoriu
D5: RA- reacreditat
B6: 1 | C6: 2 | D6: 3 | E6: 4
B7: Facultatea de Ştiinţe şi Arte din Cluj-Napoca | C7: Relaţii internaţionale şi studii europene | D7: RA - reacreditat | E7: 2028
C8: Cinematografie, fotografie, media | D8: RA - reacreditat | E8: 2029
C9: Ştiinţa mediului | D9: RA - reacreditat | E9: 2030
C10: Drept | D10: A - acreditat | E10: 2029
C11: Artele spectacolului (coreografie) | D11: AP - autorizat provizoriu | E11: 2030
B12: Facultatea de Ştiinţe Economice, Socio-Umaniste și Ingineresti din Miercurea Ciuc | C12: Economie generală | D12: RA- reacreditat | E12: 2026
C13: Economie agroalimentară | D13: RA- reacreditat | E13: 2030
C14: Contabilitate şi informatică de gestiune | D14: RA- reacreditat | E14: 2028
C15: Educație fizică și sport | D15: AP - autorizat provizoriu | E15: 2029
C16: Lb. si lit. română şi limba și lit. engleză | D16: RA- reacreditat | E16: 2026
C17: Marketing | D17: A | E17: 2026
C18: Literatură universală şi comparată limbă şi literatură engleză. | D18: A | E18: 2026
C19: Informatică economică | D19: A | E19: 2027
C20: Sociologie | D20: RA- reacreditat | E20: 2026
C21: Resurse umane | D21: A | E21: 2029
C22: Ingineria produselor alimentare | D22: RA- reacreditat | E22: 2026
C23: Comunicare şi relaţii publice | D23: RA- reacreditat | E23: 2026
C24: Biotehnologii: Inginerie genetică | D24: A | E24: 2030
C25: Inginerie şi management în alimentaţie publică şi agroturism | D25: A | E25: 2027
B26: Facultatea de Ştiinţe Tehnice şi Umaniste din Târgu Mureş | C26: Informatică | D26: RA- reacreditat | E26: 2027
C27: Mecatronică | D27: RA- reacreditat | E27: 2026
C28: Calculatoare | D28: RA- reacreditat | E28: 2026
C29: Automatică şi informatică aplicată | D29: RA- reacreditat | E29: 2027
C30: Horticultură | D30: RA- reacreditat | E30: 2028
C31: Comunicare şi relaţii publice | D31: RA- reacreditat | E31: 2028
C32: Traducere şi interpretare | D32: RA- reacreditat | E32: 2026
C33: Tehnologii şi sisteme de telecomunicaţii | D33: RA – acreditat | E33: 2027
C34: Tehnologia construcţiilor de maşini | D34: RA – acreditat | E34: 2027
C35: Servicii şi politici de sănătate publică | D35: RA- reacreditat | E35: 2028
C36: Peisagistică | D36: A - Acreditat | E36: 2029
B37: Facultatea de Ştiinţe ale Vieţii şi Sport | C37: Agricultură (Sf. Gheorghe) | D37: A – Acreditat | E37: 2027
C38: Silvicultură (Sf. Gheorghe) | D38: AP – Autorizat provizoriu | E38: 2026
C39: Sport și performanță motrică | D39: AP – Autorizat provizoriu | E39: 2028
B40: Departamentul de Specialitate cu Profil Psihopedagogic | C40: Programul de formare psihopedagogică în vederea certificării competențelor pentru profesia didactică DPPD - Cluj Napoca | D40: RA-reacreditat (– Menținerea calității de instituție furnizoare de formare psihopedagogică în vederea certificării competențelor pentru profesia didactică) | E40: 2028
C41: Programul de formare psihopedagogică în vederea certificării competențelor pentru profesia didactică DPPD - Târgu Mureș | D41: RA-reacreditat | E41: 2028
C42: Programul de formare psihopedagogică în vederea certificării competențelor pentru profesia didactică DPPD - Miercurea Ciuc | D42: RA-reacreditat | E42: 2028
B46: Tabelul nr.1b. – Oferta educaţională a Universităţii Sapientia la nivel de master pentru anul universitar 2025/2026
B47: Facultatea | C47: Denumirea programului de studiu şi al domeniului acreditat | D47: Universitatea/Universitățile partenere | E47: Anul pentru evaluarea internă/externă
E48: reevaluare
B49: 1 | C49: 2 | D49: 3 | E49: 4
B50: Facultatea de Ştiinţe şi Arte din Cluj-Napoca | C50: Diplomație și studii interculturale, Domeniul: Relaţii internaţionale şi studii europene | D50: Budapesti Gazdasági Egyetem (Budapest Business School. University of Applied Sciences) | E50: 2030
C51: Studii de film, Domeniul: Cinematografie, fotografie, media; | D51: Universitatea ELTE, Budapesta | E51: 2027
C52: Protecția și monitorizarea mediului, Domeniul: Știința mediului | D52: Universitatea din Szeged, Universitatea ELTE, Budapesta | E52: 2027
C53: Cariere judiciare, Domeniul: Drept | E53: 2026
B54: Facultatea de Ştiinţe Economice, Socio-Umaniste și Ingineresti din Miercurea Ciuc | C54: Traducere şi interpretare. Domeniul: Filologie | E54: 2028
C55: Leadership şi management în economia agrară, Domeniul: Economie | E55: 2030
C56: Economie aplicată şi finanţe, Domeniul: Economie | E56: 2030
C57: Biotehnologii sustenabile, Domeniul: Ingineria produselor alimentare | E57: 2028
C58: Comunicare şi relaţii publice; Domeniul: Ştiinţe ale comunicării | E58: 2029
B60: Facultatea de Ştiinţe Tehnice şi Umaniste din Târgu Mureş | C60: Dezvoltarea aplicaţiilor software, Domeniul: Informatică | D60: Universitatea Eötvös Loránd din Budapesta | E60: 2024
C61: Protecția plantelor, Domeniul: Horticultură | D61: Universitatea Corvinus din Budapesta | E61: 2024
C62: Sisteme mecatronice avansate, Domeniul: Mecatronică și robotică | D62: Colegiul Universitar din Nyíregyháza | E62: 2024
C63: Sisteme de control inteligente, Domeniul: Ingineria sistemelor | D63: Universitatea Pannon din Veszprém | E63: 2024

Sheet Munka2
A1: Tabelul 2.1a. Situaţia cadrelor didactice titularizate în învăţământul superior cu activităţi didactice (număr persoane) pentru anul universitar 2025/2026
A2: Facultatea | B2: Departamentul | C2: Prof. | F2: Conf. | I2: Lector/ | L2: Asist. | O2: Prep | P2: Total cadre didactice | Q2: Total cadre didactice cu norma de bază în Universitate
I3: Şef lucr.
C4: Norma de bază | D4: Asociat cu contract durată determinată | E4: Plata cu ora | F4: Norma de bază | G4: Asociat cu contract durată determinată | H4: Plata cu ora | I4: Norma de bază | J4: Asociat cu contract durată determinată | K4: Plata cu ora | L4: Norma de bază | M4: Asociat cu contract durată determinată | N4: Plata cu ora | O4: Norma de bază
A5: 1 | B5: 2 | C5: 3.1 | D5: 3.2 | E5: 3.3 | F5: 4.1 | G5: 4.2 | H5: 4.3 | I5: 5.1 | J5: 5.2 | K5: 5.3 | L5: 6.1 | M5: 6.2 | N5: 6.3 | O5: 7 | P5: 8 | Q5: 9
A6: de Ştiinţe şi Arte Cluj-Napoca | B6: Studii Europene | C6: 1 | D6: 0 | E6: 0 | F6: 4 | G6: 0 | H6: 1 | I6: 4 | J6: 0 | K6: 4 | L6: 0 | M6: 0 | N6: 4 | O6: 0 | P6: =SUM(C6:O6) -> 18 | Q6: =C6+F6+I6+L6+O6 -> 9
B7: Ştiinţe Juridice | C7: 2 | D7: 0 | E7: 0 | F7: 3 | G7: 2 | H7: 0 | I7: 6 | J7: 0 | K7: 2 | L7: 0 | M7: 0 | N7: 4 | O7: 0 | P7: =SUM(C7:O7) -> 19 | Q7: =C7+F7+I7+L7+O7 -> 11
B8: Media | C8: 1 | D8: 1 | E8: 0 | F8: 5 | G8: 6 | H8: 1 | I8: 5 | J8: 5 | K8: 6 | L8: 2 | M8: 2 | N8: 16 | O8: 0 | P8: =SUM(C8:O8) -> 50 | Q8: =C8+F8+I8+L8+O8 -> 13
B9: Ştiinţa Mediului | C9: 1 | D9: 1 | E9: 1 | F9: 1 | G9: 0 | H9: 3 | I9: 5 | J9: 0 | K9: 5 | L9: 0 | M9: 0 | N9: 0 | O9: 0 | P9: =SUM(C9:O9) -> 17 | Q9: =C9+F9+I9+L9+O9 -> 7
A10: Total facultate | C10: =SUM(C6:C9) -> 5 | D10: =SUM(D6:D9) -> 2 | E10: =SUM(E6:E9) -> 1 | F10: =SUM(F6:F9) -> 13 | G10: =SUM(G6:G9) -> 8 | H10: =SUM(H6:H9) -> 5 | I10: =SUM(I6:I9) -> 20 | J10: =SUM(J6:J9) -> 5 | ... Q10: =SUM(Q6:Q9) -> 40
A11: de Științe Economice, Socio-Umane și Inginereşti din Miercurea Ciuc | B11: Ştiinţa Afacerilor | C11: 0 | D11: 4 | E11: 4 | F11: 1 | G11: 10 | H11: 0 | I11: 2 | J11: 0 | K11: 2 | L11: 1 | M11: 2 | N11: 1 | O11: 0 | P11: =SUM(D11:O11) -> 27 | Q11: =D11+G11+J11+M11 -> 16
B12: Ştiinţe Economice | C12: 2 | D12: 3 | E12: 0 | F12: 1 | G12: 6 | H12: 0 | I12: 1 | J12: 0 | K12: 1 | L12: 2 | M12: 1 | N12: 2 | O12: 0 | P12: =SUM(D12:O12) -> 17 | Q12: =D12+G12+J12+M12 -> 10
B13: Științe Sociale | C13: 4 | D13: 5 | E13: 2 | F13: 0 | G13: 5 | H13: 1 | I13: 2 | J13: 0 | K13: 1 | L13: 2 | M13: 1 | N13: 2 | O13: 0 | P13: =SUM(D13:O13) -> 21 | Q13: =D13+G13+J13+M13 -> 11
B14: Ştiinţe Umane | C14: 0 | D14: 4 | E14: 0 | F14: 3 | G14: 8 | H14: 0 | I14: 2 | J14: 0 | K14: 1 | L14: 6 | M14: 1 | N14: 6 | O14: 0 | P14: =SUM(D14:O14) -> 31 | Q14: =D14+G14+J14+M14 -> 13
B15: Științe Alimentare | C15: 1 | D15: 3 | E15: 0 | F15: 1 | G15: 5 | H15: 0 | I15: 3 | J15: 0 | K15: 1 | L15: 0 | M15: 1 | N15: 0 | O15: 0 | P15: =SUM(D15:O15) -> 14 | Q15: =D15+G15+J15+M15 -> 9
B16: Bioinginerie | C16: 4 | D16: 5 | E16: 0 | F16: 10 | G16: 8 | H16: 0 | I16: 12 | J16: 0 | K16: 3 | L16: 7 | M16: 3 | N16: 7 | O16: 0 | P16: =SUM(D16:O16) -> 55 | Q16: =D16+G16+J16+M16 -> 16
A17: Total facultate | C17: =SUM(C11:C16) -> 11 | D17: =SUM(D11:D16) -> 24 | E17: =SUM(E11:E16) -> 6 | F17: =SUM(F11:F16) -> 16 | G17: =SUM(G11:G16) -> 42 | H17: =SUM(H11:H16) -> 1 | I17: =SUM(I11:I16) -> 22 | J17: =SUM(J11:J16) -> 0 | ... N17: =SUM(N11:N16) -> 18 | O17: 0 | P17: =SUM(P11:P16) -> 165 | Q17: 67
A18: de Ştiinţe Tehnice și Umaniste Tg. Mureș | B18: Inginerie Mecanică | C18: 1 | D18: 0 | E18: 0 | F18: 6 | G18: 3 | H18: 1 | I18: 5 | J18: 0 | K18: 0 | L18: 0 | M18: 0 | N18: 0 | O18: 0 | P18: =SUM(C18:O18) -> 16 | Q18: =C18+F18+I18+L18+O18 -> 12
B19: Inginerie Electrică | C19: 3 | D19: 0 | E19: 0 | F19: 6 | G19: 0 | H19: 3 | I19: 11 | J19: 1 | K19: 0 | L19: 0 | M19: 0 | N19: 0 | O19: 0 | P19: =SUM(C19:O19) -> 24 | Q19: =C19+F19+I19+L19+O19 -> 20
B20: Științe Sociale Aplicate | C20: 0 | D20: 0 | E20: 0 | F20: 5 | G20: 1 | H20: 1 | I20: 7 | J20: 1 | K20: 0 | L20: 0 | M20: 0 | N20: 0 | O20: 0 | P20: =SUM(C20:O20) -> 15 | Q20: =C20+F20+I20+L20+O20 -> 12
B21: Lingvistică Aplicată | C21: 1 | D21: 1 | E21: 1 | F21: 5 | G21: 0 | H21: 1 | I21: 5 | J21: 0 | K21: 0 | L21: 0 | M21: 0 | N21: 0 | O21: 0 | P21: =SUM(C21:O21) -> 14 | Q21: =C21+F21+I21+L21+O21 -> 11
B22: Horticultură | C22: 3 | D22: 0 | E22: 0 | F22: 7 | G22: 1 | H22: 0 | I22: 11 | J22: 2 | K22: 0 | L22: 0 | M22: 0 | N22: 0 | O22: 0 | P22: =SUM(C22:O22) -> 24 | Q22: =C22+F22+I22+L22+O22 -> 21
B23: Matematică-Informatică | C23: 3 | D23: 1 | E23: 1 | F23: 4 | G23: 0 | H23: 4 | I23: 6 | J23: 1 | K23: 1 | L23: 0 | M23: 0 | N23: 0 | O23: 0 | P23: =SUM(C23:O23) -> 21 | Q23: =C23+F23+I23+L23+O23 -> 13
A24: Total facultate | C24: =SUM(C18:C23) -> 11 | D24: =SUM(D18:D23) -> 2 | E24: =SUM(E18:E23) -> 2 | F24: =SUM(F18:F23) -> 33 | G24: =SUM(G18:G23) -> 5 | H24: =SUM(H18:H23) -> 10 | I24: =SUM(I18:I23) -> 45 | J24: =SUM(J18:J23) -> 5 | ... Q24: =SUM(Q18:Q23) -> 89
A25: de Ştiinţe ale Vieții și Sport Sf. Gheorghe | B25: Științe ale Vieții | C25: 1 | D25: 0 | E25: 9 | F25: 3 | G25: 0 | H25: 12 | I25: 11 | J25: 0 | K25: 20 | L25: 0 | M25: 0 | N25: 21 | O25: 0 | P25: =SUM(C25:O25) -> 77 | Q25: =C25+F25+I25 -> 15
A26: Total facultate | C26: 1 | D26: 0 | E26: 9 | F26: 3 | G26: 0 | H26: 12 | I26: 11 | J26: 0 | K26: 20 | L26: 0 | M26: 0 | N26: 21 | O26: 0 | P26: 77 | Q26: =C26+F26+I26 -> 15
A27: DSPP | B27: DSPP | C27: 1 | D27: 0 | E27: 1 | F27: 1 | G27: 0 | H27: 5 | I27: 3 | J27: 0 | K27: 9 | L27: 0 | M27: 0 | N27: 2 | O27: 0 | P27: 22 | Q27: 5
A28: Total Universitate | C28: =C10+C17+C24+C27 -> 28 | D28: =D10+D17+D24+D27 -> 28 | E28: =E10+E17+E24+E27 -> 10 | F28: 65 | G28: =G10+G17+G24+G27 -> 55 | H28: =H10+H17+H24+H27 -> 21 | I28: 98 | J28: =J10+J17+J24+J27 -> 10 | K28: =K10+K17+K24+K27 -> 36 | L28: =L10+L17+L24+L27 -> 20 | M28: =M10+M17+M24+M27 -> 11 | N28: =N10+N17+N24+N27 -> 44 | O28: =O10+O17+O24+O27 -> 0 | P28: 426 | Q28: 211
D34: Titulari | E34: % | F34: Total | G34: %
C35: Prof | D35: 28 | E35: =D35/D40 -> 0.13270142 | F35: 66 | G35: =F35/F40 -> 0.15492958
C36: Conf | D36: 65 | E36: =D36/D40 -> 0.30805687 | F36: 141 | G36: =F36/F40 -> 0.33098592
C37: Lector | D37: 98 | E37: =D37/D40 -> 0.46445498 | F37: 144 | G37: =F37/F40 -> 0.33802817
C38: Asist | D38: 20 | E38: =D38/D40 -> 0.09478673 | F38: 75 | G38: =F38/F40 -> 0.17605634
C39: Preparator | D39: 0 | E39: 0 | F39: 0 | G39: 0
C40: Total | D40: 211 | F40: 426

Sheet Munka3
A1: Tabelul 2.1b. Situaţia cadrelor didactice netitularizate în învăţământul superior, cu titlul recunoscut de Senat la nivelul facultăților pentru anul universitar 2025/2026
A2: Facultatea | B2: Departamentul | C2: Numele și prenumele | D2: Funcția recunoscută
A3: 1 | B3: 2 | C3: 3 | D3: 4
A4: Științe și Arte din Cluj-Napoca | B4: Relații Internaționale și Studii Europene | C4: Anca Filipovici | D4: Lector universitar
C5: Laczkó Rita | D5: Lector universitar
C6: Robert C. Castel | D6: Lector universitar
C7: Szabó Lilla | D7: Lector universitar
C8: Baricz Ágnes | D8: Asistent universitar
C9: Móritz Kinga Eva | D9: Asistent universitar
C10: Kiss Gergely Antal | D10: Asistent universitar
C11: Török Ferenc | D11: Asistent universitar
B12: Științe Juridice | C12: Bartis Előd | D12: Asistent universitar
C13: Ilyés Kinga | D13: Asistent universitar
C14: Nagy Gellért | D14: Asistent universitar
C15: Füzi Norbert | D15: Asistent universitar
B16: Media | C16: Bakk Ágnes Karolina | D16: Lector universitar
C17: Benedek Árpád | D17: Asistent universitar
C18: Böjthe Alex | D18: Asistent universitar
C19: Janisch Attila | D19: Conferențiar universitar
C20: Márton László | D20: Asistent universitar
C21: Czont Attila | D21: Asistent universitar
C22: Jakab Melinda | D22: Asistent universitar
C23: Juhász Csilla | D23: Asistent universitar
C24: Karácsony Zoltán | D24: Lector universitar
C25: Kelemen László | D25: Lector universitar
C26: Lakatos Mihály | D26: Asistent universitar
C27: Maly Róbert | D27: Asistent universitar
C28: Muresan Alice | D28: Asistent universitar
... C37: Orbán Csala | D37: Asistent universitar
B38: Ştiința Mediului | C38: Farkas György | D38: Lector universitar
C39: Ábrán Péter | D39: Lector universitar
A40: Științe Economice, Socio-Umane și Inginerești | B40: Ştiinţa Afacerilor | C40: Geréb László | D40: conferențiar universitar
C41: Birta Zsuzsánna | D41: lector universitar
C42: Bareith Tibor | D42: lector universitar
C43: Vigh Beáta | D43: asistent universitar
C44: Nagy-Kercsó Katalin | D44: asistent universitar
C45: Ágoston Norbert | D45: asistent universitar
B46: Științe Economice | C46: Csata Andrea | D46: asistent universitar
C47: Filep Levente | D47: asistent universitar
C48: Lőrincz Annamária | D48: asistent universitar
B49: Științe Sociale | C49: Elekes Zoltán | D49: lector universitar
C50: Ferencz Angéla | D50: lector universitar
C51: Silló Ágota | D51: asistent universitar
C52: Szopos Edina | D52: asistent universitar
C53: Szőcs István | D53: asistent universitar
B54: Științe Umane | C54: Dánél Edit-Mária | D54: asistent universitar
C55: Fűlöp Jozsef-Zsolt | D55: asistent universitar
C56: Gál Szilvia | D56: asistent universitar
C57: Marton Andrea | D57: asistent universitar
C58: Molnár Szilárd-Emanuel | D58: asistent universitar
C59: Sere Andrea | D59: asistent universitar
C60: Sturtzu Maria-Lucreția | D60: asistent universitar
C61: Szonda Szabolcs | D61: lector universitar
C62: Trifescu Valentin | D62: lector universitar
B63: Științe Alimentare | C63: Tófalvi Melinda Mária | D63: lector universitar
C64: Füstös Zoltán | D64: lector universitar
C65: Péterffy Judit | D65: lector universitar
C66: Mihók Emőke | D66: asistent universitar
B67: Bioinginerie | C67: Ambrus Tünde | D67: lector universitar
C68: Haschi András | D68: lector universitar
C69: Korodi Szilamér | D69: lector universitar
C70: Trandafir Norbert | D70: lector universitar
C71: Molnár Szabolcs | D71: lector universitar
C72: Fikó Róbert | D72: asistent universitar
C73: Dávid Hunor | D73: asistent universitar
C74: Karácsony Péter | D74: asistent universitar
C75: Ilkei Klementina - Imelda | D75: asistent universitar
C76: Horváth Dorottya | D76: asistent universitar
C77: Miklós Edit | D77: asistent universitar
C78: Balázs Márta | D78: asistent universitar
C79: Fodor Hunor | D79: asistent universitar
... C82: Gergely Norbert | D82: asistent universitar
A83: Facultatea de Ştiințe Tehnice și Umaniste Tg. Mureș | B83: Inginerie Mecanică | C83: Farmos Rudolf | D83: Asistent universtiar
C84: Boza Pál | D84: Profesor universitar
C85: Hodgyai Norbert | D85: Asistent universtiar (suplinitor)
C86: Vajda Mária Erzsébet | D86: Șef lucrări
C87: Osváth Ildikó | D87: Asistent universtiar
B88: Inginerie Electrică | C88: Csernáth Géza | D88: Șef lucrări
C89: Forrai Alexandru | D89: Șef lucrări
C90: Kocsis Katalin | D90: Asistent universtiar (suplinitor)
C91: Román Róbert | D91: Asistent universtiar
C92: Kolcsár Levente | D92: Asistent universtiar
C93: Csaholczi Szabolcs | D93: Asistent universtiar (suplinitor)
C94: Imecs Mária | D94: Profesor universitar
B95: Științe Sociale Aplicate | C95: Gagyi József | D95: Profesor universitar
C96: Dimény Gábor | D96: Lector universitar
C97: Lorenzovici László-Zsombor | D97: Asistent universtiar
C98: Hamar Mátyás-Ruben | D98: Asistent universtiar (suplinitor)
C99: Kocsis Loránd | D99: Asistent universtiar
C100: Patkó Katalin | D100: Asistent universtiar
C101: Kálmán Attila | D101: Lector universitar
C102: Daray Áron | D102: Asistent universtiar
C103: Tankó Gábor | D103: Asistent universtiar
C104: Kelemen László József | D104: Asistent universtiar
B105: Lingvistică Aplicată | C105: Demeter Júlia | D105: Lector universitar
C106: Mitruly Árpád | D106: Asistent universtiar
C107: Suciu Romelia | D107: Asistent universtiar
C108: Bara Kinga | D108: Asistent universtiar
C109: Máthé Nóra | D109: Asistent universtiar (suplinitor)
C110: Barabás Blanka | D110: Asistent universtiar (suplinitor)
...

Sheet Munka4
A2: Tabelul 2.2. Situaţia posturilor conform Statelor de funcţii ale departamentelor în anul universitar 2025/2026
A3: Facultatea | B3: Departamentul | C3: Prof. | F3: Conf. | I3: Lector/Şef lucrări | L3: Asist. | O3: Total posturi | P3: Total posturi ocupate
C5: Total | D5: Ocupat | E5: Vacant | F5: Total | G5: Ocupat | H5: Vacant | I5: Total | J5: Ocupat | K5: Vacant | L5: Total | M5: Ocupat | N5: Vacant
A6: 1 | B6: 2 | C6: 3.1 | D6: 3.2 | E6: 3.3 | F6: 4.1 | G6: 4.2 | H6: 4.3 | I6: 5.1 | J6: 5.2 | K6: 5.3 | L6: 6.1 | M6: 6.2 | N6: 6.3 | O6: 8 | P6: 9 | U6: 2021
A7: de Ştiinţe şi Arte Cluj Napoca | B7: Studii Europene | C7: 1 | D7: 1 | E7: 0 | F7: 6 | G7: 4 | H7: 2 | I7: 6 | J7: 4 | K7: 2 | L7: 2 | M7: 0 | N7: 2 | O7: =C7+F7+I7+L7 -> 15 | P7: =D7+G7+J7+M7 -> 9 | U7: =O7 -> 15 | V7: =P7 -> 9
B8: Științe Juridice | C8: 3 | D8: 2 | E8: 1 | F8: 4 | G8: 3 | H8: 1 | I8: 9 | J8: 6 | K8: 3 | L8: 0 | M8: 0 | N8: 0 | O8: =C8+F8+I8+L8 -> 16 | P8: =D8+G8+J8+M8 -> 11 | U8: =O8 -> 16 | V8: =P8 -> 11
B9: Media | C9: 1 | D9: 1 | E9: 0 | F9: 7 | G9: 5 | H9: 2 | I9: 10 | J9: 5 | K9: 5 | L9: 4 | M9: 2 | N9: 2 | O9: =C9+F9+I9+L9 -> 22 | P9: =D9+G9+J9+M9 -> 13 | U9: =O9 -> 22 | V9: =P9 -> 13
B10: Ştiinţa Mediului | C10: 1 | D10: 1 | E10: 0 | F10: 3 | G10: 1 | H10: 2 | I10: 8 | J10: 5 | K10: 3 | L10: 0 | M10: 0 | N10: 0 | O10: =C10+F10+I10+L10 -> 12 | P10: =D10+G10+J10+M10 -> 7 | U10: =O10 -> 12 | V10: =P10 -> 7
A11: Total facultate | C11: =SUM(C7:C10) -> 6 | D11: =SUM(D7:D10) -> 5 | E11: =SUM(E7:E10) -> 1 | F11: =SUM(F7:F10) -> 20 | G11: =SUM(G7:G10) -> 13 | H11: =SUM(H7:H10) -> 7 | I11: =SUM(I7:I10) -> 33 | J11: =SUM(J7:J10) -> 20 | ... P11: =SUM(P7:P10) -> 40 | U11: =O11 -> 65 | V11: =P11 -> 40
A12: de Științe Economice, Socio-Umane și Ingineresti din Miercurea Ciuc | B12: Ştiinţa Afacerilor | C12: 1 | D12: 1 | E12: 0 | F12: 5 | G12: 4 | H12: 1 | I12: 19 | J12: 10 | K12: 9 | L12: 2 | M12: 0 | N12: 2 | O12: =C12+F12+I12+L12 -> 27 | P12: =D12+G12+J12+M12 -> 15 | U12: =O12 -> 27 | V12: =P12 -> 15
B13: Ştiinţe Economice | C13: 1 | D13: 1 | E13: 0 | F13: 6 | G13: 3 | H13: 3 | I13: 11 | J13: 6 | K13: 5 | L13: 4 | M13: 0 | N13: 4 | O13: =C13+F13+I13+L13 -> 22 | P13: =D13+G13+J13+M13 -> 10 | U13: =O13 -> 22 | V13: =P13 -> 10
B14: Ştiinţe Sociale | C14: 1 | D14: 1 | E14: 0 | F14: 5 | G14: 5 | H14: 0 | I14: 15 | J14: 5 | K14: 10 | L14: 2 | M14: 0 | N14: 2 | O14: =C14+F14+I14+L14 -> 23 | P14: =D14+G14+J14+M14 -> 11 | U14: =O14 -> 23 | V14: =P14 -> 11
B15: Ştiinţe Umane | C15: 2 | D15: 2 | E15: 0 | F15: 4 | G15: 4 | H15: 0 | I15: 14 | J15: 8 | K15: 6 | L15: 9 | M15: 0 | N15: 9 | O15: =C15+F15+I15+L15 -> 29 | P15: =D15+G15+J15+M15 -> 14 | U15: =O15 -> 29 | V15: =P15 -> 14
B16: Ştiinţe alimentare | C16: 2 | D16: 1 | E16: 1 | F16: 4 | G16: 3 | H16: 1 | I16: 8 | J16: 5 | K16: 3 | L16: 1 | M16: 0 | N16: 1 | O16: =C16+F16+I16+L16 -> 15 | P16: =D16+G16+J16+M16 -> 9 | U16: =O16 -> 15 | V16: =P16 -> 9
B17: Bioinginerie | C17: 4 | D17: 3 | E17: 1 | F17: 9 | G17: 5 | H17: 4 | I17: 12 | J17: 8 | K17: 4 | L17: 5 | M17: 0 | N17: 5 | O17: =C17+F17+I17+L17 -> 30 | P17: =D17+G17+J17+M17 -> 16 | U17: =O17 -> 30 | V17: =P17 -> 16
A18: Total facultate | C18: =SUM(C12:C17) -> 11 | D18: =SUM(D12:D17) -> 9 | E18: =SUM(E12:E17) -> 2 | F18: =SUM(F12:F17) -> 33 | G18: =SUM(G12:G17) -> 24 | H18: =SUM(H12:H17) -> 9 | I18: =SUM(I12:I17) -> 79 | J18: =SUM(J12:J17) -> 42 | ... P18: =SUM(P12:P17) -> 75 | U18: =O18 -> 146 | V18: =P18 -> 75
A19: de Științe Tehnice și Umaniste Tg. Mureș | B19: Inginerie Mecanică | C19: 1 | D19: 1 | E19: 0 | F19: 6 | G19: 6 | H19: 0 | I19: 12 | J19: 5 | K19: 7 | L19: 2 | M19: 0 | N19: 2 | O19: =C19+F19+I19+L19 -> 21 | P19: =D19+G19+J19+M19 -> 12 | U19: =O19 -> 21 | V19: =P19 -> 12
B20: Inginerie Electrică | C20: 6 | D20: 3 | E20: 3 | F20: 8 | G20: 6 | H20: 2 | I20: 13 | J20: 11 | K20: 2 | L20: 3 | M20: 0 | N20: 3 | O20: =C20+F20+I20+L20 -> 30 | P20: =D20+G20+J20+M20 -> 20 | U20: =O20 -> 30 | V20: =P20 -> 20
B21: Științe Sociale Aplicate | C21: 0 | D21: 0 | E21: 0 | F21: 6 | G21: 5 | H21: 1 | I21: 13 | J21: 7 | K21: 6 | L21: 2 | M21: 0 | N21: 2 | O21: =C21+F21+I21+L21 -> 21 | P21: =D21+G21+J21+M21 -> 12 | U21: =O21 -> 21 | V21: =P21 -> 12
B22: Lingvistică Aplicată | C22: 1 | D22: 1 | E22: 0 | F22: 5 | G22: 5 | H22: 0 | I22: 9 | J22: 5 | K22: 4 | L22: 7 | M22: 0 | N22: 7 | O22: =C22+F22+I22+L22 -> 22 | P22: =D22+G22+J22+M22 -> 11 | U22: =O22 -> 22 | V22: =P22 -> 11
B23: Horticultură | C23: 4 | D23: 3 | E23: 1 | F23: 8 | G23: 7 | H23: 1 | I23: 16 | J23: 11 | K23: 5 | L23: 3 | M23: 0 | N23: 3 | O23: =C23+F23+I23+L23 -> 31 | P23: =D23+G23+J23+M23 -> 21 | U23: =O23 -> 31 | V23: =P23 -> 21
B24: Matematică-Informatică | C24: 3 | D24: 3 | E24: 0 | F24: 7 | G24: 4 | H24: 3 | I24: 8 | J24: 6 | K24: 2 | L24: 6 | M24: 0 | N24: 6 | O24: =C24+F24+I24+L24 -> 24 | P24: =D24+G24+J24+M24 -> 13 | U24: =O24 -> 24 | V24: =P24 -> 13
A25: Total facultate | C25: =SUM(C19:C24) -> 15 | D25: =SUM(D19:D24) -> 11 | E25: =SUM(E19:E24) -> 4 | F25: =SUM(F19:F24) -> 40 | G25: =SUM(G19:G24) -> 33 | H25: =SUM(H19:H24) -> 7 | I25: =SUM(I19:I24) -> 71 | J25: =SUM(J19:J24) -> 45 | ... P25: =SUM(P19:P24) -> 89 | U25: =O25 -> 149 | V25: =P25 -> 89
A26: de Științe ale Vieții și Sport | B26: Științe ale Vieții | C26: 4 | D26: 1 | E26: 3 | F26: 11 | G26: 3 | H26: 8 | I26: 25 | J26: 11 | K26: 14 | L26: 5 | M26: 0 | N26: 5 | O26: =C26+F26+I26+L26 -> 45 | P26: =D26+G26+M26++J26 -> 15
A27: Total facultate | C27: 4 | D27: 1 | E27: 3 | F27: 11 | G27: 3 | H27: 8 | I27: 25 | J27: 11 | K27: 14 | L27: 5 | M27: 0 | N27: 5 | O27: =C27+F27+I27+L27 -> 45 | P27: 15
B28: DSPP | C28: 1 | D28: 1 | E28: 0 | F28: 1 | G28: 1 | H28: 0 | I28: 10 | J28: 3 | K28: 7 | L28: 0 | M28: 0 | N28: 0 | O28: 12 | P28: 5 | U28: =O28 -> 12 | V28: =P28 -> 5
A29: Total universitate | C29: 37 | D29: 27 | E29: =E11+E18+E25+E28 -> 7 | F29: 105 | G29: 74 | H29: =H11+H18+H25+H28 -> 23 | I29: 218 | J29: 121 | K29: =K11+K18+K25+K28 -> 83 | L29: 57 | M29: =M11+M18+M25+M28 -> 2 | N29: =N11+N18+N25+N28 -> 50 | O29: 417 | P29: 224 | U29: =O29 -> 417 | V29: =P29 -> 224
O31: =P29/O29 -> 0.53717026
C36: Total posturi | D36: Total posturi ocupate | E36: Procent
A37: de Ştiinţe şi Arte Cluj Napoca | B37: Studii Europene | C37: 15 | D37: 9 | E37: =D37/C37 -> 0.6
B38: Științe Juridice | C38: 16 | D38: 11 | E38: =D38/C38 -> 0.6875
B39: Media | C39: 22 | D39: 13 | E39: =D39/C39 -> 0.59090909
B40: Ştiinţa Mediului | C40: 12 | D40: 7 | E40: =D40/C40 -> 0.58333333
A41: de Științe Economice, Socio-Umane și Ingineresti din Miercurea Ciuc | B41: Ştiinţa Afacerilor | C41: 27 | D41: 15 | E41: =D41/C41 -> 0.55555556
B42: Ştiinţe Economice | C42: 22 | D42: 10 | E42: =D42/C42 -> 0.45454545
B43: Ştiinţe Sociale | C43: 23 | D43: 11 | E43: =D43/C43 -> 0.47826087
B44: Ştiinţe Umane | C44: 29 | D44: 14 | E44: =D44/C44 -> 0.48275862
B45: Ştiinţe alimentare | C45: 15 | D45: 9 | E45: =D45/C45 -> 0.6
B46: Bioinginerie | C46: 30 | D46: 16 | E46: =D46/C46 -> 0.53333333
A47: de Științe Tehnice și Umaniste Tg. Mureș | B47: Inginerie Mecanică | C47: 21 | D47: 12 | E47: =D47/C47 -> 0.57142857
B48: Inginerie Electrică | C48: 30 | D48: 20 | E48: =D48/C48 -> 0.66666667
B49: Științe Sociale Aplicate | C49: 21 | D49: 12 | E49: =D49/C49 -> 0.57142857
B50: Lingvistică Aplicată | C50: 22 | D50: 11 | E50: =D50/C50 -> 0.5
B51: Horticultură | C51: 31 | D51: 21 | E51: =D51/C51 -> 0.67741935
B52: Matematică-Informatică | C52: 24 | D52: 13 | E52: =D52/C52 -> 0.54166667
A53: de Științe ale Vieții și Sport | B53: Științe ale Vieții | C53: 45 | D53: 15 | E53: =D53/C53 -> 0.33333333
A54: DSPP | B54: DSPP | C54: 12 | D54: 5 | E54: =D54/C54 -> 0.41666667

Sheet Munka6
B3: Tabelul 2.4. Media de vârstă a cadrelor didactice titulare conform statelor de funcții ale departamentelor pentru universitar 2025/2026
B4: Facultatea | C4: Departamentul | D4: Prof. | F4: Conf. | H4: Lector/ | J4: Asist. | L4: Prep. | N4: Media ponderată pe departament
H5: Şef lucr.
D6: Nr. fizic. | E6: Media de vârstă | F6: Nr. fizic. | G6: Media de vârstă | H6: Nr. fizic. | I6: Media de vârstă | J6: Nr. fizic. | K6: Media de vârstă | L6: Nr. fizic. | M6: Media de vârstă
B7: 1 | C7: 2 | D7: 3.1 | E7: 3.2 | F7: 4.1 | G7: 4.2 | H7: 5.1 | I7: 5.2 | J7: 6.1 | K7: 6.2 | L7: 7.1 | M7: 7.2 | N7: 8
B8: de Ştiinţe şi Arte din Cluj-Napoca | C8: Studii Europene | D8: 1 | E8: 51 | F8: 4 | G8: 48 | H8: 4 | I8: 39.25 | J8: 0 | K8: 0 | N8: =(D8*E8+F8*G8+H8*I8+J8*K8+L8+M8)/SUM(D8,F8,H8,J8,L8) -> 44.444444
C9: Şt. Juridice | D9: 2 | E9: 48 | F9: 3 | G9: 55 | H9: 6 | I9: 44.3 | J9: 0 | K9: 0 | N9: =(D9*E9+F9*G9+H9*I9+J9*K9+L9+M9)/SUM(D9,F9,H9,J9,L9) -> 47.890909
C10: Media | D10: 1 | E10: 64 | F10: 5 | G10: 50.6 | H10: 5 | I10: 44.2 | J10: 2 | K10: 41 | N10: =(D10*E10+F10*G10+H10*I10+J10*K10+L10+M10)/SUM(D10,F10,H10,J10,L10) -> 47.692308
C11: Ştiinţa Mediului | D11: 1 | E11: 70 | F11: 1 | G11: 47 | H11: 5 | I11: 47 | J11: 0 | K11: 0 | N11: =(D11*E11+F11*G11+H11*I11+J11*K11+L11+M11)/SUM(D11,F11,H11,J11,L11) -> 50.285714
B12: de Științe Economice, Socio-Umane și Inginereşti din Miercurea Ciuc | C12: Ştiinţa Afacerilor | D12: 1 | E12: 57 | F12: 4 | G12: 53.75 | H12: 10 | I12: 43.4 | J12: 0 | K12: 0 | N12: =(D12*E12+F12*G12+H12*I12+J12*K12)/(D12+F12+H12+J12) -> 47.066667
C13: Ştiinţe Economice | D13: 1 | E13: 57 | F13: 3 | G13: 50.66 | H13: 6 | I13: 50 | J13: 0 | K13: 0 | N13: =(D13*E13+F13*G13+H13*I13+J13*K13)/(D13+F13+H13+J13) -> 50.898
C14: Ştiinţe Sociale | D14: 1 | E14: 47 | F14: 5 | G14: 53.28 | H14: 6 | I14: 46.33 | J14: 0 | K14: 0 | N14: =(D14*E14+F14*G14+H14*I14+J14*K14)/(D14+F14+H14+J14) -> 49.281667
C15: Ştiinţe Umane | D15: 2 | E15: 58 | F15: 4 | G15: 51.5 | H15: 8 | I15: 46.63 | J15: 0 | K15: 0 | N15: =(D15*E15+F15*G15+H15*I15+J15*K15)/(D15+F15+H15+J15) -> 49.645714
C16: Ştiinţe Alimentare | D16: 1 | E16: 52 | F16: 3 | G16: 46.3 | H16: 5 | I16: 50.6 | J16: 1 | K16: 37 | N16: =(D16*E16+F16*G16+H16*I16+J16*K16)/(D16+F16+H16+J16) -> 48.09
C17: Bioinginerie | D17: 3 | E17: 55 | F17: 5 | G17: 45 | H17: 8 | I17: 43 | J17: 0 | K17: 0 | N17: =(D17*E17+F17*G17+H17*I17+J17*K17)/(D17+F17+H17+J17) -> 45.875
B18: de Științe Tehnice și Umaniste Tg. Mureș | C18: Inginerie Mecanică | D18: 1 | E18: 65 | F18: 6 | G18: 55 | H18: 5 | I18: 48 | J18: 0 | K18: 0 | N18: =(D18*E18+F18*G18+H18*I18+J18*K18)/(D18+F18+H18+J18) -> 52.916667
C19: Inginerie Electrică | D19: 3 | E19: 57 | F19: 6 | G19: 53 | H19: 11 | I19: 53 | J19: 0 | K19: 0 | N19: =(D19*E19+F19*G19+H19*I19+J19*K19)/(D19+F19+H19+J19) -> 53.6
C20: Științe Sociale Aplicate | D20: 0 | E20: 0 | F20: 5 | G20: 49.2 | H20: 7 | I20: 44.71 | J20: 0 | K20: 0 | N20: =(D20*E20+F20*G20+H20*I20+J20*K20)/(D20+F20+H20+J20) -> 46.580833
C21: Lingvistică Aplicată | D21: 1 | E21: 51 | F21: 5 | G21: 53 | H21: 5 | I21: 49.4 | J21: 0 | K21: 0 | N21: =(D21*E21+F21*G21+H21*I21+J21*K21)/(D21+F21+H21+J21) -> 51.181818
C22: Horticultură | D22: 3 | E22: 55.67 | F22: 7 | G22: 48.14 | H22: 11 | I22: 45.09 | J22: 0 | K22: 0 | N22: =(D22*E22+F22*G22+H22*I22+J22*K22)/(D22+F22+H22+J22) -> 47.618095
C23: Matematică-Informatică | D23: 3 | E23: 47.6 | F23: 4 | G23: 54.4 | H23: 6 | I23: 46 | J23: 0 | K23: 0 | N23: =(D23*E23+F23*G23+H23*I23+J23*K23)/(D23+F23+H23+J23) -> 48.953846
B24: de Științe ale Vieții și Sport | C24: Științe ale Vieții | D24: 1 | E24: 67 | F24: 3 | G24: 52 | H24: 11 | I24: 45 | J24: 0 | K24: 0 | N24: 47,87
B25: DSPP | C25: DSPP | D25: 1 | E25: 50 | F25: 1 | G25: 58 | H25: 3 | I25: 47.33 | J25: 0 | K25: 0 | N25: =(D25*E25+F25*G25+H25*I25)/SUM(D25,F25,H25) -> 49.998
M32: 1 | N32: 67 | O32: 3 | P32: 52 | Q32: 11 | R32: 45 | S32: 0 | T32: 0

Sheet Munka7
A2: Tabelul 2.5. Situaţia cadrelor didactice pensionate (nr. persoane) care desfăşoară activitate didactică în anul universitar 2025/2026
A3: Facultatea | B3: Departamentul | C3: Nr. cadre didactice pensionate | F3: Modul de suplinire a orelor
C4: Cu titlul de profesor | D4: Cu titlul de conferenţiar | E4: Lector | F4: Plata cu ora | G4: Contract de muncă pe perioadă determinată
A5: de Științe și Arte din Cluj-Napoca | B5: Media | C5: 0 | D5: 0 | E5: 0 | F5: 0 | G5: 0
B6: Ştiinţa Mediului | C6: 1 | D6: 0 | E6: 0 | F6: 0 | G6: 0
B7: Științe juridice | C7: 0 | D7: 0 | E7: 0 | F7: 0 | G7: 0
B8: Studii europene | C8: 0 | D8: 0 | E8: 0 | F8: 0 | G8: 0
B9: Total facultate | C9: =C5+C6+C7+C8 -> 1 | D9: =D5+D6+D7+D8 -> 0 | E9: =E5+E6+E7+E8 -> 0 | F9: =F5+F6+F7+F8 -> 0 | G9: =G5+G6+G7+G8 -> 0
A10: de Științe Econimice, Socio-Umane și Inginerești din Miercurea Ciuc | B10: Ştiinţe Economice | C10: 1 | D10: 0 | E10: 1 | F10: 1 | G10: 1
B11: Ştiinţa Afacerilor | C11: 0 | D11: 0 | E11: 0 | F11: 0 | G11: 0
B12: Ştiinţe Sociale | C12: 4 | D12: 0 | E12: 0 | F12: 0 | G12: 0
B13: Ştiinţe Umane | C13: 0 | D13: 1 | E13: 0 | F13: 1 | G13: 0
B14: Ştiinţe Alimentare | C14: 0 | D14: 0 | E14: 0 | F14: 0 | G14: 0
B15: Bioinginerie | C15: 1 | D15: 0 | E15: 0 | F15: 1 | G15: 0
B16: Total facultate | C16: =C10+C11+C12+C13+C14+C15 -> 6 | D16: =D10+D11+D12+D13+D14+D15 -> 1 | E16: =E10+E11+E12+E13+E14+E15 -> 1 | F16: =F10+F11+F12+F13+F14+F15 -> 3 | G16: =G10+G11+G12+G13+G14+G15 -> 1
A17: de Științe Tehnice și Umaniste Tg. Mureș | B17: Inginerie Mecanică | C17: 2 | D17: 0 | E17: 0 | F17: 1 | G17: 1
B18: Inginerie Electrică | C18: 1 | F18: 1
B19: Științe Sociale Aplicate | C19: 1 | D19: 0 | E19: 1 | F19: 2 | G19: 0
B20: Lingvistică Aplicată | C20: 0 | D20: 0 | E20: 0 | F20: 0 | G20: 0
B21: Horticultură | C21: 1 | D21: 0 | E21: 0 | F21: 0 | G21: 1
B22: Matematică-Informatică | C22: 0 | D22: 1 | E22: 0 | F22: 1 | G22: 0
B23: Total facultate | C23: =C17+C18+C19+C20+C21+C22 -> 5 | D23: =D17+D18+D19+D20+D21+D22 -> 1 | E23: =E17+E18+E19+E20+E21+E22 -> 1 | F23: =F17+F18+F19+F20+F21+F22 -> 5 | G23: =G17+G18+G19+G20+G21+G22 -> 2
A24: de Științe ale Vieții și Sport | B24: Științe ale Vieții | C24: 1 | D24: 0 | E24: 0 | F24: 8 | G24: 0
B25: Total facultate | C25: 1 | D25: 0 | E25: 0 | F25: 5 | G25: 0
A26: DSPP | B26: DSPP | C26: 0 | D26: 1 | E26: 0 | F26: 1 | G26: 0
A27: Total universitate | C27: 13 | D27: 3 | E27: =E9+E16+E23+E26 -> 2 | F27: 14 | G27: 3
B32: prof | C32: conf | D32: lector | E32: plata cu ora | F32: contract de munca
A33: FSA | B33: 1 | C33: 0 | D33: 0 | E33: 0 | F33: 0
A34: FSESUI | B34: 6 | C34: 1 | D34: 1 | E34: 3 | F34: 1
A35: FSTU | B35: 5 | C35: 1 | D35: 1 | E35: 5 | F35: 2
A36: FSVS | B36: 1 | C36: 0 | D36: 0 | E36: 5 | F36: 0
A37: DSPP | B37: 0 | C37: 1 | D37: 0 | E37: 1 | F37: 0
A38: Universitate | B38: 13 | C38: 3 | D38: 2 | E38: 14 | F38: 3

Sheet Munka8
A2: Tabelul 3.1. Situaţia elaborării materialelor didactice care acoperă în întregime/parţial problemetica disciplinei de către cadrele didactice din departamente (situație globală la data de 31 decembrie 2025 numeric)
A3: Facultatea | B3: Departamentul | C3: Materiale apărute în edituri cu ISBN care acoperă integral sau parţial problemetica disciplinelor | Q3: Alte materiale didactice elaborate de cadrele didactice şi aprobate în departament, accesibile în bibliotecă sau pe site/intranet | S3: Total
C4: Carte de specialitate | E4: Manuale universitare | G4: Cursuri universitare | I4: Îndrumare laborator, de proiectare si calcule tehnologice | K4: Culegeri de probleme | M4: Dicţionare, comp. texte. | O4: Culegeri de texte
C5: T | D5: E | E5: T | F5: E | G5: T | H5: E | I5: T | J5: E | K5: T | L5: E | M5: T | N5: E | O5: T | P5: E | Q5: T | R5: E | S5: T | T5: E | U5: T | V5: Tipărit
A6: de Științe și Arte din Cluj-Napoca | B6: Studii Europene | C6: 20 | D6: 2 | E6: 1 | F6: 0 | G6: 5 | H6: 0 | I6: 1 | J6: 0 | K6: 0 | L6: 0 | M6: 0 | N6: 0 | O6: 6 | P6: 11 | Q6: 0 | R6: 28 | S6: =C6+E6+G6+I6+K6+M6+O6+Q6 -> 33 | T6: =D6+F6+H6+J6+L6+N6+P6+R6 -> 41 | U6: E | V6: Format digital
B7: Ştiinţe Juridice | C7: 95 | D7: 0 | E7: 31 | F7: 0 | G7: 26 | H7: 0 | I7: 0 | J7: 0 | K7: 0 | L7: 0 | M7: 0 | N7: 0 | O7: 1 | P7: 1 | Q7: 0 | R7: 0 | S7: =C7+E7+G7+I7+K7+M7+O7+Q7 -> 153 | T7: =D7+F7+H7+J7+L7+N7+P7+R7 -> 1
B8: Media | C8: 64 | D8: 0 | E8: 0 | F8: 0 | G8: 8 | H8: 0 | I8: 0 | J8: 0 | K8: 0 | L8: 0 | M8: 1 | N8: 0 | O8: 9 | P8: 0 | Q8: 59 | R8: 23 | S8: =C8+E8+G8+I8+K8+M8+O8+Q8 -> 141 | T8: =D8+F8+H8+J8+L8+N8+P8+R8 -> 23
B9: Ştiinţa Mediului | C9: 22 | D9: 0 | E9: 3 | F9: 2 | G9: 0 | H9: 30 | I9: 6 | J9: 0 | K9: 0 | L9: 0 | M9: 1 | N9: 0 | O9: 6 | P9: 0 | Q9: 3 | R9: 2 | S9: =C9+E9+G9+I9+K9+M9+O9+Q9 -> 41 | T9: =D9+F9+H9+J9+L9+N9+P9+R9 -> 34
B10: Total facultate | C10: =SUM(C6:C9) -> 201 | D10: =SUM(D6:D9) -> 2 | E10: =SUM(E6:E9) -> 35 | F10: =SUM(F6:F9) -> 2 | G10: =SUM(G6:G9) -> 39 | H10: =SUM(H6:H9) -> 30 | I10: =SUM(I6:I9) -> 7 | J10: =SUM(J6:J9) -> 0 | ... T10: =SUM(T6:T9) -> 99
A11: de Științe Economice, Socio-Umane și Inginerești din Miercurea Ciuc | B11: Ştiinţe Economice | C11: 19 | D11: 0 | E11: 8 | F11: 1 | G11: 2 | H11: 2 | I11: 0 | J11: 8 | K11: 4 | L11: 2 | M11: 0 | N11: 0 | O11: 0 | P11: 1 | Q11: 8 | R11: 6 | S11: =C11+E11+G11+I11+K11+M11+O11+Q11 -> 41 | T11: =D11+F11+H11+J11+L11+N11+P11+R11 -> 20
B12: Ştiinţa Afacerilor | C12: 20 | D12: 1 | E12: 4 | F12: 0 | G12: 1 | H12: 1 | I12: 7 | J12: 0 | K12: 1 | L12: 0 | M12: 0 | N12: 0 | O12: 0 | P12: 0 | Q12: 3 | R12: 9 | S12: =C12+E12+G12+I12+K12+M12+O12+Q12 -> 36 | T12: =D12+F12+H12+J12+L12+N12+P12+R12 -> 11
B13: Ştiinţe Sociale | C13: 23 | D13: 2 | E13: 12 | F13: 4 | G13: 0 | H13: 20 | I13: 0 | J13: 6 | K13: 0 | L13: 0 | M13: 0 | N13: 0 | O13: 1 | P13: 14 | Q13: 3 | R13: 14 | S13: =C13+E13+G13+I13+K13+M13+O13+Q13 -> 39 | T13: =D13+F13+H13+J13+L13+N13+P13+R13 -> 60
B14: Științe Umane | C14: 24 | D14: 1 | E14: 0 | F14: 0 | G14: 3 | H14: 0 | I14: 0 | J14: 0 | K14: 1 | L14: 2 | M14: 1 | N14: 0 | O14: 1 | P14: 0 | Q14: 18 | R14: 25 | S14: =C14+E14+G14+I14+K14+M14+O14+Q14 -> 48 | T14: =D14+F14+H14+J14+L14+N14+P14+R14 -> 28
B15: Ştiinţe Alimentare | C15: 18 | D15: 0 | E15: 4 | F15: 1 | G15: 5 | H15: 1 | I15: 5 | J15: 2 | K15: 0 | L15: 0 | M15: 3 | N15: 0 | O15: 0 | P15: 0 | Q15: 0 | R15: 5 | S15: =C15+E15+G15+I15+K15+M15+O15+Q15 -> 35 | T15: =D15+F15+H15+J15+L15+N15+P15+R15 -> 9
B16: Bioinginerie | C16: 1 | D16: 0 | E16: 4 | F16: 0 | G16: 4 | H16: 1 | I16: 1 | J16: 2 | K16: 0 | L16: 0 | M16: 0 | N16: 0 | O16: 0 | P16: 0 | Q16: 0 | R16: 28 | S16: =C16+E16+G16+I16+K16+M16+O16+Q16 -> 10 | T16: =D16+F16+H16+J16+L16+N16+P16+R16 -> 31
B17: Total facultate | C17: =C11+C12+C13+C14+C15+C16 -> 105 | D17: =D11+D12+D13+D14+D15+D16 -> 4 | E17: =E11+E12+E13+E14+E15+E16 -> 32 | F17: =F11+F12+F13+F14+F15+F16 -> 6 | G17: =G11+G12+G13+G14+G15+G16 -> 15 | H17: =H11+H12+H13+H14+H15+H16 -> 25 | I17: =I11+I12+I13+I14+I15+I16 -> 13 | J17: =J11+J12+J13+J14+J15+J16 -> 18 | ... T17: =T11+T12+T13+T14+T15+T16 -> 159
A18: de Științe Tehnice și Umaniste Tg. Mureș | B18: Inginerie Mecanică | C18: 0 | D18: 0 | E18: 1 | F18: 0 | G18: 0 | H18: 1 | I18: 0 | J18: 0 | K18: 0 | L18: 0 | M18: 0 | N18: 0 | O18: 0 | P18: 0 | Q18: 0 | R18: 0 | S18: 1 | T18: 1
B19: Inginerie Electrică | C19: 0 | D19: 0 | E19: 0 | F19: 0 | G19: 1 | H19: 0 | I19: 0 | J19: 0 | K19: 0 | L19: 0 | M19: 0 | N19: 0 | O19: 0 | P19: 0 | Q19: 0 | R19: 0 | S19: 0 | T19: 0
B20: Științe Sociale Aplicate | C20: 1 | D20: 0 | E20: 2 | F20: 0 | G20: 0 | H20: 0 | I20: 0 | J20: 0 | K20: 0 | L20: 0 | M20: 0 | N20: 0 | O20: 0 | P20: 0 | Q20: 1 | R20: 0 | S20: 4 | T20: 0
B21: Lingvistică Aplicată | C21: 1 | D21: 0 | E21: 1 | F21: 0 | G21: 0 | H21: 2 | I21: 0 | J21: 1 | K21: 0 | L21: 0 | M21: 0 | N21: 0 | O21: 0 | P21: 9 | Q21: 0 | R21: 28 | S21: 2 | T21: 40
B22: Horticultură | C22: 0 | D22: 0 | E22: 0 | F22: 0 | G22: 0 | H22: 0 | I22: 0 | J22: 0 | K22: 0 | L22: 0 | M22: 0 | N22: 0 | O22: 0 | P22: 0 | Q22: 0 | R22: 0 | S22: 0 | T22: 0
B23: Matematică-Informatică | C23: 0 | D23: 0 | E23: 1 | F23: 5 | G23: 0 | H23: 0 | I23: 0 | J23: 0 | K23: 0 | L23: 0 | M23: 0 | N23: 0 | O23: 0 | P23: 0 | Q23: 0 | R23: 0 | S23: 0 | T23: 0
B24: Total facultate | C24: =SUM(C18:C23) -> 2 | D24: =SUM(D18:D23) -> 0 | E24: =SUM(E18:E23) -> 5 | F24: =SUM(F18:F23) -> 5 | G24: =SUM(G18:G23) -> 1 | H24: =SUM(H18:H23) -> 3 | I24: =SUM(I18:I23) -> 0 | J24: =SUM(J18:J23) -> 1 | ... R24: =SUM(R18:R23) -> 28 | S24: =C24+E24+G24+I24+K24+M24+O24+Q24 -> 9 | T24: =D24+F24+H24+J24+L24+N24+P24+R24 -> 46
B25: Agricultură | C25: 2 | D25: 1 | E25: 1 | F25: 0 | G25: 1 | H25: 4 | I25: 0 | J25: 4 | K25: 0 | L25: 0 | M25: 0 | N25: 0 | O25: 0 | P25: 0 | Q25: 1 | R25: 21 | S25: =C25+E25+G25+I25+K25+M25+O25+Q25 -> 5 | T25: =D25+F25+H25+J25+L25+N25+P25+R25 -> 30
B26: Silvicultură | C26: 2 | D26: 1 | E26: 4 | F26: 3 | G26: 0 | H26: 7 | I26: 0 | J26: 1 | K26: 0 | L26: 0 | M26: 0 | N26: 0 | O26: 0 | P26: 1 | Q26: 3 | R26: 18 | S26: =C26+E26+G26+I26+K26+M26+O26+Q26 -> 9 | T26: =D26+F26+H26+J26+L26+N26+P26+R26 -> 31
A27: de Științe ale Vieții și Sport | B27: Sport și performanță motrică | C27: 0 | D27: 0 | E27: 0 | F27: 0 | G27: 0 | H27: 0 | I27: 0 | J27: 0 | K27: 0 | L27: 0 | M27: 0 | N27: 0 | O27: 0 | P27: 0 | Q27: 0 | R27: 0 | S27: 0 | T27: =D27+F27+H27+J27+L27+N27+P27+R27 -> 0
B28: Total facultate | C28: =SUM(C25:C27) -> 4 | D28: =SUM(D25:D27) -> 2 | E28: =SUM(E25:E27) -> 5 | F28: =SUM(F25:F27) -> 3 | G28: =SUM(G25:G27) -> 1 | H28: =SUM(H25:H27) -> 11 | I28: =SUM(I25:I27) -> 0 | J28: =SUM(J25:J27) -> 5 | ... T28: =SUM(T25:T27) -> 61
A29: DSPP | B29: DSPP | C29: 9 | D29: 0 | E29: 0 | F29: 0 | G29: 3 | H29: 5 | I29: 0 | J29: 0 | K29: 0 | L29: 0 | M29: 1 | N29: 0 | O29: 0 | P29: 0 | Q29: 0 | R29: 30 | S29: 13 | T29: 35
A30: Total Universitate | C30: 321 | D30: 8 | E30: 77 | F30: 16 | G30: 59 | H30: 74 | I30: =I10+I17+I24+I29 -> 20 | J30: 24 | K30: =K10+K17+K24+K29 -> 6 | L30: =L10+L17+L24+L29 -> 4 | M30: =M10+M17+M24+M29 -> 7 | N30: =N10+N17+N24+N29 -> 0 | O30: =O10+O17+O24+O29 -> 24 | P30: 37 | Q30: 99 | R30: 237 | S30: 613 | T30: 400
X32: total T | Y32: total E
X33: 613 | Y33: 400
C34: carti T | D34: carti E | E34: manuale T | F34: manuale E | G34: cursuri T | H34: cursuri E | I34: indrumar T | J34: indrumar E | K34: culegeri T | L34: culegeri E | M34: dict T | N34: dict E | O34: culeg T | P34: culeg E | Q34: alte T | R34: alte E | S34: total T | T34: total E
B35: FSA | C35: 201 | D35: 2 | E35: 35 | F35: 2 | G35: 39 | H35: 30 | I35: 7 | J35: 0 | K35: 0 | L35: 0 | M35: 2 | N35: 0 | O35: 22 | P35: 12 | Q35: 62 | R35: 53 | S35: 368 | T35: 99
B36: FSE S-U I | C36: 105 | D36: 4 | E36: 32 | F36: 6 | G36: 15 | H36: 25 | I36: 13 | J36: 18 | K36: 6 | L36: 4 | M36: 4 | N36: 0 | O36: 2 | P36: 15 | Q36: 32 | R36: 87 | S36: 209 | T36: 159
B37: FSTU | C37: 2 | D37: 0 | E37: 5 | F37: 5 | G37: 1 | H37: 3 | I37: 0 | J37: 1 | K37: 0 | L37: 0 | M37: 0 | N37: 0 | O37: 0 | P37: 0 | Q37: 1 | R37: 28 | S37: 9 | T37: 46
B38: FSVS | C38: 4 | D38: 2 | E38: 5 | F38: 3 | G38: 1 | H38: 11 | I38: 0 | J38: 5 | K38: 0 | L38: 0 | M38: 0 | N38: 0 | O38: 0 | P38: 9 | Q38: 4 | R38: 39 | S38: 14 | T38: 61
B39: DSPP | C39: 9 | D39: 0 | E39: 0 | F39: 0 | G39: 3 | H39: 5 | I39: 0 | J39: 0 | K39: 0 | L39: 0 | M39: 1 | N39: 0 | O39: 0 | P39: 1 | Q39: 0 | R39: 30 | S39: 13 | T39: 35
B40: Univ | C40: =SUM(C35:C39) -> 321 | D40: =SUM(D35:D39) -> 8 | E40: =SUM(E35:E39) -> 77 | F40: =SUM(F35:F39) -> 16 | G40: =SUM(G35:G39) -> 59 | H40: =SUM(H35:H39) -> 74 | I40: =SUM(I35:I39) -> 20 | J40: =SUM(J35:J39) -> 24 | ... S40: =SUM(S35:S39) -> 613 | T40: 400

Sheet Munka9
A3: Tabel 3.2a. Evaluarea atmosferei de lucru din departamente la nivelul anului universitar 2025/2026, în baza evaluării colegiale
A4: Facultatea | B4: Departament | C4: %
C5: Activ | D5: Cooperant | E5: Altruist | F5: Facilitează relaţiile | G5: Creativ | H5: Obiectiv | I5: Consecvent | J5: Punct de vedere hotărât | K5: Media
A6: Știinte și Arte din Cluj-Napoca | B6: Studii Europene | C6: 0.95 | D6: 0.93 | E6: 0.97 | F6: 0.96 | G6: 0.93 | H6: 1 | I6: 0.96 | J6: 0.97 | K6: =(C6+D6+E6+F6+G6+H6+I6+J6)/8 -> 0.95875
B7: Ştiinţe Juridice | C7: 0.889 | D7: 0.9246 | E7: 0.8244 | F7: 0.8736 | G7: 0.853 | H7: 0.9868 | I7: 0.989 | J7: 0.9756 | K7: =(C7+D7+E7+F7+G7+H7+I7+J7)/8 -> 0.9145
B8: Media | C8: 0.988 | D8: 0.988 | E8: 0.984 | F8: 0.987 | G8: 0.995 | H8: 0.991 | I8: 0.988 | J8: 0.996 | K8: =(C8+D8+E8+F8+G8+H8+I8+J8)/8 -> 0.989625
B9: Ştiinţa Mediului | C9: 0.8857 | D9: 0.971 | E9: 1 | F9: 0.942 | G9: 0.914 | H9: 0.942 | I9: 0.971 | J9: 0.971 | K9: =(C9+D9+E9+F9+G9+H9+I9+J9)/8 -> 0.9495875
A10: de Științe Economice, Socio-Umane și Inginerești din Miercurea Ciuc | B10: Ştiinţe Economice | C10: 0.8645 | D10: 0.8347 | E10: 0.886 | F10: 0.8331 | G10: 0.8165 | H10: 0.8264 | I10: 0.9025 | J10: 0.843 | K10: =AVERAGE(C10:J10) -> 0.8508375
B11: Ştiinţe Afacerilor | C11: 0.9016 | D11: 0.8996 | E11: 0.9114 | F11: 0.8767 | G11: 0.8816 | H11: 0.9217 | I11: 0.9522 | J11: 0.9231 | K11: =AVERAGE(C11:J11) -> 0.9084875
B12: Ştiinţe Sociale | C12: 0.956 | D12: 0.953 | E12: 0.9408 | F12: 0.9152 | G12: 0.9288 | H12: 0.9348 | I12: 0.9485 | J12: 0.9592 | K12: =AVERAGE(C12:J12) -> 0.9420375
B13: Ştiinţe Umane | C13: 0.9582 | D13: 0.9591 | E13: 0.9511 | F13: 0.9342 | G13: 0.9324 | H13: 0.9484 | I13: 0.9778 | J13: 0.9422 | K13: =AVERAGE(C13:J13) -> 0.950425
B14: Ştiinţe Alimentare | C14: 0.94 | D14: 0.93 | E14: 0.96 | F14: 0.85 | G14: 0.94 | H14: 0.96 | I14: 0.98 | J14: 0.94 | K14: =AVERAGE(C14:J14) -> 0.9375
B15: Bioinginerie | C15: 0.9515 | D15: 0.9562 | E15: 0.9621 | F15: 0.9527 | G15: 0.9467 | H15: 0.979 | I15: 0.9846 | J15: 0.9964 | K15: =AVERAGE(C15:J15) -> 0.96615
A16: de Științe Tehnice și Umaniste Tg. Mureș | B16: Inginerie Mecanică | C16: 0.94 | D16: 0.97 | E16: 0.96 | F16: 0.95 | G16: 0.95 | H16: 0.96 | I16: 0.96 | J16: 0.98 | K16: 0.9575
B17: Inginerie Electrică | C17: 0.82 | D17: 0.85 | E17: 0.87 | F17: 0.85 | G17: 0.82 | H17: 0.87 | I17: 0.89 | J17: 0.91 | K17: 0.86
B18: Științe Sociale Aplicate | C18: 0.93 | D18: 0.93 | E18: 0.89 | F18: 0.92 | G18: 0.94 | H18: 0.91 | I18: 0.92 | J18: 0.94 | K18: 0.9225
B19: Lingvistică Aplicată | C19: 0.92 | D19: 0.91 | E19: 0.89 | F19: 0.9 | G19: 0.9 | H19: 0.85 | I19: 0.93 | J19: 0.95 | K19: 0.90625
B20: Horticultură | C20: 0.87 | D20: 0.9 | E20: 0.89 | F20: 0.89 | G20: 0.91 | H20: 0.9 | I20: 0.92 | J20: 0.93 | K20: 0.90125
B21: Matematică-Informatică | C21: 0.99 | D21: 0.99 | E21: 0.99 | F21: 0.99 | G21: 0.99 | H21: 0.99 | I21: 0.99 | J21: 0.98 | K21: 0.99
A22: de Științe ale Vieții și Sport | B22: Științe ale Vieții | C22: 0.886 | D22: 0.9349 | E22: 0.9225 | F22: 0.9372 | G22: 0.9012 | H22: 0.9392 | I22: 0.9419 | J22: 0.9465 | K22: =AVERAGE(C22:J22) -> 0.926175
A23: DSPP | B23: DSPP | C23: 1 | D23: 1 | E23: 1 | F23: 1 | G23: 1 | H23: 1 | I23: 1 | J23: 1 | K23: 1
B25: Peste 86% | C25: 60-85% | D25: 50-59% | E25: 24-49% | F25: sub 25%
B26: X | C26: X
B27: Foarte stimulativ | C27: Stimulativ | D27: Nestimulativ | E27: Impedimenteaza | F27: Risc major

Sheet Munka10
B3: Tabelul 3.3. Rezultatele evaluării de către management a cadrelor didactice din departamente pentru anul 2025 se calculează ca valoarea medie aritmetică a calificativelor obţinute de toate cadrele didactice de acelaşi grad universitar din cadrul departamentului
B4: Facultatea | C4: Departamentul | D4: Min/Max | L4: Valoarea medie aritmetică
D5: Prof. | F5: Conf. | H5: Lector | J5: Asistent | L5: Prof. | M5: Conf. | N5: Lector | O5: Asistent | P5: Prep.
D6: Min | E6: Max | F6: Min | G6: Max | H6: Min | I6: Max | J6: Min | K6: Max
B7: de Științe și Arte din Cluj -Napoca | C7: Studii Europene | D7: 230.923 | E7: 230.923 | F7: 84.825 | G7: 204.725 | H7: 61.371 | I7: 126.996 | J7: - | K7: - | L7: 230.923 | M7: 129.187 | N7: 88.371 | O7: - | P7: -
C8: Ştiinţe Juridice | D8: 166.5 | E8: 574.173 | F8: 69.2 | G8: 203.15 | H8: 54.6 | I8: 205.1 | J8: - | K8: - | L8: 370.336 | M8: 145.066 | N8: 114.508 | O8: - | P8: -
C9: Media | D9: 315.66 | E9: 315.66 | F9: 89.4 | G9: 181.248 | H9: 68.1 | I9: 205.484 | J9: 60.4 | K9: 60.4 | L9: 315.66 | M9: 149.451 | N9: 115.116 | O9: 60.4 | P9: -
C10: Ştiinţa Mediului | D10: 118.3 | E10: 118.3 | F10: 304.923 | G10: 304.923 | H10: 40.86 | I10: 236.692 | L10: 118.3 | M10: 304.923 | N10: 148.7148 | O10: - | P10: -
B11: de Științe Economice, Socio-Umane și Inginerești din Miercurea Ciuc | C11: Ştiinţe Economice | D11: 132 | E11: 132 | F11: 96.89 | G11: 132.26 | H11: 70.6 | I11: 146.28 | J11: 0 | K11: 0 | L11: =AVERAGE(D11:E11) -> 132 | M11: =AVERAGE(F11:G11) -> 114.575 | N11: =AVERAGE(H11:I11) -> 108.44 | O11: =AVERAGE(J11:K11) -> 0
C12: Ştiinţe Afacerilor | D12: 194.37 | E12: 194.37 | F12: 94.9 | G12: 158.96 | H12: 73.77 | I12: 123.63 | J12: 0 | K12: 0 | L12: =AVERAGE(D12:E12) -> 194.37 | M12: =AVERAGE(F12:G12) -> 126.93 | N12: =AVERAGE(H12:I12) -> 98.7 | O12: =AVERAGE(J12:K12) -> 0
C13: Ştiinţe Sociale | D13: 178.28 | E13: 178.28 | F13: 68.3 | G13: 194.75 | H13: 65.8 | I13: 116.5 | J13: 0 | K13: 0 | L13: =AVERAGE(D13:E13) -> 178.28 | M13: =AVERAGE(F13:G13) -> 131.525 | N13: =AVERAGE(H13:I13) -> 91.15 | O13: =AVERAGE(J13:K13) -> 0
C14: Ştiinţe Umane | D14: 197.68 | E14: 221.67 | F14: 103.9 | G14: 156.38 | H14: 49.5 | I14: 212.27 | J14: 0 | K14: 0 | L14: =AVERAGE(D14:E14) -> 209.675 | M14: =AVERAGE(F14:G14) -> 130.14 | N14: =AVERAGE(G14:H14) -> 102.94 | O14: =AVERAGE(J14:K14) -> 0
C15: Ştiinţe Alimentare | D15: 166.18 | E15: 166.18 | F15: 153.8 | G15: 220.8 | H15: 82.06 | I15: 132.707 | J15: 54.82 | K15: 54.82 | L15: =AVERAGE(D15:E15) -> 166.18 | M15: =AVERAGE(F15:G15) -> 187.3 | N15: =AVERAGE(G15:H15) -> 151.43 | O15: =AVERAGE(J15:K15) -> 54.82
C16: Bioinginerie | D16: 53.87 | E16: 114.28 | F16: 71.74 | G16: 162.25 | H16: 47.22 | I16: 141.5 | J16: 0 | K16: 0 | L16: =AVERAGE(D16:E16) -> 84.075 | M16: =AVERAGE(F16:G16) -> 116.995 | N16: =AVERAGE(H16:I16) -> 94.36 | O16: =AVERAGE(J16:K16) -> 0
B17: de Științe Tehnice și Umaniste din Tg. Mureş | C17: Inginerie Mecanică | D17: 308 | E17: 308 | F17: 148 | G17: 255 | H17: 162 | I17: 318 | J17: 115 | K17: 125 | L17: 308 | M17: 210 | N17: 224 | O17: 120 | P17: -
C18: Inginerie Electrică | D18: 359 | E18: 218 | F18: 27 | G18: 228 | H18: 112 | I18: 206 | J18: 203 | K18: 203 | L18: 277 | M18: 140 | N18: 152 | O18: 203 | P18: -
C19: Științe Sociale Aplicate | D19: - | E19: - | F19: 218 | G19: 267 | H19: 110 | I19: 257 | J19: - | K19: - | L19: - | M19: 247 | N19: 196 | O19: - | P19: -
C20: Lingvistică Aplicată | D20: 287 | E20: 287 | F20: 106 | G20: 340 | H20: 142 | I20: 288 | J20: 447 | K20: 470 | L20: 287 | M20: 246 | N20: 214 | O20: 308 | P20: -
C21: Horticultură | D21: 208 | E21: 301 | F21: 116 | G21: 323 | H21: 150 | I21: 489 | J21: 231 | K21: 233 | L21: 260 | M21: 249 | N21: 228 | O21: 232 | P21: -
C22: Matematică-Informatică | D22: 233 | E22: 233 | F22: 130 | G22: 253 | H22: 206 | I22: 212 | J22: 177 | K22: 199 | L22: 233 | M22: 210 | N22: 209 | O22: 188 | P22: -
B23: de Științe ale Vieții și Sport | C23: Științe ale Vieții | D23: 300 | E23: 300 | F23: 250 | G23: 450 | H23: 330 | I23: 450 | J23: - | K23: - | L23: 300 | M23: 283.3 | N23: 420.91 | O23: - | P23: -
B24: DSPP | C24: DSPP | G24: 197 | H24: 122 | I24: 154 | N24: 138.6

Sheet Munka11
A2: Tabelul 3.4. Rezultatele evaluării de către studenți a cadrelor didactice din departamente pe anul 2025 se calculează ca valoarea medie aritmetică a calificativelor obţinute de toate cadrele didactice de acelaşi grad universitar din cadrul departamentului
A3: Facultatea | B3: Departamentul | C3: Min/Max | M3: Valoarea medie aritmetică
C4: Prof. | E4: Conf. | G4: Lector | I4: Asistent | K4: Prep. | M4: Prof. | N4: Conf. | O4: Lector | P4: Asistent | Q4: Prep.
C5: Min | D5: Max | E5: Min | F5: Max | G5: Min | H5: Max | I5: Min | J5: Max | K5: Min | L5: Max
A6: de Științe și Arte din Cluj -Napoca | B6: Studii Europene | C6: 4.78 | D6: 4.78 | E6: 4.07 | F6: 4.94 | G6: 3.8 | H6: 5 | I6: - | J6: - | K6: - | L6: - | M6: 4.78 | N6: 4.66 | O6: 4.62 | P6: - | Q6: -
B7: Ştiinţe Juridice | C7: 3.76 | D7: 4.8 | E7: 3.97 | F7: 4.58 | G7: 4.59 | H7: 4.94 | I7: - | J7: - | K7: - | L7: - | M7: 4.28 | N7: 4.33 | O7: 4.73 | P7: - | Q7: -
B8: Media | C8: 4.33 | D8: 4.33 | E8: 3.7 | F8: 4.67 | G8: 4.33 | H8: 4.86 | I8: 4.47 | J8: 4.5 | K8: - | L8: - | M8: 4.33 | N8: 4.42 | O8: 4.6 | P8: 4.49 | Q8: -
B9: Ştiinţa Mediului | C9: 4.61 | D9: 4.61 | E9: 3.83 | F9: 3.83 | G9: 3.54 | H9: 4.83 | I9: - | J9: - | K9: - | L9: - | M9: 4.61 | N9: 3.83 | O9: 4.42 | P9: - | Q9: -
A10: de Științe Economice, Socio-Umane și Inginerești din Miercurea Ciuc | B10: Ştiinţe Economice | C10: 4.83 | D10: 4.83 | E10: 4.67 | F10: 4.9 | G10: 3.97 | H10: 4.89 | I10: 0 | J10: 0 | M10: =AVERAGE(E10:F10) -> 4.785 | N10: =AVERAGE(G10:H10) -> 4.43 | O10: 4.43 | P10: 0
B11: Ştiinţe Afacerilor | C11: 4.22 | D11: 4.22 | E11: 3.63 | F11: 4.41 | G11: 4.42 | H11: 4.91 | I11: 0 | J11: 0 | M11: =AVERAGE(E11:F11) -> 4.02 | N11: =AVERAGE(G11:H11) -> 4.665 | O11: 4.58 | P11: 0
B12: Ştiinţe Sociale | C12: 4.88 | D12: 4.88 | E12: 4.45 | F12: 4.82 | G12: 4.46 | H12: 4.93 | I12: 0 | J12: 0 | M12: =AVERAGE(E12:F12) -> 4.635 | N12: =AVERAGE(G12:H12) -> 4.695 | O12: 4.7 | P12: 0
B13: Ştiinţe Umane | C13: 4.5 | D13: 4.71 | E13: 4.5 | F13: 4.82 | G13: 4.48 | H13: 4.87 | I13: 0 | J13: 0 | M13: =AVERAGE(E13:F13) -> 4.66 | N13: =AVERAGE(G13:H13) -> 4.675 | O13: 4.68 | P13: 0
B14: Ştiinţe Alimentare | C14: 4.85 | D14: 4.85 | E14: 4.82 | F14: 4.96 | G14: 4 | H14: 4.88 | I14: 4.1 | J14: 4.1 | M14: 4.85 | N14: 4.89 | O14: 4.44 | P14: 4.1
B15: Bioinginerie | C15: 4.68 | D15: 4.88 | E15: 4.4 | F15: 4.77 | G15: 4.11 | H15: 4.88 | I15: 0 | J15: 0 | M15: =AVERAGE(E15:F15) -> 4.585 | N15: =AVERAGE(G15:H15) -> 4.495 | O15: 4.5 | P15: 0
A16: de Științe Tehnice și Umaniste Tg. Mureș | B16: Inginerie Mecanică | C16: 4.63 | D16: 4.67 | E16: 4.13 | F16: 4.78 | G16: 4.33 | H16: 4.91 | I16: 4.17 | J16: 4.54 | K16: - | L16: - | M16: 4.67 | N16: 4.54 | O16: 4.63 | P16: 4.35 | Q16: -
B17: Inginerie Electrică | C17: 4.49 | D17: 4.73 | E17: 3.9 | F17: 4.73 | G17: 4.14 | H17: 4.88 | I17: 4.28 | J17: 4.43 | K17: - | L17: - | M17: 4.58 | N17: 4.27 | O17: 4.57 | P17: 4.35 | Q17: -
B18: Științe Sociale Aplicate | C18: 5 | D18: 5 | E18: 3.36 | F18: 4.72 | G18: 4.19 | H18: 4.96 | I18: 4.15 | J18: 4.62 | K18: - | L18: - | M18: 5 | N18: 4.36 | O18: 4.61 | P18: 4.39 | Q18: -
B19: Lingvistică Aplicată | C19: 4.31 | D19: 4.84 | E19: 4.5 | F19: 4.84 | G19: 4.28 | H19: 4.94 | I19: 4.1 | J19: 4.88 | K19: - | L19: - | M19: 4.56 | N19: 4.61 | O19: 4.54 | P19: 4.6 | Q19: -
B20: Horticultură | C20: 4.33 | D20: 4.8 | E20: 4.05 | F20: 4.88 | G20: 3.56 | H20: 4.79 | I20: 3.12 | J20: 5 | K20: - | L20: - | M20: 4.59 | N20: 4.53 | O20: 4.49 | P20: 4.37 | Q20: -
B21: Matematică-Informatică | C21: 4.02 | D21: 4.51 | E21: 3.56 | F21: 4.83 | G21: 4.04 | H21: 4.82 | I21: 4.07 | J21: 4.92 | K21: - | L21: - | M21: 4.28 | N21: 4.33 | O21: 4.46 | P21: 4.37 | Q21: -
A22: de Științe ale Vieții și Sport | B22: Științe ale Vieții | C22: 4.82 | D22: 4.82 | E22: 4.92 | F22: 5 | G22: 3.97 | H22: 4.95 | I22: 0 | J22: 0 | K22: 0 | L22: 0 | M22: 4.89 | N22: =(E22+F22)/2 -> 4.96 | O22: 4.79 | P22: 0 | Q22: 0
A23: DSPP | B23: DSPP | F23: 4.39 | G23: 4.53 | H23: 4.72 | N23: 4.39 | O23: 4.63
A24: Media UNIVERSITATE | M24: 4.65 | N24: 4.59 | O24: 4.62 | P24: 4.33
C26: Prof. | D26: Conf. | E26: Lector | F26: Asistent
B27: FSA | C27: 4.5 | D27: 4.51 | E27: 4.6 | F27: 4.49
B28: FSESUI | C28: 4.59 | D28: 4.65 | E28: 4.56 | F28: 4.1
B29: FSTU | C29: 4.61 | D29: 4.44 | E29: 4.55 | F29: 4.41
B30: FSVS | C30: 4.89 | D30: 4.96 | E30: 4.79 | F30: 0
B31: DSPP | C31: 0 | D31: 4.4 | E31: 4.6 | F31: 0
B32: Univ | C32: 4.65 | D32: 4.59 | E32: 4.62 | F32: 4.33

Sheet Munka16
C2: Tabel 5.1. Sinteza ocupării locurilor la specializările facultăților din cadrul US la examenul de admitere din anul universitar 2025/2026
C3: Facultatea | D3: Programul de studiu | E3: Număr total de locuri | F3: Nr. de locuri bugetate | G3: Nr. de studenţi înscrişi în anul I | K3: Media generalăla admitere | L3: Media generală a anilor precedenţi
G4: Nr. de studeţi bugetaţi | H4: Nr de studenţi cu contribuţii la cheltuieli de studii | I4: Nr. total de studenţi înscrişi | J4: Raportul nr. studenţilor înscrişi pe locuri fără taxă la nr. de locuri bugetate [%] | L4: 2024 | M4: 2023 | N4: 2022
C5: de Ştiinţe şi Arte Cluj-Napoca | D5: Relaţii internaţionale şi studii europene | E5: 30 | F5: 23 | G5: 12 | H5: 0 | I5: 12 | J5: =G5/F5 -> 0.52173913 | K5: 7.57 | L5: 7.91 | M5: 7.74 | N5: 7.92
D6: Drept | E6: 40 | F6: 20 | G6: 20 | H6: 10 | I6: 30 | J6: =G6/F6 -> 1 | K6: 8.22 | L6: 8.32 | M6: 8.34 | N6: 8.19
D7: Cinematografie, fotografie, media | L7: 8.53 | M7: 7,8 | N7: 8.36
D8: Cinematografie, fotografie, media - CAV | E8: 7 | F8: 4 | G8: 4 | H8: 2 | I8: 6 | J8: =G8/F8 -> 1 | K8: 8.6
D9: Cinematografie, fotografie, media - IMG | E9: 9 | F9: 4 | G9: 4 | H9: 2 | I9: 6 | J9: =G9/F9 -> 1 | K9: 8.46
D10: Cinematografie, fotografie, media - REG | E10: 9 | F10: 4 | G10: 4 | H10: 4 | I10: 8 | J10: =G10/F10 -> 1 | K10: 8.09
D11: Artele spectacolului (coreografie) | E11: 15 | F11: 10 | G11: 9 | H11: 4 | I11: 13 | J11: =G11/F11 -> 0.9 | K11: 8 | L11: 8.7 | M11: 8.69 | N11: 8.21
D12: Ştiinţa mediului | E12: 25 | F12: 13 | G12: 4 | H12: 0 | I12: 4 | J12: =G12/F12 -> 0.30769231 | K12: 8.05 | L12: 7.54 | M12: 7.41 | N12: 7.93
D13: Total licenţă | E13: =SUM(E5:E12) -> 135 | F13: =SUM(F5:F12) -> 78 | G13: =SUM(G5:G12) -> 57 | H13: =SUM(H5:H12) -> 22 | I13: =SUM(I5:I12) -> 79
D14: Diplomație și studii interculturale | E14: 15 | F14: 8 | G14: 8 | H14: 5 | I14: 13 | J14: =G14/F14 -> 1 | K14: 8.91 | L14: 9.12 | M14: 8.56 | N14: 8.46
D15: Carieră judiciară | E15: 20 | F15: 10 | G15: 10 | H15: 2 | I15: 12 | J15: =G15/F15 -> 1 | K15: 9.21 | L15: 9.11 | M15: 9.18 | N15: 9.12
D16: Studii de film | E16: 15 | F16: 10 | G16: 8 | H16: 0 | I16: 8 | J16: =G16/F16 -> 0.8 | K16: 9.79 | L16: 8.21 | M16: 9.74 | N16: 8.97
D17: Protecția și monitorizarea mediului | E17: 10 | F17: 7 | G17: 5 | H17: 0 | I17: 5 | J17: =G17/F17 -> 0.71428571 | K17: 9.04 | L17: 9.32 | M17: 9.14 | N17: 9.52
D18: Total master | E18: =SUM(E14:E17) -> 60 | F18: =SUM(F14:F17) -> 35 | G18: =SUM(G14:G17) -> 31 | H18: =SUM(H14:H17) -> 7 | I18: =SUM(I14:I17) -> 38
D19: Total Facultate | E19: =SUM(E13,E18) -> 195 | F19: =SUM(F13,F18) -> 113 | G19: =SUM(G13,G18) -> 88 | H19: =SUM(H13,H18) -> 29 | I19: =SUM(I13,I18) -> 117
C20: de Știinte Economice, Socio-Umane și Inginerești din Miercurea Ciuc | D20: Contabilitate şi informatică de gestiune | E20: 50 | F20: 25 | G20: 25 | H20: 13 | I20: =G20+H20 -> 38 | J20: =G20/F20 -> 1 | L20: 7.58 | M20: 7.43 | N20: 7.48
D21: Economie agroalimentară | E21: 60 | F21: 40 | G21: 40 | H21: 4 | I21: =G21+H21 -> 44 | J21: =G21/F21 -> 1 | L21: 7.38 | M21: 7.3 | N21: 7.63
D22: Economie generală | I22: =G22+H22 -> 0
D23: Marketing | E23: 30 | F23: 15 | G23: 15 | H23: 3 | I23: =G23+H23 -> 18 | J23: =G23/F23 -> 1 | L23: 7.24 | M23: 7.15 | N23: 7.06
D24: Informatică economică | E24: 30 | F24: 20 | G24: 20 | H24: 3 | I24: =G24+H24 -> 23 | J24: =G24/F24 -> 1 | L24: 7.74 | M24: 7.11 | N24: 7.32
D25: Comunicare și relații publice | E25: 50 | F25: 16 | G25: 16 | H25: 3 | I25: =G25+H25 -> 19 | J25: =G25/F25 -> 1 | L25: 7.18 | M25: 7.47 | N25: 7.62
D26: Sociologie | E26: 25 | F26: 10 | G26: 10 | H26: 6 | I26: =G26+H26 -> 16 | J26: =G26/F26 -> 1 | L26: 7.06 | M26: 7.4 | N26: 7.28
D27: Resurse umane | E27: 25 | F27: 10 | G27: 10 | H27: 1 | I27: =G27+H27 -> 11 | J27: =G27/F27 -> 1 | L27: 7.22 | M27: 7.18 | N27: 7.46
D28: Lb. şi lit. rom. – lb. şi lit. eng. | E28: 30 | F28: 16 | G28: 16 | H28: 2 | I28: =G28+H28 -> 18 | J28: =G28/F28 -> 1 | L28: 8.22 | M28: 7.39 | N28: 8.72
D29: Lit. univ. şi comp. – lb. şi lit. eng. | E29: 30 | F29: 16 | G29: 16 | H29: 0 | I29: =G29+H29 -> 16 | J29: =G29/F29 -> 1 | L29: 8.45 | M29: 7.8 | N29: 8.46
D30: Ingineria produselor alimentare | E30: 40 | F30: 22 | G30: 19 | H30: 0 | I30: =G30+H30 -> 19 | J30: =G30/F30 -> 0.86363636 | L30: 7.06 | M30: 7.05 | N30: 6.9
D31: Inginerie genetică | E31: 25 | F31: 21 | G31: 20 | H31: 1 | I31: =G31+H31 -> 21 | J31: =G31/F31 -> 0.95238095 | L31: 7.57 | M31: 8.23 | N31: 7.58
D32: Inginerie și management în alimentație publică și agroturism | E32: 30 | F32: 21 | G32: 19 | H32: 0 | I32: =G32+H32 -> 19 | J32: =G32/F32 -> 0.9047619 | L32: 7.5 | M32: 7.57 | N32: 7.04
D33: Educație fizică și sportivă | E33: 25 | F33: 10 | G33: 15 | H33: 9 | I33: =G33+H33 -> 24 | J33: =G33/F33 -> 1.5 | L33: 8.12 | M33: 7.86
D34: Total licenţă | E34: =SUM(E20:E33) -> 450 | F34: =SUM(F20:F33) -> 242 | G34: =SUM(G20:G33) -> 241 | H34: =SUM(H20:H33) -> 45 | I34: =SUM(I20:I33) -> 286 | J34: =G34/F34 -> 0.99586777
D35: Traducere şi interpretare | E35: 16 | F35: 12 | G35: 12 | H35: 3 | I35: =G35+H35 -> 15 | J35: =G35/F35 -> 1 | L35: 8.45 | M35: 7.76 | N35: 7.93
D36: Leadership şi management în economia agrară | E36: 30 | F36: 20 | G36: 20 | H36: 7 | I36: =G36+H36 -> 27 | J36: =G36/F36 -> 1 | L36: 9.38 | M36: 9.26 | N36: 9.49
D37: Economie aplicată şi finanţe | E37: 30 | F37: 20 | G37: 20 | H37: 1 | I37: =G37+H37 -> 21 | J37: =G37/F37 -> 1 | L37: 9.3 | M37: 9.57 | N37: 9.37
D38: Biotehnologii sustenabile | E38: 20 | F38: 12 | G38: 9 | H38: 0 | I38: =G38+H38 -> 9 | J38: =G38/F38 -> 0.75 | L38: 9.61 | M38: 9.51 | N38: 9.17
D39: Comunicare şi relaţii publice | E39: 50 | F39: 26 | G39: 23 | H39: 1 | I39: =G39+H39 -> 24 | J39: =G39/F39 -> 0.88461538 | L39: 9.23 | M39: 9.13 | N39: 9.25
D40: Total master | E40: =SUM(E35:E39) -> 146 | F40: =SUM(F35:F39) -> 90 | G40: =SUM(G35:G39) -> 84 | H40: =SUM(H35:H39) -> 12 | I40: =SUM(I35:I39) -> 96 | J40: =G40/F40 -> 0.93333333
D41: Total Facultate | E41: =E34+E40 -> 596 | F41: =F34+F40 -> 332 | G41: =G34+G40 -> 325 | H41: =H34+H40 -> 57 | I41: =I34+I40 -> 382 | J41: =G41/F41 -> 0.97891566
C42: de Științe Tehnice și Umaniste din Tg. Mureș | D42: Informatică | E42: 60 | F42: 25 | G42: 24 | H42: 2 | I42: =SUM(G42:H42) -> 26 | J42: =G42/F42 -> 0.96 | K42: 8.56 | L42: 7.74 | M42: 8.37 | N42: 8.2
D43: Mecatronică | E43: 50 | F43: 20 | G43: 20 | H43: 2 | I43: =SUM(G43:H43) -> 22 | J43: =G43/F43 -> 1 | K43: 7.1 | L43: 6.7 | M43: 7.16 | N43: 7
D44: Calculatoare | E44: 45 | F44: 25 | G44: 25 | H44: 5 | I44: =SUM(G44:H44) -> 30 | J44: =G44/F44 -> 1 | K44: 8.05 | L44: 7.74 | M44: 8.06 | N44: 7.93
D45: Automatică şi informatică aplicată | E45: 45 | F45: 25 | G45: 25 | H45: 11 | I45: =SUM(G45:H45) -> 36 | J45: =G45/F45 -> 1 | K45: 7.44 | L45: 7.89 | M45: 7.12 | N45: 7.31
D46: Comunicații și relații publice | E46: 50 | F46: 15 | G46: 15 | H46: 4 | I46: =SUM(G46:H46) -> 19 | J46: =G46/F46 -> 1 | K46: 7.41 | L46: 7.88 | M46: 7.53 | N46: 7.89
D47: Horticultură | E47: 45 | F47: 18 | G47: 18 | H47: 2 | I47: =SUM(G47:H47) -> 20 | J47: =G47/F47 -> 1 | K47: 7.47 | L47: 7.33 | M47: 7.65 | N47: 7.07
D48: Traducere și interpretare | E48: 50 | F48: 20 | G48: 17 | H48: 9 | I48: =SUM(G48:H48) -> 26 | J48: =G48/F48 -> 0.85 | K48: 7.68 | L48: 8.12 | M48: 8.26 | N48: 8.64
D49: Tehnologii şi sisteme de telecomunicaţii | E49: 0 | F49: 0 | G49: 0 | H49: 0 | I49: =SUM(G49:H49) -> 0 | K49: 6.59 | L49: 6.59 | M49: 6.98 | N49: 7.02
D50: Tehnologia construcţiilor de maşini | E50: 40 | F50: 20 | G50: 20 | H50: 8 | I50: =SUM(G50:H50) -> 28 | J50: =G50/F50 -> 1 | K50: 7 | L50: 7.25 | M50: 6.38 | N50: 7.18
D51: Servicii și politici de sănătate publică | E51: 40 | F51: 15 | G51: 15 | H51: 4 | I51: =SUM(G51:H51) -> 19 | J51: =G51/F51 -> 1 | K51: 7.08 | L51: 7.11 | M51: 7.41 | N51: 7.14
D52: Peisagistică | E52: 40 | F52: 14 | G52: 14 | H52: 9 | I52: =SUM(G52:H52) -> 23 | J52: =G52/F52 -> 1 | K52: 7.77 | L52: 7.51 | M52: 7.41 | N52: 7.01
D53: Total licenţă | E53: =SUM(E42:E52) -> 465 | F53: =SUM(F42:F52) -> 197 | G53: =SUM(G42:G52) -> 193 | H53: =SUM(H42:H52) -> 56 | I53: =SUM(I42:I52) -> 249 | J53: =AVERAGE(J42:J52) -> 0.981 | K53: =AVERAGE(K42:K52) -> 7.4681818 | L53: =AVERAGE(L42:L52) -> 7.4418182 | M53: =AVERAGE(M42:M52) -> 7.4845455 | N53: =AVERAGE(N42:N52) -> 7.49
D54: Dezvoltarea aplicaţiilor software | E54: 30 | F54: 15 | G54: 15 | H54: 7 | I54: =SUM(G54:H54) -> 22 | J54: =G54/F54 -> 1 | K54: 7.61 | L54: 8.29 | M54: 8.35 | N54: 7.94
D55: Protecția plantelor | E55: 20 | F55: 15 | G55: 7 | H55: 0 | I55: =SUM(G55:H55) -> 7 | J55: =G55/F55 -> 0.46666667 | K55: 8.5 | L55: 7.97 | M55: 8.16 | N55: 9.27
D56: Sisteme mecatronice avansate | E56: 30 | F56: 15 | G56: 10 | H56: 1 | I56: =SUM(G56:H56) -> 11 | J56: =G56/F56 -> 0.66666667 | K56: 8.41 | L56: 8.65 | M56: 8.2 | N56: 9.13
D57: Sisteme de control inteligente | E57: 30 | F57: 15 | G57: 15 | H57: 4 | I57: =SUM(G57:H57) -> 19 | J57: =G57/F57 -> 1 | K57: 8.25 | L57: 8.25 | M57: 7.69 | N57: 8.99
D58: Total master | E58: =SUM(E54:E57) -> 110 | F58: =SUM(F54:F57) -> 60 | G58: =SUM(G54:G57) -> 47 | H58: =SUM(H54:H57) -> 12 | I58: =SUM(I54:I57) -> 59 | J58: =AVERAGE(J47:J57) -> 0.89643333 | K58: =AVERAGE(K54:K57) -> 8.1925 | L58: =AVERAGE(L54:L57) -> 8.29 | M58: =AVERAGE(M54:M57) -> 8.1 | N58: =AVERAGE(N54:N57) -> 8.8325
D59: Total Facultate | E59: =E53+E58 -> 575 | F59: =F53+F58 -> 257 | G59: =G53+G58 -> 240 | H59: =H53+H58 -> 68 | I59: =I53+I58 -> 308 | J59: =G59/F59 -> 0.93385214 | K59: =AVERAGE(K42:K52,K54:K57) -> 7.6613333 | L59: =AVERAGE(L42:L52,L54:L57) -> 7.668 | M59: =AVERAGE(M42:M52,M54:M57) -> 7.6486667 | N59: =AVERAGE(N42:N52,N54:N57) -> 7.848
C60: de Ştiinţe ale Vieții și Sport | D60: Agricultură | E60: 30 | F60: 25 | G60: 9 | H60: 0 | I60: 9 | J60: =G60/F60 -> 0.36 | K60: 7.562 | L60: 7.22 | M60: 6.93 | N60: 7.3
D61: Silvicultură | E61: 30 | F61: 25 | G61: 16 | H61: 1 | I61: 17 | J61: =G61/F61 -> 0.64 | K61: 6.97 | L61: 7.06 | M61: 7.1 | N61: 6.98
D62: Sport și performanță motrică | E62: 25 | F62: 15 | G62: 15 | H62: 10 | I62: 25 | J62: =G62/F62 -> 1 | K62: 7.102 | L62: 7.45 | M62: 7.7
D63: Total licenţă | E63: =SUM(E60:E62) -> 85 | F63: =SUM(F60:F62) -> 65 | G63: =SUM(G60:G62) -> 40 | H63: =SUM(H60:H62) -> 11 | I63: =SUM(I60:I62) -> 51
D64: Total Facultate | E64: =SUM(E60:E62) -> 85 | F64: =SUM(F60:F62) -> 65 | G64: =SUM(G60:G62) -> 40 | H64: =SUM(H60:H62) -> 11 | I64: =SUM(I60:I62) -> 51
C65: Total Universitate licenţă | E65: 1135 | F65: 672 | G65: 531 | H65: 134 | I65: 665 | J65: =G65/F65 -> 0.79017857
C66: Total Universitate master | E66: 316 | F66: =F18+F40+F58 -> 185 | G66: =G18+G40+G58 -> 162 | H66: =H18+H40+H58 -> 31 | I66: =I18+I40+I58 -> 193 | J66: =G66/F66 -> 0.87567568
C67: Total Universitate | E67: 1451 | F67: 857 | G67: 693 | H67: 165 | I67: 858 | J67: 0.8086
K68: %
J70: Raportul studenţilor înscrişi pe locuri fără taxă | Q70: Media generală la admiter | S70: 2025 | T70: 2024 | U70: 2023 | V70: 2022
H71: FSA | I71: licenta | J71: 0.7307 | Q71: FSA | R71: licenta | S71: 8,14 | T71: 7.83 | U71: 7.96 | V71: 8.05
I72: master | J72: 0.8857 | R72: master | S72: 9,24 | T72: 8.94 | U72: 8.37 | V72: 8.44
H73: FSESUI | I73: licenta | J73: 0.9958 | Q73: FSESUI | R73: licenta | S73: 8,24 | T73: 7.47 | U73: 7.67 | V73: 7.49
I74: master | J74: 0.9333 | R74: master | S74: 8,89 | T74: 8.92 | U74: 8.66 | V74: 8.76
H75: FSTU | I75: licenta | J75: 0.9796 | Q75: FSVS | R75: licenta | S75: 7,21 | T75: 7.24 | U75: 7.14 | V75: 7.16
I76: master | J76: 0.7833 | R76: master
H77: FSVS | I77: licenta | J77: 0.6153 | Q77: FSTU | R77: licenta | S77: 7,47 | T77: 7.48 | U77: 7.49 | V77: 7.57
I78: master | J78: 0 | R78: master | S78: 8,19 | T78: 8.1 | U78: 8.83 | V78: 8.77
H79: Universitate | I79: licenta | J79: 0.8625 | Q79: Universitate | R79: licenta | S79: 7,77 | T79: 7.34 | U79: 7.36 | V79: 7.33
I80: master | J80: 0.8269 | R80: master | S80: 8,77 | T80: 8.7 | U80: 7.86 | V80: 8.01
C103: Raportul studenţilor înscrişi pe locuri fără taxă | E103: 2025 | F103: 2024 | G103: 2023 | H103: 2022 | I103: 2021
C104: FSA | D104: licenta | E104: 0.7307 | F104: 0.8929 | G104: 0.86 | H104: 0.96053512 | I104: 0.95
D105: master | E105: 0.8857 | F105: 0.8285 | G105: 0.96 | H105: 1 | I105: 1
C106: FSESUI | D106: licenta | E106: 0.9958 | F106: 0.8802 | G106: 0.86 | H106: 0.91810345 | I106: 0.901
D107: master | E107: 0.9333 | F107: 0.9667 | G107: 0.89 | H107: 1 | I107: 0.965
C108: FSVS | D108: licenta | E108: 61,53%
D109: master
C110: FSTU | D110: licenta | E110: 97,96% | F110: 0.92 | G110: 0.96 | H110: 0.99 | I110: 0.9
D111: master | E111: 78,33% | F111: 0.81 | G111: 0.86 | H111: 0.92 | I111: 0.83
C112: Universitate | D112: licenta | E112: 0.8625 | F112: 0.8824 | G112: 0.88 | H112: 0.92983692 | I112: 91.5
D113: master | E113: 0.8269 | F113: 0.8684 | G113: 0.83 | H113: 0.95655127 | I113: 92.9

Sheet Munka17
B3: Tabelul 5.2. Efectivul de studenţi şi formaţii de studiu la nivel de specializări și facultăți conform statelor de funcții din anul universitar 2025/2026
B4: Facultatea | C4: Programul de studiu | D4: Anul de studiu | E4: Nr. cursanţi | I4: Structura formaţiei de lucru
E5: Total | F5: Fără taxă | G5: Contri-buţii la cheltuieli de studii | H5: Altă categorie | I5: Grupe mari (G) | K5: Grupe mici (g)
I6: Nr. G | J6: Nr.st/G | K6: Nr.g | L6: Nr. stud/g
B7: de Ştiinţe şi Arte Cluj-Napoca | C7: Relaţii internaţionale şi studii europene | D7: I | E7: =SUM(F7:H7) -> 12 | F7: 12 | G7: 0 | H7: 0 | I7: 1 | J7: =E7/I7 -> 12 | K7: 1 | L7: =E7/K7 -> 12
D8: II | E8: =SUM(F8:H8) -> 16 | F8: 9 | G8: 5 | H8: 2 | I8: 1 | J8: =E8/I8 -> 16 | K8: 1 | L8: =E8/K8 -> 16
D9: III | E9: =SUM(F9:H9) -> 16 | F9: 5 | G9: 11 | H9: 0 | I9: 1 | J9: =E9/I9 -> 16 | K9: 1 | L9: =E9/K9 -> 16
D10: III+ | E10: =SUM(F10:H10) -> 1 | F10: 0 | G10: 0 | H10: 1 | I10: 0
D11: Total | E11: =SUM(E7:E10) -> 45 | F11: =SUM(F7:F10) -> 26 | G11: =SUM(G7:G10) -> 16 | H11: =SUM(H7:H10) -> 3 | I11: =SUM(I7:I10) -> 3 | K11: =SUM(K7:K10) -> 3
C12: Drept | D12: I | E12: =SUM(F12:H12) -> 30 | F12: 20 | G12: 9 | H12: 1 | I12: 1 | J12: =E12/I12 -> 30 | K12: 2 | L12: =E12/K12 -> 15
D13: II | E13: =SUM(F13:H13) -> 28 | F13: 11 | G13: 17 | H13: 0 | I13: 1 | J13: =E13/I13 -> 28 | K13: 2 | L13: =E13/K13 -> 14
D14: III | E14: =SUM(F14:H14) -> 26 | F14: 14 | G14: 12 | H14: 0 | I14: 1 | J14: =E14/I14 -> 26 | K14: 1 | L14: =E14/K14 -> 26
D15: IV | E15: =SUM(F15:H15) -> 30 | F15: 10 | G15: 20 | H15: 0 | I15: 1 | J15: =E15/I15 -> 30 | K15: 1 | L15: =E15/K15 -> 30
D16: IV+ | E16: =SUM(F16:H16) -> 6 | F16: 0 | G16: 0 | H16: 6
D17: Total | E17: =SUM(E12:E16) -> 120 | F17: =SUM(F12:F16) -> 55 | G17: =SUM(G12:G16) -> 58 | H17: =SUM(H12:H16) -> 7 | I17: =SUM(I12:I16) -> 4 | K17: =SUM(K12:K16) -> 6
C18: Cinematografie, fotografie, media | D18: I | E18: =SUM(F18:H18) -> 6 | F18: 4 | G18: 2 | H18: 0 | I18: 0
E19: =SUM(F19:H19) -> 6 | F19: 4 | G19: 2 | H19: 0 | I19: 0
E20: =SUM(F20:H20) -> 8 | F20: 4 | G20: 4 | H20: 0 | I20: 0
D21: II | E21: =SUM(F21:H21) -> 19 | F21: 8 | G21: 11 | H21: 0 | I21: 1 | J21: =E21/I21 -> 19 | K21: 2 | L21: =E21/K21 -> 9.5
D22: III | E22: =SUM(F22:H22) -> 19 | F22: 11 | G22: 8 | H22: 0 | I22: 2 | J22: =E22/I22 -> 9.5 | K22: 2 | L22: =E22/K22 -> 9.5
D23: III+ | E23: =SUM(F23:H23) -> 5 | F23: 0 | G23: 0 | H23: 5 | I23: 0
D24: Total | E24: =SUM(E18:E23) -> 63 | F24: =SUM(F18:F23) -> 31 | G24: =SUM(G18:G23) -> 27 | H24: =SUM(H18:H23) -> 5 | I24: =SUM(I18:I23) -> 3 | K24: =SUM(K18:K23) -> 4
C25: Ştiinţa mediului | D25: I | E25: =SUM(F25:H25) -> 4 | F25: 4 | G25: 0 | H25: 0 | I25: 1 | J25: =E25/I25 -> 4 | K25: 1 | L25: =E25/K25 -> 4
D26: II | E26: =SUM(F26:H26) -> 8 | F26: 3 | G26: 5 | H26: 0 | I26: 1 | J26: =E26/I26 -> 8 | K26: 1 | L26: =E26/K26 -> 8
D27: III | E27: =SUM(F27:H27) -> 1 | F27: 1 | G27: 0 | H27: 0 | I27: 1 | J27: =E27/I27 -> 1 | K27: 1 | L27: =E27/K27 -> 1
D28: III+ | E28: =SUM(F28:H28) -> 0 | F28: 0 | G28: 0 | H28: 0 | I28: 0
D29: Total | E29: =SUM(E25:E28) -> 13 | F29: =SUM(F25:F28) -> 8 | G29: =SUM(G25:G28) -> 5 | H29: =SUM(H25:H28) -> 0 | I29: =SUM(I25:I28) -> 3 | K29: =SUM(K25:K28) -> 3
C30: Artele spectacolului (coreografie) | D30: I | E30: =SUM(F30:H30) -> 14 | F30: 10 | G30: 4 | H30: 0 | I30: 1 | J30: =E30/I30 -> 14 | K30: 1 | L30: =E30/K30 -> 14
D31: II | E31: =SUM(F31:H31) -> 15 | F31: 10 | G31: 5 | H31: 0 | I31: 1 | J31: =E31/I31 -> 15 | K31: 1 | L31: =E31/K31 -> 15
D32: III | E32: =SUM(F32:H32) -> 9 | F32: 6 | G32: 3 | H32: 0 | I32: 1 | J32: =E32/I32 -> 9 | K32: 1 | L32: =E32/K32 -> 9
D33: III+ | E33: =SUM(F33:H33) -> 2 | G33: 2 | H33: 0 | I33: 0
D34: Total | E34: =SUM(E30:E33) -> 40 | F34: =SUM(F30:F33) -> 26 | G34: =SUM(G30:G33) -> 14 | H34: =SUM(H30:H33) -> 0 | I34: =SUM(I30:I33) -> 3 | K34: =SUM(K30:K33) -> 3
C35: Total licenţă | E35: =SUM(E11,E17,E24,E29,E34) -> 281 | F35: =SUM(F11,F17,F24,F29,F34) -> 146 | G35: =SUM(G11,G17,G24,G29,G34) -> 120 | H35: =SUM(H11,H17,H24,H29,H34) -> 15 | I35: =SUM(I11,I17,I24,I29,I34) -> 16 | K35: =SUM(K11,K17,K24,K29,K34) -> 19
C36: Diplomație și studii interculturale | D36: I | E36: =SUM(F36:H36) -> 0 | F36: 0 | G36: 0 | H36: 0 | I36: 0
D37: II | E37: =SUM(F37:H37) -> 7 | F37: 4 | G37: 3 | H37: 0 | I37: 1 | J37: =E37/I37 -> 7 | K37: 1 | L37: =E37/K37 -> 7
D38: II+ | E38: =SUM(F38:H38) -> 2 | F38: 0 | G38: 0 | H38: 2 | I38: 0
D39: Total | E39: =SUM(E36:E38) -> 9 | F39: =SUM(F36:F38) -> 4 | G39: =SUM(G36:G38) -> 3 | H39: =SUM(H36:H38) -> 2 | I39: =SUM(I36:I38) -> 1 | K39: =SUM(K36:K38) -> 1
C40: Studii de film | D40: I | E40: =SUM(F40:H40) -> 8 | F40: 8 | G40: 0 | H40: 0 | I40: 1 | J40: =E40/I40 -> 8 | K40: 1 | L40: =E40/K40 -> 8
D41: II | E41: =SUM(F41:H41) -> 8 | F41: 5 | G41: 3 | H41: 0 | I41: 1 | J41: =E41/I41 -> 8 | K41: 1 | L41: =E41/K41 -> 8
D42: II+ | E42: =SUM(F42:H42) -> 2 | G42: 2 | H42: 0 | I42: 0
D43: Total | E43: =SUM(E40:E42) -> 18 | F43: =SUM(F40:F42) -> 13 | G43: =SUM(G40:G42) -> 5 | H43: =SUM(H40:H42) -> 0 | I43: =SUM(I40:I42) -> 2 | K43: =SUM(K40:K42) -> 2
C44: Protecția și monitorizarea mediului | D44: I | E44: =SUM(F44:H44) -> 5 | F44: 5 | G44: 0 | H44: 0 | I44: 1 | J44: =E44/I44 -> 5 | K44: 1 | L44: =E44/K44 -> 5
D45: II | E45: =SUM(F45:H45) -> 3 | F45: 3 | G45: 0 | H45: 0 | I45: 1 | J45: =E45/I45 -> 3 | K45: 1 | L45: =E45/K45 -> 3
D46: II+ | E46: =SUM(F46:H46) -> 0 | F46: 0 | G46: 0 | H46: 0 | I46: 0
D47: Total | E47: =SUM(E44:E46) -> 8 | F47: =SUM(F44:F46) -> 8 | G47: =SUM(G44:G46) -> 0 | H47: =SUM(H44:H46) -> 0 | I47: =SUM(I44:I46) -> 2 | K47: =SUM(K44:K46) -> 2
C48: Cariera judiciara | D48: I | E48: =SUM(F48:H48) -> 12 | F48: 10 | G48: 2 | H48: 0 | I48: 1 | J48: =E48/I48 -> 12 | K48: 1 | L48: =E48/K48 -> 12
D49: I+ | E49: =SUM(F49:H49) -> 0 | F49: 0 | G49: 0 | H49: 0 | I49: 0 | J49: 0 | K49: 0 | L49: 0
D50: Total | E50: =SUM(E48:E49) -> 12 | F50: =SUM(F48:F49) -> 10 | G50: =SUM(G48:G49) -> 2 | H50: =SUM(H48:H49) -> 0 | I50: =SUM(I48:I49) -> 1 | K50: =SUM(K48:K49) -> 1
C51: Total master | E51: =SUM(E39,E43,E47,E50) -> 47 | F51: =SUM(F39,F43,F47) -> 25 | G51: =SUM(G39,G43,G47) -> 8 | H51: =SUM(H39,H43,H47) -> 2 | I51: =SUM(I39,I43,I47) -> 5 | K51: =SUM(K39,K43,K47) -> 5
C52: Total pe facultate | E52: =E35+E51 -> 328 | F52: =F35+F51 -> 171 | G52: =G35+G51 -> 128 | H52: =H35+H51 -> 17 | I52: =I35+I51 -> 21 | K52: =K35+K51 -> 24
B53: de Științe Economice, Socio-umane și Inginerești din Miercurea Ciuc | C53: Economie agroalimentară | D53: I
D54: II | E54: =F54+G54 -> 12 | F54: 7 | G54: 5 | H54: 0 | I54: 1 | J54: =E54/I54 -> 12 | K54: 1 | L54: =E54/K54 -> 12
D55: III | E55: =F55+G55 -> 10 | F55: 9 | G55: 1 | H55: 0 | I55: 1 | J55: =E55/I55 -> 10 | K55: 1 | L55: =E55/K55 -> 10
D56: III+ | E56: =F56+G56 -> 1 | G56: 1 | H56: 0
D57: Total | E57: =F57+G57 -> 23 | F57: =SUM(F53:F56) -> 16 | G57: =SUM(G53:G56) -> 7 | H57: =SUM(H53:H56) -> 0 | I57: =SUM(I53:I56) -> 2 | J57: =IFERROR(E57/I57,0) -> 11.5 | K57: =SUM(K53:K56) -> 2 | L57: =IFERROR(E57/K57,0) -> 11.5
C58: Economie generală | D58: I | E58: =F58+G58 -> 44 | F58: 40 | G58: 4 | H58: 0 | I58: 2 | J58: =E58/I58 -> 22 | K58: 3 | L58: =E58/K58 -> 14.666667
D59: II | E59: =F59+G59 -> 30 | F59: 20 | G59: 10 | H59: 0 | I59: 1 | J59: =E59/I59 -> 30 | K59: 2 | L59: =E59/K59 -> 15
D60: III | E60: =F60+G60 -> 20 | F60: 18 | G60: 2 | H60: 0 | I60: 1 | J60: =E60/I60 -> 20 | K60: 1 | L60: =E60/K60 -> 20
D61: III+ | E61: =F61+G61 -> 1 | G61: 1 | H61: 0
D62: Total | E62: =F62+G62 -> 95 | F62: =SUM(F58:F61) -> 78 | G62: =SUM(G58:G61) -> 17 | H62: =SUM(H58:H61) -> 0 | I62: =SUM(I58:I61) -> 4 | J62: =IFERROR(E62/I62,0) -> 23.75 | K62: =SUM(K58:K61) -> 6 | L62: =IFERROR(E62/K62,0) -> 15.833333
C63: Contabilitate și informatică de gestiune | D63: I | E63: =F63+G63 -> 38 | F63: 25 | G63: 13 | H63: 0 | I63: 2 | J63: =E63/I63 -> 19 | K63: 3 | L63: =E63/K63 -> 12.666667
D64: II | E64: =F64+G64 -> 18 | F64: 14 | G64: 4 | H64: 0 | I64: 1 | J64: =E64/I64 -> 18 | K64: 2 | L64: =E64/K64 -> 9
D65: III | E65: =F65+G65 -> 11 | F65: 10 | G65: 1 | H65: 0 | I65: 1 | J65: =E65/I65 -> 11 | K65: 2 | L65: =E65/K65 -> 5.5
D66: III+ | E66: =F66+G66 -> 4 | G66: 4 | H66: 0
D67: Total | E67: =F67+G67 -> 71 | F67: =SUM(F63:F66) -> 49 | G67: =SUM(G63:G66) -> 22 | H67: =SUM(H63:H66) -> 0 | I67: =SUM(I63:I66) -> 4 | J67: =IFERROR(E67/I67,0) -> 17.75 | K67: =SUM(K63:K66) -> 7 | L67: =IFERROR(E67/K67,0) -> 10.142857
C68: Marketing | D68: I | E68: =F68+G68 -> 18 | F68: 15 | G68: 3 | H68: 0 | I68: 1 | J68: =E68/I68 -> 18 | K68: 2 | L68: =E68/K68 -> 9
D69: II | E69: =F69+G69 -> 21 | F69: 12 | G69: 9 | H69: 0 | I69: 1 | J69: =E69/I69 -> 21 | K69: 4 | L69: =E69/K69 -> 5.25
D70: III | E70: =F70+G70 -> 9 | F70: 6 | G70: 3 | H70: 0 | I70: 1 | J70: =E70/I70 -> 9 | K70: 2 | L70: =E70/K70 -> 4.5
D71: III+ | E71: =F71+G71 -> 0 | G71: 0 | H71: 0
D72: Total | E72: =F72+G72 -> 48 | F72: =SUM(F68:F71) -> 33 | G72: =SUM(G68:G71) -> 15 | H72: =SUM(H68:H71) -> 0 | I72: =SUM(I68:I71) -> 3 | J72: =IFERROR(E72/I72,0) -> 16 | K72: =SUM(K68:K71) -> 8 | L72: =IFERROR(E72/K72,0) -> 6
C73: Informatică economică | D73: I | E73: =F73+G73 -> 23 | F73: 20 | G73: 3 | H73: 0 | I73: 1 | J73: =E73/I73 -> 23 | K73: 2 | L73: =E73/K73 -> 11.5
D74: II | E74: =F74+G74 -> 19 | F74: 9 | G74: 10 | H74: 0 | I74: 1 | J74: =E74/I74 -> 19 | K74: 2 | L74: =E74/K74 -> 9.5
D75: III | E75: =F75+G75 -> 22 | F75: 13 | G75: 9 | H75: 0 | I75: 1 | J75: =E75/I75 -> 22 | K75: 2 | L75: =E75/K75 -> 11
D76: III+ | E76: =F76+G76 -> 6 | G76: 6 | H76: 0
D77: Total | E77: =F77+G77 -> 70 | F77: =SUM(F73:F76) -> 42 | G77: =SUM(G73:G76) -> 28 | H77: =SUM(H73:H76) -> 0 | I77: =SUM(I73:I76) -> 3 | J77: =IFERROR(E77/I77,0) -> 23.333333 | K77: =SUM(K73:K76) -> 6 | L77: =IFERROR(E77/K77,0) -> 11.666667
C78: Sociologie | D78: I | E78: =F78+G78 -> 16 | F78: 10 | G78: 6 | H78: 0 | I78: 1 | J78: =E78/I78 -> 16 | K78: 1 | L78: =E78/K78 -> 16
D79: II | E79: =F79+G79 -> 11 | F79: 9 | G79: 2 | H79: 0 | I79: 1 | J79: =E79/I79 -> 11 | K79: 1 | L79: =E79/K79 -> 11
D80: III | E80: =F80+G80 -> 5 | F80: 2 | G80: 3 | H80: 0 | I80: 1 | J80: =E80/I80 -> 5 | K80: 1 | L80: =E80/K80 -> 5
D81: III+ | E81: =F81+G81 -> 1 | G81: 1 | H81: 0
D82: Total | E82: =F82+G82 -> 33 | F82: =SUM(F78:F81) -> 21 | G82: =SUM(G78:G81) -> 12 | H82: =SUM(H78:H81) -> 0 | I82: =SUM(I78:I81) -> 3 | J82: =IFERROR(E82/I82,0) -> 11 | K82: =SUM(K78:K81) -> 3 | L82: =IFERROR(E82/K82,0) -> 11
C83: Resurse umane | D83: I | E83: =F83+G83 -> 11 | F83: 10 | G83: 1 | H83: 0 | I83: 1 | J83: =E83/I83 -> 11 | K83: 1 | L83: =E83/K83 -> 11
D84: II | E84: =F84+G84 -> 7 | F84: 7 | G84: 0 | H84: 0 | I84: 1 | J84: =E84/I84 -> 7 | K84: 1 | L84: =E84/K84 -> 7
D85: III | E85: =F85+G85 -> 6 | F85: 5 | G85: 1 | H85: 0 | I85: 1 | J85: =E85/I85 -> 6 | K85: 1 | L85: =E85/K85 -> 6
D86: III+ | E86: =F86+G86 -> 1 | G86: 1 | H86: 0
D87: Total | E87: =F87+G87 -> 25 | F87: =SUM(F83:F86) -> 22 | G87: =SUM(G83:G86) -> 3 | H87: =SUM(H83:H86) -> 0 | I87: =SUM(I83:I86) -> 3 | J87: =IFERROR(E87/I87,0) -> 8.3333333 | K87: =SUM(K83:K86) -> 3 | L87: =IFERROR(E87/K87,0) -> 8.3333333
C88: Comunicaţii şi relații publice | D88: I | E88: =F88+G88 -> 19 | F88: 16 | G88: 3 | H88: 0 | I88: 1 | J88: =E88/I88 -> 19 | K88: 2 | L88: =E88/K88 -> 9.5
D89: II | E89: =F89+G89 -> 16 | F89: 13 | G89: 3 | H89: 0 | I89: 1 | J89: =E89/I89 -> 16 | K89: 2 | L89: =E89/K89 -> 8
D90: III | E90: =F90+G90 -> 10 | F90: 10 | G90: 0 | H90: 0 | I90: 1 | J90: =E90/I90 -> 10 | K90: 1 | L90: =E90/K90 -> 10
D91: III+ | E91: =F91+G91 -> 5 | G91: 5 | H91: 0 | J91: =IFERROR(E91/I91,"") | L91: =IFERROR(F91/K91,"")
D92: Total | E92: =F92+G92 -> 50 | F92: =SUM(F88:F91) -> 39 | G92: =SUM(G88:G91) -> 11 | H92: =SUM(H88:H91) -> 0 | I92: =SUM(I88:I91) -> 3 | J92: =IFERROR(E92/I92,0) -> 16.666667 | K92: =SUM(K88:K91) -> 5 | L92: =IFERROR(E92/K92,0) -> 10
C93: Lb. și lit. română – Lb. și lit. engleză | D93: I | E93: =F93+G93 -> 18 | F93: 16 | G93: 2 | H93: 0 | I93: 1 | J93: =E93/I93 -> 18 | K93: 2 | L93: =E93/K93 -> 9
D94: II | E94: =F94+G94 -> 7 | F94: 6 | G94: 1 | H94: 0 | I94: 1 | J94: =E94/I94 -> 7 | K94: 1 | L94: =E94/K94 -> 7
D95: III | E95: =F95+G95 -> 7 | F95: 6 | G95: 1 | H95: 0 | I95: 1 | J95: =E95/I95 -> 7 | K95: 1 | L95: =E95/K95 -> 7
D96: III+ | E96: =F96+G96 -> 3 | G96: 3 | H96: 0 | J96: =IFERROR(E96/I96,"") | L96: =IFERROR(F96/K96,"")
D97: Total | E97: =F97+G97 -> 35 | F97: =SUM(F93:F96) -> 28 | G97: =SUM(G93:G96) -> 7 | H97: =SUM(H93:H96) -> 0 | I97: =SUM(I93:I96) -> 3 | J97: =IFERROR(E97/I97,0) -> 11.666667 | K97: =SUM(K93:K96) -> 4 | L97: =IFERROR(E97/K97,0) -> 8.75
C98: Lit. universală și comparată - Lb. și lit. engleză | D98: I | E98: =F98+G98 -> 16 | F98: 16 | G98: 0 | H98: 0 | I98: 1 | J98: =E98/I98 -> 16 | K98: 2 | L98: =E98/K98 -> 8
D99: II | E99: =F99+G99 -> 16 | F99: 13 | G99: 3 | H99: 0 | I99: 1 | J99: =E99/I99 -> 16 | K99: 1 | L99: =E99/K99 -> 16
D100: III | E100: =F100+G100 -> 13 | F100: 11 | G100: 2 | H100: 0 | I100: 1 | J100: =E100/I100 -> 13 | K100: 1 | L100: =E100/K100 -> 13
D101: III+ | E101: =F101+G101 -> 2 | G101: 2 | H101: 0
D102: Total | E102: =F102+G102 -> 47 | F102: =SUM(F98:F101) -> 40 | G102: =SUM(G98:G101) -> 7 | H102: =SUM(H98:H101) -> 0 | I102: =SUM(I98:I101) -> 3 | J102: =IFERROR(E102/I102,0) -> 15.666667 | K102: =SUM(K98:K101) -> 4 | L102: =IFERROR(E102/K102,0) -> 11.75
...

Sheet Munka18
C4: Situaţia gradului de promovare a anilor de studii în anul universitar 2025/2026. Inscris î n anul…, P- promovat, adică a îndeplinit 40 de credite stabilite de Regulament, CI- a acumulat minim 60 de credite, A - absolvent
B5: Facultatea | C5: Programul de studiu | D5: I | G5: II | J5: III | M5: IV | P5: Prelungire | S5: Total
D6: I | E6: P | F6: CI | G6: I | H6: P | I6: CI | J6: I | K6: P | L6: CI | M6: I | N6: P | O6: CI | P6: I | Q6: P | R6: A | S6: I | T6: P | U6: CI+A | Y6: I | Z6: P | AA6: CI+A
B7: de Ştiinţe şi Arte Cluj-Napoca | C7: Relaţii internaţionale şi studii europene | D7: 16 | E7: 4 | F7: 10 | G7: 16 | H7: 9 | I7: 7 | J7: 12 | K7: 0 | L7: 11 | P7: 1 | Q7: 0 | R7: 0 | S7: =D7+G7+J7+M7+P7 -> 45 | T7: =E7+H7+K7+Q7 -> 13 | U7: =F7+I7+L7+R7 -> 28 | W7: FSA | X7: Bsc | Y7: 233 | Z7: 71 | AA7: 135
C8: Drept | D8: 35 | E8: 15 | F8: 14 | G8: 27 | H8: 15 | I8: 10 | J8: 32 | K8: 18 | L8: 12 | M8: 12 | N8: 2 | O8: 10 | P8: 4 | Q8: 3 | R8: 1 | S8: =D8+G8+J8+M8+P8 -> 110 | T8: =E8+H8+K8+Q8 -> 51 | U8: =F8+I8+L8+R8 -> 37 | X8: Msc | Y8: 52 | Z8: 12 | AA8: 31
C9: Cinematografie, fotografie, media | D9: 20 | E9: 3 | F9: 16 | G9: 20 | H9: 5 | I9: 14 | J9: 24 | K9: 3 | L9: 20 | P9: 4 | Q9: 3 | R9: 1 | S9: =D9+G9+J9+P9 -> 68 | T9: =E9+H9+K9+Q9 -> 14 | U9: =F9+I9+L9+R9 -> 51 | W9: FSEUI | X9: Bsc | Y9: 627 | Z9: 127 | AA9: 472
C10: Ştiinţa mediului | D10: 10 | E10: 3 | F10: 5 | G10: 1 | H10: 0 | I10: 1 | J10: 6 | K10: 0 | L10: 6 | P10: 0 | Q10: 0 | R10: 0 | S10: =D10+G10+J10+P10 -> 17 | T10: =E10+H10+K10+Q10 -> 3 | U10: =F10+I10+L10+R10 -> 12 | X10: Msc | Y10: 196 | Z10: 15 | AA10: 161
C11: Artele spectacolului (coregrafie) | D11: 15 | E11: 1 | F11: 14 | G11: 9 | H11: 1 | I11: 8 | J11: 14 | K11: 1 | L11: 13 | P11: 1 | Q11: 0 | R11: 0 | S11: =D11+G11+J11 -> 38 | T11: =E11+H11+K11+Q11 -> 3 | U11: =F11+I11+L11+R11 -> 35 | W11: FSUI | X11: BSc | Y11: 870 | Z11: 714 | AA11: 522
C12: Total licenţă | D12: =SUM(D8:D11) -> 80 | E12: =SUM(E8:E11) -> 22 | F12: =SUM(F8:F11) -> 49 | G12: =SUM(G8:G11) -> 57 | H12: =SUM(H8:H11) -> 21 | I12: =SUM(I8:I11) -> 33 | J12: =SUM(J8:J11) -> 76 | K12: =SUM(K8:K11) -> 22 | ... U12: =SUM(U8:U11) -> 135 | X12: MSc | Y12: 96 | Z12: 76 | AA12: 66
C13: Diplomație și studii interculturale | D13: 10 | E13: 1 | F13: 6 | G13: 2 | H13: 2 | I13: 0 | P13: 2 | Q13: 0 | R13: 2 | S13: =D13+G13+J13+M13+P13 -> 14 | T13: =E13+H13+K13+Q13 -> 3 | U13: =F13+I13+L13+R13 -> 8
C14: Carieră judiciară | D14: 11 | E14: 0 | F14: 10 | P14: 1 | Q14: 0 | R14: 1 | S14: =D14+G14+J14+M14+P14 -> 12 | T14: =E14+H14+K14+Q14 -> 0 | U14: =F14+I14+L14+R14 -> 11
C15: Studii de film | D15: 13 | E15: 5 | F15: 4 | G15: 4 | H15: 2 | I15: 2 | P15: 2 | Q15: 1 | R15: 1 | S15: =D15+G15+J15+P15 -> 19 | T15: =E15+H15+K15+Q15 -> 8 | U15: =F15+I15+L15+R15 -> 7
C16: Protecția și monitorizarea mediului | D16: 5 | E16: 1 | F16: 3 | G16: 1 | H16: 0 | I16: 1 | P16: 1 | Q16: 0 | R16: 1 | S16: =D16+G16+J16+P16 -> 7 | T16: =E16+H16+K16+Q16 -> 1 | U16: =F16+I16+L16+R16 -> 5
C17: Total master | D17: =SUM(D13:D16) -> 39 | E17: =SUM(E13:E16) -> 7 | F17: =SUM(F13:F16) -> 23 | G17: =SUM(G13:G16) -> 7 | H17: =SUM(H13:H16) -> 4 | I17: =SUM(I13:I16) -> 3 | J17: =SUM(J13:J16) -> 0 | K17: =SUM(K13:K16) -> 0 | ... U17: =SUM(U13:U16) -> 31
B18: de Știinte Economice, Socio-Umane și Inginerești din Miercurea Ciuc | C18: Contabilitate şi informatică de gestiune | D18: 20 | E18: 4 | F18: 14 | G18: 12 | H18: 2 | I18: 9 | J18: 18 | K18: 3 | L18: 15 | P18: 1 | Q18: 0 | R18: 0 | S18: =SUMIF($C$6:$Q$6,$R$6,D18:R18) -> 0 | T18: =SUMIF($D$6:$R$6,$S$6,E18:S18) -> 9 | U18: =SUMIF($E$6:$S$6,MID($T$6,1,2),F18:T18)+R18 -> 38
C19: Economie generală | D19: 48 | E19: 12 | F19: 32 | G19: 18 | H19: 1 | I19: 17 | J19: 11 | K19: 1 | L19: 10 | P19: 1 | Q19: 0 | R19: 0 | S19: =SUMIF($C$6:$Q$6,$R$6,D19:R19) -> 0 | T19: =SUMIF($D$6:$R$6,$S$6,E19:S19) -> 14 | U19: =SUMIF($E$6:$S$6,MID($T$6,1,2),F19:T19)+R19 -> 59
C20: Economie agroalimentară | G20: 11 | H20: 2 | I20: 9 | J20: 9 | K20: 0 | L20: 9 | P20: 1 | Q20: 1 | R20: 0 | S20: =SUMIF($C$6:$Q$6,$R$6,D20:R20) -> 0 | T20: =SUMIF($D$6:$R$6,$S$6,E20:S20) -> 3 | U20: =SUMIF($E$6:$S$6,MID($T$6,1,2),F20:T20)+R20 -> 18
C21: Marketing | D21: 23 | E21: 6 | F21: 15 | G21: 10 | H21: 4 | I21: 5 | J21: 19 | K21: 0 | L21: 18 | P21: 2 | Q21: 0 | R21: 1 | S21: =SUMIF($C$6:$Q$6,$R$6,D21:R21) -> 0 | T21: =SUMIF($D$6:$R$6,$S$6,E21:S21) -> 10 | U21: =SUMIF($E$6:$S$6,MID($T$6,1,2),F21:T21)+R21 -> 40
C22: Informatică economică | D22: 24 | E22: 5 | F22: 14 | G22: 23 | H22: 9 | I22: 12 | J22: 19 | K22: 5 | L22: 13 | P22: 5 | Q22: 1 | R22: 1 | S22: =SUMIF($C$6:$Q$6,$R$6,D22:R22) -> 0 | T22: =SUMIF($D$6:$R$6,$S$6,E22:S22) -> 20 | U22: =SUMIF($E$6:$S$6,MID($T$6,1,2),F22:T22)+R22 -> 41
C23: Comunicare și relații publice | D23: 22 | E23: 1 | F23: 19 | G23: 7 | H23: 1 | I23: 6 | J23: 19 | K23: 2 | L23: 17 | P23: 2 | Q23: 2 | R23: 0 | S23: =SUMIF($C$6:$Q$6,$R$6,D23:R23) -> 0 | T23: =SUMIF($D$6:$R$6,$S$6,E23:S23) -> 6 | U23: =SUMIF($E$6:$S$6,MID($T$6,1,2),F23:T23)+R23 -> 42
C24: Sociologie | D24: 13 | E24: 1 | F24: 10 | G24: 5 | H24: 2 | I24: 3 | J24: 6 | K24: 0 | L24: 6 | P24: 6 | Q24: 1 | R24: 3 | S24: =SUMIF($C$6:$Q$6,$R$6,D24:R24) -> 0 | T24: =SUMIF($D$6:$R$6,$S$6,E24:S24) -> 4 | U24: =SUMIF($E$6:$S$6,MID($T$6,1,2),F24:T24)+R24 -> 25
C25: Resurse umane | D25: 10 | E25: 0 | F25: 7 | G25: 6 | H25: 0 | I25: 6 | J25: 8 | K25: 1 | L25: 7 | P25: 3 | Q25: 0 | R25: 2 | S25: =SUMIF($C$6:$Q$6,$R$6,D25:R25) -> 0 | T25: =SUMIF($D$6:$R$6,$S$6,E25:S25) -> 1 | U25: =SUMIF($E$6:$S$6,MID($T$6,1,2),F25:T25)+R25 -> 24
C26: Lb. şi lit. rom. – lb. şi lit. eng. | D26: 13 | E26: 3 | F26: 6 | G26: 9 | H26: 2 | I26: 6 | J26: 8 | K26: 3 | L26: 4 | P26: 4 | Q26: 0 | R26: 4 | S26: =SUMIF($C$6:$Q$6,$R$6,D26:R26) -> 0 | T26: =SUMIF($D$6:$R$6,$S$6,E26:S26) -> 8 | U26: =SUMIF($E$6:$S$6,MID($T$6,1,2),F26:T26)+R26 -> 24
C27: Lit. univ. şi comp. – lb. şi lit. eng. | D27: 18 | E27: 4 | F27: 12 | G27: 12 | H27: 3 | I27: 9 | J27: 10 | K27: 3 | L27: 6 | P27: 2 | Q27: 1 | R27: 1 | S27: =SUMIF($C$6:$Q$6,$R$6,D27:R27) -> 0 | T27: =SUMIF($D$6:$R$6,$S$6,E27:S27) -> 11 | U27: =SUMIF($E$6:$S$6,MID($T$6,1,2),F27:T27)+R27 -> 29
C28: Ingineria produselor alimentare | D28: 25 | E28: 9 | F28: 13 | P28: 0 | Q28: 0 | R28: 0 | S28: =SUMIF($C$6:$Q$6,$R$6,D28:R28) -> 0 | T28: =SUMIF($D$6:$R$6,$S$6,E28:S28) -> 9 | U28: =SUMIF($E$6:$S$6,MID($T$6,1,2),F28:T28)+R28 -> 13
C29: Ingineria și protecția mediului în industrie | D29: 18 | E29: 5 | F29: 10 | G29: 11 | H29: 6 | I29: 5 | J29: 16 | K29: 1 | L29: 15 | M29: 13 | N29: 1 | O29: 12 | P29: 4 | Q29: 1 | R29: 2 | S29: =SUMIF($C$6:$Q$6,$R$6,D29:R29) -> 0 | T29: =SUMIF($D$6:$R$6,$S$6,E29:S29) -> 14 | U29: =SUMIF($E$6:$S$6,MID($T$6,1,2),F29:T29)+R29 -> 46
C30: Inginerie genetică | D30: 0 | E30: 0 | F30: 0 | G30: 0 | H30: 0 | I30: 0 | J30: 0 | K30: 0 | L30: 0 | M30: 0 | N30: 0 | O30: 0 | P30: 1 | Q30: 0 | R30: 1 | S30: =SUMIF($C$6:$Q$6,$R$6,D30:R30) -> 0 | T30: =SUMIF($D$6:$R$6,$S$6,E30:S30) -> 0 | U30: =SUMIF($E$6:$S$6,MID($T$6,1,2),F30:T30)+R30 -> 2
C31: Inginerie și management în alimentație publică și agroturism | D31: 10 | E31: 4 | F31: 5 | G31: 7 | H31: 0 | I31: 7 | J31: 15 | K31: 2 | L31: 13 | M31: 8 | N31: 0 | O31: 7 | P31: 5 | Q31: 0 | R31: 4 | S31: =SUMIF($C$6:$Q$6,$R$6,D31:R31) -> 0 | T31: =SUMIF($D$6:$R$6,$S$6,E31:S31) -> 6 | U31: =SUMIF($E$6:$S$6,MID($T$6,1,2),F31:T31)+R31 -> 40
C32: Total licenţă | D32: =SUM(D17:D31) -> 283 | E32: =SUM(E17:E31) -> 61 | F32: =SUM(F17:F31) -> 180 | G32: =SUM(G17:G31) -> 138 | H32: =SUM(H17:H31) -> 36 | I32: =SUM(I17:I31) -> 97 | J32: =SUM(J17:J31) -> 158 | K32: =SUM(K17:K31) -> 21 | ... R32: =SUM(R17:R31) -> 24 | S32: 627 | T32: =SUM(T17:T31) -> 127 | U32: =SUM(U17:U31) -> 472
C33: Traducere şi interpretare | D33: 12 | E33: 1 | F33: 11 | G33: 12 | H33: 0 | I33: 12 | P33: 3 | Q33: 1 | R33: 2 | S33: =SUMIF($C$6:$Q$6,$R$6,D33:R33) -> 0 | T33: =SUMIF($D$6:$R$6,$S$6,E33:S33) -> 2 | U33: =SUMIF($E$6:$S$6,MID($T$6,1,2),F33:T33)+R33 -> 27
C34: Leadership şi management în economia agrară | D34: 30 | E34: 4 | F34: 17 | G34: 14 | H34: 0 | I34: 14 | P34: 0 | Q34: 0 | R34: 0 | S34: =SUMIF($C$6:$Q$6,$R$6,D34:R34) -> 0 | T34: =SUMIF($D$6:$R$6,$S$6,E34:S34) -> 4 | U34: =SUMIF($E$6:$S$6,MID($T$6,1,2),F34:T34)+R34 -> 31
C35: Economie aplicată şi finanţe | D35: 29 | E35: 2 | F35: 26 | G35: 18 | H35: 2 | I35: 16 | P35: 1 | Q35: 0 | R35: 0 | S35: =SUMIF($C$6:$Q$6,$R$6,D35:R35) -> 0 | T35: =SUMIF($D$6:$R$6,$S$6,E35:S35) -> 4 | U35: =SUMIF($E$6:$S$6,MID($T$6,1,2),F35:T35)+R35 -> 42
C36: Biotehnologii sustenabile | D36: 10 | E36: 1 | F36: 6 | G36: 12 | H36: 0 | I36: 11 | P36: 1 | Q36: 1 | R36: 0 | S36: =SUMIF($C$6:$Q$6,$R$6,D36:R36) -> 0 | T36: =SUMIF($D$6:$R$6,$S$6,E36:S36) -> 2 | U36: =SUMIF($E$6:$S$6,MID($T$6,1,2),F36:T36)+R36 -> 17
C37: Comunicare şi relaţii publice | D37: 28 | E37: 1 | F37: 23 | G37: 21 | H37: 0 | I37: 21 | P37: 5 | Q37: 2 | R37: 0 | S37: =SUMIF($C$6:$Q$6,$R$6,D37:R37) -> 0 | T37: =SUMIF($D$6:$R$6,$S$6,E37:S37) -> 3 | U37: =SUMIF($E$6:$S$6,MID($T$6,1,2),F37:T37)+R37 -> 44
C38: Total master | D38: =SUM(D33:D37) -> 109 | E38: =SUM(E33:E37) -> 9 | F38: =SUM(F33:F37) -> 83 | G38: =SUM(G33:G37) -> 77 | H38: =SUM(H33:H37) -> 2 | I38: =SUM(I33:I37) -> 74 | J38: =SUM(J33:J37) -> 0 | K38: =SUM(K33:K37) -> 0 | ... R38: =SUM(R33:R37) -> 2 | S38: 196 | T38: =SUM(T33:T37) -> 15 | U38: =SUM(U33:U37) -> 161
B39: de Științe Tehnice și Umaniste din Tg. Mureș | C39: Informatică | D39: 54 | E39: 49 | F39: 38 | G39: 42 | H39: 33 | I39: 21 | J39: 50 | K39: 47 | L39: 43 | P39: 19 | R39: 7 | S39: =D39+G39+J39+M39+P39 -> 165 | T39: =E39+H39+K39+N39+Q39 -> 129 | U39: =F39+I39+L39+O39+R39 -> 109
C40: Mecatronică | D40: 30 | E40: 23 | F40: 4 | G40: 15 | H40: 14 | I40: 7 | J40: 16 | K40: 15 | L40: 9 | M40: 11 | N40: 11 | O40: 9 | P40: 6 | R40: 1 | S40: =D40+G40+J40+M40+P40 -> 78 | T40: =E40+H40+K40+N40+Q40 -> 63 | U40: =F40+I40+L40+O40+R40 -> 30
C41: Calculatoare | D41: 30 | E41: 21 | F41: 6 | G41: 24 | H41: 23 | I41: 14 | J41: 27 | K41: 27 | L41: 19 | M41: 23 | N41: 23 | O41: 20 | P41: 9 | R41: 2 | S41: =D41+G41+J41+M41+P41 -> 113 | T41: =E41+H41+K41+N41+Q41 -> 94 | U41: =F41+I41+L41+O41+R41 -> 61
C42: Automatică şi informatică aplicată | D42: 30 | E42: 22 | F42: 10 | G42: 15 | H42: 15 | I42: 13 | J42: 18 | K42: 18 | L42: 15 | M42: 13 | N42: 12 | O42: 10 | P42: 4 | R42: 1 | S42: =D42+G42+J42+M42+P42 -> 80 | T42: =E42+H42+K42+N42+Q42 -> 67 | U42: =F42+I42+L42+O42+R42 -> 49
C43: Comunicații și relații publice | D43: 34 | E43: 25 | F43: 19 | G43: 25 | H43: 23 | I43: 21 | J43: 28 | K43: 28 | L43: 28 | P43: 5 | R43: 2 | S43: =D43+G43+J43+M43+P43 -> 92 | T43: =E43+H43+K43+N43+Q43 -> 76 | U43: =F43+I43+L43+O43+R43 -> 70
C44: Horticultură | D44: 16 | E44: 9 | F44: 4 | G44: 12 | H44: 11 | I44: 8 | J44: 13 | K44: 13 | L44: 8 | M44: 7 | N44: 7 | O44: 7 | P44: 0 | R44: 0 | S44: =D44+G44+J44+M44+P44 -> 48 | T44: =E44+H44+K44+N44+Q44 -> 40 | U44: =F44+I44+L44+O44+R44 -> 27
C45: Traducere și interpretare | D45: 19 | E45: 14 | F45: 12 | G45: 25 | H45: 24 | I45: 18 | J45: 27 | K45: 27 | L45: 24 | P45: 4 | R45: 0 | S45: =D45+G45+J45+M45+P45 -> 75 | T45: =E45+H45+K45+N45+Q45 -> 65 | U45: =F45+I45+L45+O45+R45 -> 54
C46: Tehnologii şi sisteme de telecomunicaţii | D46: 8 | E46: 6 | F46: 0 | G46: 5 | H46: 3 | I46: 0 | J46: 3 | K46: 2 | L46: 0 | M46: 9 | N46: 9 | O46: 7 | P46: 2 | R46: 0 | S46: =D46+G46+J46+M46+P46 -> 27 | T46: =E46+H46+K46+N46+Q46 -> 20 | U46: =F46+I46+L46+O46+R46 -> 7
C47: Tehnologia construcţiilor de maşini | D47: 17 | E47: 9 | F47: 1 | G47: 10 | H47: 9 | I47: 5 | J47: 10 | K47: 8 | L47: 6 | M47: 13 | N47: 12 | O47: 9 | P47: 9 | R47: 0 | S47: =D47+G47+J47+M47+P47 -> 59 | T47: =E47+H47+K47+N47+Q47 -> 38 | U47: =F47+I47+L47+O47+R47 -> 21
C48: Servicii și politici de sănătate publică | D48: 19 | E48: 16 | F48: 13 | G48: 20 | H48: 20 | I48: 20 | J48: 5 | K48: 5 | L48: 5 | P48: 0 | R48: 0 | S48: =D48+G48+J48+M48+P48 -> 44 | T48: =E48+H48+K48+N48+Q48 -> 41 | U48: =F48+I48+L48+O48+R48 -> 38
C49: Peisagistică | D49: 26 | E49: 22 | F49: 14 | G49: 8 | H49: 8 | I49: 8 | J49: 29 | K49: 29 | L49: 14 | M49: 22 | N49: 22 | O49: 18 | P49: 4 | R49: 2 | S49: =D49+G49+J49+M49+P49 -> 89 | T49: =E49+H49+K49+N49+Q49 -> 81 | U49: =F49+I49+L49+O49+R49 -> 56
C50: Total licenţă | D50: =SUM(D37:D49) -> 420 | E50: =SUM(E37:E49) -> 226 | F50: =SUM(F37:F49) -> 227 | G50: =SUM(G37:G49) -> 299 | H50: =SUM(H37:H49) -> 185 | I50: =SUM(I37:I49) -> 230 | J50: =SUM(J37:J49) -> 226 | K50: =SUM(K37:K49) -> 219 | ... R50: =SUM(R37:R49) -> 17 | S50: 870 | T50: 714 | U50: 522
C51: Dezvoltarea aplicaţiilor software | D51: 28 | E51: 24 | F51: 19 | G51: 11 | H51: 8 | I51: 7 | P51: 0 | R51: 0 | S51: =D51+G51+J51+M51+P51 -> 39 | T51: =E51+H51+K51+N51+Q51 -> 32 | U51: =F51+I51+L51+O51+R51 -> 26
C52: Protecția plantelor | D52: 9 | E52: 8 | F52: 5 | G52: 11 | H52: 10 | I52: 9 | P52: 3 | R52: 1 | S52: =D52+G52+J52+M52+P52 -> 23 | T52: =E52+H52+K52+N52+Q52 -> 18 | U52: =F52+I52+L52+O52+R52 -> 15
C53: Sisteme mecatronice avansate | D53: 6 | E53: 4 | F53: 4 | G53: 4 | H53: 4 | I53: 3 | P53: 0 | R53: 0 | S53: =D53+G53+J53+M53+P53 -> 10 | T53: =E53+H53+K53+N53+Q53 -> 8 | U53: =F53+I53+L53+O53+R53 -> 7
C54: Sisteme de control inteligente | D54: 14 | E54: 10 | F54: 10 | G54: 9 | H54: 8 | I54: 8 | P54: 1 | R54: 0 | S54: =D54+G54+J54+M54+P54 -> 24 | T54: =E54+H54+K54+N54+Q54 -> 18 | U54: =F54+I54+L54+O54+R54 -> 18
C55: Total master | D55: =SUM(D51:D54) -> 57 | E55: =SUM(E51:E54) -> 46 | F55: =SUM(F51:F54) -> 38 | G55: =SUM(G51:G54) -> 35 | H55: =SUM(H51:H54) -> 30 | I55: =SUM(I51:I54) -> 27 | J55: =SUM(J51:J54) -> 0 | K55: =SUM(K51:K54) -> 0 | ... R55: =SUM(R51:R54) -> 1 | S55: =D55+G55+J55+M55+P55 -> 96 | T55: =E55+H55+K55+N55+Q55 -> 76 | U55: =F55+I55+L55+O55+R55 -> 66
C56: Agricultură | D56: 12 | E56: 5 | F56: 4 | G56: 10 | H56: 3 | I56: 7 | J56: 7 | K56: 2 | L56: 5 | M56: 14 | N56: 0 | O56: 14 | P56: 0 | Q56: 0 | R56: 0 | S56: =D56+G56+J56+M56+P56 -> 43 | T56: =E56+H56+K56+N56+Q56 -> 10 | U56: =F56+I56+L56+O56+R56 -> 30
C57: Silvicultură | D57: 19 | E57: 7 | F57: 11 | G57: 19 | H57: 6 | I57: 12 | J57: 13 | K57: 5 | L57: 6 | M57: 17 | N57: 2 | O57: 14 | P57: 1 | Q57: 0 | R57: 0 | S57: =D57+G57+J57+M57+P57 -> 69 | T57: =E57+H57+K57+N57+Q57 -> 20 | U57: =F57+I57+L57+O57+R57 -> 43
B58: de Ştiinţe ale Vieții și Sport | C58: Sport și performanță motrică | D58: 25 | E58: 4 | F58: 20 | G58: 19 | H58: 0 | I58: 19 | S58: =D58+G58+J58+M58+P58 -> 44 | T58: =E58+H58+K58+N58+Q58 -> 4 | U58: =F58+I58+L58+O58+R58 -> 39
C59: Total licenţă | D59: 56 | E59: 16 | F59: 35 | G59: 48 | H59: 9 | I59: 38 | J59: 20 | K59: 7 | L59: 11 | M59: 31 | N59: 2 | O59: 28 | P59: 1 | Q59: 0 | R59: 0 | S59: =SUM(S56:S58) -> 156 | T59: =SUM(T56:T58) -> 34 | U59: =SUM(U56:U58) -> 112
C61: Total Universitate licenta | D61: 603 | E61: 314 | F61: =F50+F32+F12 -> 456 | G61: 451 | H61: =H50+H32+H12 -> 242 | I61: =I50+I32+I12 -> 360 | J61: 450 | K61: =K50+K31+K12 -> 243 | L61: =L50+L32+L12 -> 355 | M61: =M50+M32+M12 -> 131 | N61: 172 | O61: =O50+O32+O12 -> 109 | P61: 101 | Q61: =Q50+Q32+Q12 -> 20 | R61: =R50+R32+R12 -> 43 | S61: 1826 | T61: =T50+T32+T12 -> 912 | U61: =U50+U32+U12 -> 1129
C62: Total Universitate master | D62: 446 | E62: =E60+E38+E17 -> 16 | F62: =F60+F38+F17 -> 106 | G62: =G60+G38+G17 -> 84 | H62: =H60+H38+H17 -> 6 | I62: =I60+I38+I17 -> 77 | J62: =J60+J38+J17 -> 0 | K62: =K60+K38+K17 -> 0 | L62: =L60+L38+L17 -> 0 | ... Q62: =Q60+Q38+Q17 -> 5 | R62: 44 | S62: 1283 | T62: =T60+T38+T17 -> 27 | U62: =U60+U38+U17 -> 192

Sheet Munka19
E3: EZT AZ OLDALT NEM KELL KITÖLTENI, AUTOMATIKUSAN VESZI AZ ADATOKAT A Munka 18-ból.
B4: Centralizatorul gradului de promovare a studenților la nivelul programelor de studii în procente în anul universitar 2025/2026, I-nr. studenţi înscrişi în anul…, % P- procentul studenţilor promovaţi, adică care au îndeplinit 40 de credite stabilite de Regulament, % CI- procentul de studenţi care au acumulat minim 60 de credite, A - % absolvenţi
B5: Facultatea | C5: Programul de studiu | D5: I | G5: II | J5: III | M5: IV | P5: Prelungire | S5: Total
D6: Nr. înscrişi | E6: % P | F6: % CI | G6: Nr. înscrişi | H6: % P | I6: % CI | J6: Nr. înscrişi | K6: % P | L6: % CI | M6: Nr. înscrişi | N6: % P | O6: % CI | P6: Nr. înscrişi | Q6: % P | R6: % A | S6: Nr. înscrişi | T6: % P | U6: % CI+A
B7: de Ştiinţe şi Arte Cluj-Napoca | C7: Relaţii internaţionale şi studii europene | D7: =[3]Munka18!D7 -> 22 | E7: =[3]Munka18!E7/D7 -> 0.27272727 | F7: =[3]Munka18!F7/D7 -> 0.18181818 | G7: =[3]Munka18!G7 -> 6 | H7: =[3]Munka18!H7/G7 -> 0.33333333 | I7: =[3]Munka18!I7/G7 -> 0.5 | J7: =[3]Munka18!J7 -> 6 | K7: =[3]Munka18!K7/J7 -> 0.16666667 | L7: =[3]Munka18!L7/J7 -> 0.83333333 | P7: =[3]Munka18!P7 -> 2 | Q7: =[3]Munka18!Q7/P7 -> 0.5 | R7: =[3]Munka18!R7/P7 -> 0 | S7: =[3]Munka18!S7 -> 36 | T7: =[3]Munka18!T7/S7 -> 0.27777778 | U7: =[3]Munka18!U7/S7 -> 0.33333333
C8: Drept | D8: =[3]Munka18!D8 -> 26 | E8: =[3]Munka18!E8/D8 -> 0.34615385 | F8: =[3]Munka18!F8/D8 -> 0.46153846 | G8: =[3]Munka18!G8 -> 20 | H8: =[3]Munka18!H8/G8 -> 0.35 | I8: =[3]Munka18!I8/G8 -> 0.6 | J8: =[3]Munka18!J8 -> 18 | K8: =[3]Munka18!K8/J8 -> 0.5 | L8: =[3]Munka18!L8/J8 -> 0.5 | M8: =[3]Munka18!M8 -> 11 | N8: =[3]Munka18!N8/M8 -> 0.27272727 | O8: =[3]Munka18!O8/M8 -> 0.63636364 | P8: =[3]Munka18!P8 -> 4 | Q8: =[3]Munka18!Q8/P8 -> 0.75 | R8: =[3]Munka18!R8/P8 -> 0 | S8: =[3]Munka18!S8 -> 79 | T8: =[3]Munka18!T8/S8 -> 0.35443038 | U8: =[3]Munka18!U8/S8 -> 0.41772152
C9: Cinematografie, fotografie, media | D9: =[3]Munka18!D9 -> 25 | E9: =[3]Munka18!E9/D9 -> 0.24 | F9: =[3]Munka18!F9/D9 -> 0.56 | G9: =[3]Munka18!G9 -> 22 | H9: =[3]Munka18!H9/G9 -> 0.36363636 | I9: =[3]Munka18!I9/G9 -> 0.45454545 | J9: =[3]Munka18!J9 -> 25 | K9: =[3]Munka18!K9/J9 -> 0.16 | L9: =[3]Munka18!L9/J9 -> 0.84 | P9: =[3]Munka18!P9 -> 3 | Q9: =[3]Munka18!Q9/P9 -> 0.33333333 | R9: =[3]Munka18!R9/P9 -> 0.66666667 | S9: =[3]Munka18!S9 -> 75 | T9: =[3]Munka18!T9/S9 -> 0.25333333 | U9: =[3]Munka18!U9/S9 -> 0.62666667
C10: Ştiinţa mediului | D10: =[3]Munka18!D10 -> 11 | E10: =[3]Munka18!E10/D10 -> 0.18181818 | F10: =[3]Munka18!F10/D10 -> 0.36363636 | G10: =[3]Munka18!G10 -> 4 | H10: =[3]Munka18!H10/G10 -> 0.5 | I10: =[3]Munka18!I10/G10 -> 0.5 | J10: =[3]Munka18!J10 -> 3 | K10: =[3]Munka18!K10/J10 -> 0 | L10: =[3]Munka18!L10/J10 -> 1 | P10: =[3]Munka18!P10 -> 6 | Q10: =[3]Munka18!Q10/P10 -> 0.5 | R10: =[3]Munka18!R10/P10 -> 0.5 | S10: =[3]Munka18!S10 -> 18 | T10: =[3]Munka18!T10/S10 -> 0.38888889 | U10: =[3]Munka18!U10/S10 -> 0.66666667
C11: Artele spectacolului (coreografie) | D11: =[3]Munka18!D11 -> 15 | E11: =[3]Munka18!E11/D11 -> 0.066666667 | F11: =[3]Munka18!F11/D11 -> 0.73333333 | G11: =[3]Munka18!G11 -> 0 | H11: =[3]Munka18!H11/G11 -> #DIV/0! | I11: =[3]Munka18!I11/G11 -> #DIV/0! | J11: =[3]Munka18!J11 -> 0 | K11: =[3]Munka18!K11/J11 -> #DIV/0! | L11: =[3]Munka18!L11/J11 -> #DIV/0! | P11: =[3]Munka18!P11 -> 0 | Q11: =[3]Munka18!Q11/P11 -> #DIV/0! | R11: =[3]Munka18!R11/P11 -> #DIV/0! | S11: =[3]Munka18!S11 -> 15 | T11: =[3]Munka18!T11/S11 -> 0.066666667 | U11: =[3]Munka18!U11/S11 -> 0.73333333
C12: Total licenţă | D12: =SUM(D7:D11) -> 99 | E12: =[3]Munka18!E12/D12 -> 0.24242424 | F12: =[3]Munka18!F12/D12 -> 0.45454545 | G12: =SUM(G7:G11) -> 52 | H12: =[3]Munka18!H12/G12 -> 0.36538462 | I12: =[3]Munka18!I12/G12 -> 0.51923077 | J12: =SUM(J7:J11) -> 52 | K12: =[3]Munka18!K12/J12 -> 0.26923077 | L12: =[3]Munka18!L12/J12 -> 0.73076923 | M12: =SUM(M7:M11) -> 11 | N12: =[3]Munka18!N12/M12 -> 0.27272727 | O12: =[3]Munka18!O12/M12 -> 0.63636364 | P12: =SUM(P7:P11) -> 15 | Q12: =[3]Munka18!Q12/P12 -> 0.53333333 | R12: =[3]Munka18!R12/P12 -> 0.33333333 | S12: =SUM(S7:S11) -> 223 | T12: =[3]Munka18!T12/S12 -> 0.29147982 | U12: =[3]Munka18!U12/S12 -> 0.51569507
C13: Diplomație și studii interculturale | D13: =[3]Munka18!D13 -> 9 | E13: =[3]Munka18!E13/D13 -> 0.11111111 | F13: =[3]Munka18!F13/D13 -> 0.77777778 | G13: =[3]Munka18!G13 -> 6 | H13: =[3]Munka18!H13/G13 -> 0.16666667 | I13: =[3]Munka18!I13/G13 -> 0.83333333 | P13: =[3]Munka18!P13 -> 1 | Q13: =[3]Munka18!Q13/P13 -> 0 | R13: =[3]Munka18!R13/P13 -> 0 | S13: =[3]Munka18!S13 -> 16 | T13: =[3]Munka18!T13/S13 -> 0.125 | U13: =[3]Munka18!U13/S13 -> 0.75
C14: Studii de film | D14: =[3]Munka18!D14 -> 11 | E14: =[3]Munka18!E14/D14 -> 0.45454545 | F14: =[3]Munka18!F14/D14 -> 0.54545455 | G14: =[3]Munka18!G14 -> 7 | H14: =[3]Munka18!H14/G14 -> 0 | I14: =[3]Munka18!I14/G14 -> 1 | P14: =[3]Munka18!P14 -> 4 | Q14: =[3]Munka18!Q14/P14 -> 0.75 | R14: =[3]Munka18!R14/P14 -> 0.25 | S14: =[3]Munka18!S14 -> 22 | T14: =[3]Munka18!T14/S14 -> 0.36363636 | U14: =[3]Munka18!U14/S14 -> 0.63636364
C15: Protecția și monitorizarea mediului | D15: =[3]Munka18!D15 -> 8 | E15: =[3]Munka18!E15/D15 -> 0.125 | F15: =[3]Munka18!F15/D15 -> 0.5 | G15: =[3]Munka18!G15 -> 5 | H15: =[3]Munka18!H15/G15 -> 0.2 | I15: =[3]Munka18!I15/G15 -> 0.8 | P15: =[3]Munka18!P15 -> 0 | Q15: =[3]Munka18!Q15/P15 -> #DIV/0! | R15: =[3]Munka18!R15/P15 -> #DIV/0! | S15: =[3]Munka18!S15 -> 13 | T15: =[3]Munka18!T15/S15 -> 0.15384615 | U15: =[3]Munka18!U15/S15 -> 0.61538462
C16: Total master | D16: =[3]Munka18!D16 -> 28 | E16: =[3]Munka18!E16/D16 -> 0.25 | F16: =[3]Munka18!F16/D16 -> 0.60714286 | G16: =[3]Munka18!G16 -> 18 | H16: =[3]Munka18!H16/G16 -> 0.11111111 | I16: =[3]Munka18!I16/G16 -> 0.88888889 | P16: =[3]Munka18!P16 -> 5 | Q16: =[3]Munka18!Q16/P16 -> 0.6 | R16: =[3]Munka18!R16/P16 -> 0.2 | S16: =[3]Munka18!S16 -> 51 | T16: =[3]Munka18!T16/S16 -> 0.23529412 | U16: =[3]Munka18!U16/S16 -> 0.66666667
B17: de Știinte Economice, Socio-Umane și Inginerești din Miercurea Ciuc | C17: Contabilitate şi informatică de gestiune | D17: 34 | E17: 0.29411765 | F17: 0.52941176 | G17: 25 | H17: 0.04 | I17: 0.84 | J17: 15 | K17: 0 | L17: 0.93333333 | P17: 5 | Q17: 0.4 | R17: 0.4 | S17: 79 | T17: 0.16455696 | U17: 0.69620253
C18: Economie generală | D18: 34 | E18: 0.11764706 | F18: 0.47058824 | G18: 9 | H18: 0.11111111 | I18: 0.88888889 | J18: 8 | K18: 0 | L18: 1 | P18: 2 | Q18: 1 | R18: 0 | S18: 53 | T18: 0.13207547 | U18: 0.60377358
C19: Economie agroalimentară | D19: 0 | E19: 0 | F19: 0 | G19: 10 | H19: 0 | I19: 0.9 | J19: 9 | K19: 0.22222222 | L19: 0.66666667 | P19: 1 | Q19: 0 | R19: 0 | S19: 20 | T19: 0.1 | U19: 0.75
C20: Marketing | D20: 18 | E20: 0.61111111 | F20: 0.27777778 | G20: 10 | H20: 0.2 | I20: 0.7 | J20: 6 | K20: 0 | L20: 0.66666667 | P20: 4 | Q20: 0.5 | R20: 0.5 | S20: 38 | T20: 0.39473684 | U20: 0.47368421
C21: Informatică economică | D21: 27 | E21: 0.2962963 | F21: 0.62962963 | G21: 27 | H21: 0.22222222 | I21: 0.62962963 | J21: 21 | K21: 0.28571429 | L21: 0.52380952 | P21: 4 | Q21: 0 | R21: 0.75 | S21: 79 | T21: 0.25316456 | U21: 0.60759494
C22: Comunicare și relații publice | D22: 22 | E22: 0.045454545 | F22: 0.63636364 | G22: 21 | H22: 0.23809524 | I22: 0.71428571 | J22: 17 | K22: 0 | L22: 0.94117647 | P22: 6 | Q22: 0.33333333 | R22: 0.33333333 | S22: 66 | T22: 0.12121212 | U22: 0.71212121
C23: Sociologie | D23: 12 | E23: 0.083333333 | F23: 0.41666667 | G23: 19 | H23: 0 | I23: 0.94736842 | J23: 11 | K23: 0.27272727 | L23: 0.72727273 | P23: 0 | Q23: 0 | R23: 0 | S23: 42 | T23: 0.095238095 | U23: 0.73809524
C24: Resurse umane | D24: 10 | E24: 0.1 | F24: 0.4 | G24: 10 | H24: 0.2 | I24: 0.8 | J24: 6 | K24: 0 | L24: 1 | P24: 1 | Q24: 0 | R24: 1 | S24: 27 | T24: 0.11111111 | U24: 0.7037037
C25: Lb. şi lit. rom. – lb. şi lit. eng. | D25: 20 | E25: 0.2 | F25: 0.6 | G25: 14 | H25: 0.21428571 | I25: 0.78571429 | J25: 8 | K25: 0 | L25: 0.75 | P25: 4 | Q25: 1 | R25: 0 | S25: 46 | T25: 0.23913043 | U25: 0.63043478
C26: Lit. univ. şi comp. – lb. şi lit. eng. | D26: 17 | E26: 0.11764706 | F26: 0.52941176 | G26: 13 | H26: 0.076923077 | I26: 0.76923077 | J26: 12 | K26: 0.083333333 | L26: 0.91666667 | P26: 3 | Q26: 0.66666667 | R26: 0.33333333 | S26: 45 | T26: 0.13333333 | U26: 0.68888889
C27: Ingineria produselor alimentare | D27: 18 | E27: 0 | F27: 0.61111111 | G27: 20 | H27: 0 | I27: 1 | J27: 12 | K27: 0.66666667 | L27: 0.33333333 | M27: 16 | N27: 0.375 | O27: 0.625 | P27: 4 | Q27: 0 | R27: 1 | S27: 70 | T27: 0.2 | U27: 0.7
C28: Ingineria și protecția mediului în industrie | D28: 0 | E28: 0 | F28: 0 | G28: 0 | H28: 0 | I28: 0 | J28: 4 | K28: 0.25 | L28: 0.5 | M28: 2 | N28: 1 | O28: 1 | P28: 0 | Q28: 0 | R28: 0 | S28: 6 | T28: 0.5 | U28: 0.66666667
C29: Inginerie genetică | D29: 16 | E29: 0 | F29: 0.4375 | G29: 16 | H29: 0.0625 | I29: 0.8125 | J29: 8 | K29: 0.25 | L29: 0.75 | M29: 14 | N29: 0.14285714 | O29: 0.78571429 | P29: 1 | Q29: 0 | R29: 1 | S29: 55 | T29: 0.090909091 | U29: 0.69090909
C30: Inginerie și management în alimentație publică și agroturism | D30: 19 | E30: 0.052631579 | F30: 0.57894737 | G30: 9 | H30: 0.22222222 | I30: 0.77777778 | J30: 6 | K30: 0.16666667 | L30: 0.83333333 | M30: 14 | N30: 0.071428571 | O30: 0.85714286 | P30: 2 | Q30: 0.5 | R30: 0.5 | S30: 50 | T30: 0.12 | U30: 0.72
C31: Total licenţă | D31: 247 | E31: 0.17408907 | F31: 0.52226721 | G31: 203 | H31: 0.1182266 | I31: 0.80788177 | J31: 143 | K31: 0.16783217 | L31: 0.74825175 | M31: 46 | N31: 0.23913043 | O31: 0.76086957 | P31: 37 | Q31: 0.40540541 | R31: 0.45945946 | S31: 676 | T31: 0.17307692 | U31: 0.66863905
C32: Traducere şi interpretare | D32: 13 | E32: 0 | F32: 0.76923077 | G32: 10 | H32: 0.1 | I32: 0.7 | J32: 0 | P32: 5 | Q32: 0.8 | R32: 0.2 | S32: 28 | T32: 0.17857143 | U32: 0.64285714
C33: Leadership şi management în economia agrară | D33: 27 | E33: 0.11111111 | F33: 0.40740741 | G33: 17 | H33: 0.11764706 | I33: 0.82352941 | J33: 0 | P33: 2 | Q33: 0 | R33: 0 | S33: 46 | T33: 0.10869565 | U33: 0.54347826
C34: Economie aplicată şi finanţe | D34: 21 | E34: 0.14285714 | F34: 0.66666667 | G34: 15 | H34: 0.2 | I34: 0.66666667 | J34: 0 | P34: 1 | Q34: 0 | R34: 1 | S34: 37 | T34: 0.16216216 | U34: 0.67567568
C35: Biotehnologii sustenabile | D35: 16 | E35: 0.1875 | F35: 0.6875 | G35: 9 | H35: 0.11111111 | I35: 0.88888889 | J35: 0 | P35: 0 | Q35: 0 | R35: 0 | S35: 25 | T35: 0.16 | U35: 0.76
C36: Comunicare şi relaţii publice | D36: 29 | E36: 0 | F36: 0.68965517 | G36: 22 | H36: 0.090909091 | I36: 0.86363636 | J36: 0 | P36: 8 | Q36: 0.125 | R36: 0.25 | S36: 59 | T36: 0.050847458 | U36: 0.69491525
C37: Total master | D37: 106 | E37: 0.08490566 | F37: 0.62264151 | G37: 73 | H37: 0.12328767 | I37: 0.79452055 | P37: 16 | Q37: 0.3125 | R37: 0.25 | S37: 195 | T37: 0.11794872 | U37: 0.65641026
B38: de Științe Tehnice și Umaniste din Tg. Mureș | C38: Informatică | D38: =[5]Munka18!D38 -> 30 | E38: =[5]Munka18!E38/D38 -> 0.76666667 | F38: =[5]Munka18!F38/D38 -> 0.13333333 | G38: =[5]Munka18!G38 -> 15 | H38: =[5]Munka18!H38/G38 -> 0.93333333 | I38: =[5]Munka18!I38/G38 -> 0.46666667 | J38: =[5]Munka18!J38 -> 16 | K38: =[5]Munka18!K38/J38 -> 0.9375 | L38: =[5]Munka18!L38/J38 -> 0.5625 | M38: =[5]Munka18!M38 -> 11 | P38: =[5]Munka18!P38 -> 6 | Q38: =[5]Munka18!Q38/P38 -> 0 | R38: =[5]Munka18!R38/P38 -> 0.16666667 | S38: =[5]Munka18!S38 -> 78 | T38: =[5]Munka18!T38/S38 -> 0.80769231 | U38: =[5]Munka18!U38/S38 -> 0.38461538
C39: Mecatronică | D39: =[5]Munka18!D39 -> 30 | E39: =[5]Munka18!E39/D39 -> 0.7 | F39: =[5]Munka18!F39/D39 -> 0.2 | G39: =[5]Munka18!G39 -> 24 | H39: =[5]Munka18!H39/G39 -> 0.95833333 | I39: =[5]Munka18!I39/G39 -> 0.58333333 | J39: =[5]Munka18!J39 -> 27 | K39: =[5]Munka18!K39/J39 -> 1 | L39: =[5]Munka18!L39/J39 -> 0.7037037 | M39: =[5]Munka18!M39 -> 23 | N39: =[5]Munka18!N39/M39 -> 1 | O39: =[5]Munka18!O39/M39 -> 0.86956522 | P39: =[5]Munka18!P39 -> 9 | Q39: =[5]Munka18!Q39/P39 -> 0 | R39: =[5]Munka18!R39/P39 -> 0.22222222 | S39: =[5]Munka18!S39 -> 113 | T39: =[5]Munka18!T39/S39 -> 0.83185841 | U39: =[5]Munka18!U39/S39 -> 0.53982301
C40: Calculatoare | D40: =[5]Munka18!D40 -> 30 | E40: =[5]Munka18!E40/D40 -> 0.73333333 | F40: =[5]Munka18!F40/D40 -> 0.33333333 | G40: =[5]Munka18!G40 -> 15 | H40: =[5]Munka18!H40/G40 -> 1 | I40: =[5]Munka18!I40/G40 -> 0.86666667 | J40: =[5]Munka18!J40 -> 18 | K40: =[5]Munka18!K40/J40 -> 1 | L40: =[5]Munka18!L40/J40 -> 0.83333333 | M40: =[5]Munka18!M40 -> 13 | N40: =[5]Munka18!N40/M40 -> 0.92307692 | O40: =[5]Munka18!O40/M40 -> 0.76923077 | P40: =[5]Munka18!P40 -> 4 | Q40: =[5]Munka18!Q40/P40 -> 0 | R40: =[5]Munka18!R40/P40 -> 0.25 | S40: =[5]Munka18!S40 -> 80 | T40: =[5]Munka18!T40/S40 -> 0.8375 | U40: =[5]Munka18!U40/S40 -> 0.6125
C41: Automatică şi informatică aplicată | D41: =[5]Munka18!D41 -> 34 | E41: =[5]Munka18!E41/D41 -> 0.73529412 | F41: =[5]Munka18!F41/D41 -> 0.55882353 | G41: =[5]Munka18!G41 -> 25 | H41: =[5]Munka18!H41/G41 -> 0.92 | I41: =[5]Munka18!I41/G41 -> 0.84 | J41: =[5]Munka18!J41 -> 28 | K41: =[5]Munka18!K41/J41 -> 1 | L41: =[5]Munka18!L41/J41 -> 1 | M41: =[5]Munka18!M41 -> 0 | N41: =[5]Munka18!N41/M41 -> #DIV/0! | O41: =[5]Munka18!O41/M41 -> #DIV/0! | P41: =[5]Munka18!P41 -> 5 | Q41: =[5]Munka18!Q41/P41 -> 0 | R41: =[5]Munka18!R41/P41 -> 0.4 | S41: =[5]Munka18!S41 -> 92 | T41: =[5]Munka18!T41/S41 -> 0.82608696 | U41: =[5]Munka18!U41/S41 -> 0.76086957
C42: Comunicații și relații publice | D42: =[5]Munka18!D42 -> 16 | E42: =[5]Munka18!E42/D42 -> 0.5625 | F42: =[5]Munka18!F42/D42 -> 0.25 | G42: =[5]Munka18!G42 -> 12 | H42: =[5]Munka18!H42/G42 -> 0.91666667 | I42: =[5]Munka18!I42/G42 -> 0.66666667 | J42: =[5]Munka18!J42 -> 13 | K42: =[5]Munka18!K42/J42 -> 1 | L42: =[5]Munka18!L42/J42 -> 0.61538462 | M42: =[5]Munka18!M42 -> 7 | P42: =[5]Munka18!P42 -> 0 | Q42: =[5]Munka18!Q42/P42 -> #DIV/0! | R42: =[5]Munka18!R42/P42 -> #DIV/0! | S42: =[5]Munka18!S42 -> 48 | T42: =[5]Munka18!T42/S42 -> 0.83333333 | U42: =[5]Munka18!U42/S42 -> 0.5625
C43: Horticultură | D43: =[5]Munka18!D43 -> 19 | E43: =[5]Munka18!E43/D43 -> 0.73684211 | F43: =[5]Munka18!F43/D43 -> 0.63157895 | G43: =[5]Munka18!G43 -> 25 | H43: =[5]Munka18!H43/G43 -> 0.96 | I43: =[5]Munka18!I43/G43 -> 0.72 | J43: =[5]Munka18!J43 -> 27 | K43: =[5]Munka18!K43/J43 -> 1 | L43: =[5]Munka18!L43/J43 -> 0.88888889 | M43: =[5]Munka18!M43 -> 0 | N43: =[5]Munka18!N43/M43 -> #DIV/0! | O43: =[5]Munka18!O43/M43 -> #DIV/0! | P43: =[5]Munka18!P43 -> 4 | Q43: =[5]Munka18!Q43/P43 -> 0 | R43: =[5]Munka18!R43/P43 -> 0 | S43: =[5]Munka18!S43 -> 75 | T43: =[5]Munka18!T43/S43 -> 0.86666667 | U43: =[5]Munka18!U43/S43 -> 0.72
C44: Traducere și interpretare | D44: =[5]Munka18!D44 -> 8 | E44: =[5]Munka18!E44/D44 -> 0.75 | F44: =[5]Munka18!F44/D44 -> 0 | G44: =[5]Munka18!G44 -> 5 | H44: =[5]Munka18!H44/G44 -> 0.6 | I44: =[5]Munka18!I44/G44 -> 0 | J44: =[5]Munka18!J44 -> 3 | K44: =[5]Munka18!K44/J44 -> 0.66666667 | L44: =[5]Munka18!L44/J44 -> 0 | M44: =[5]Munka18!M44 -> 9 | N44: =[5]Munka18!N44/M44 -> 1 | O44: =[5]Munka18!O44/M44 -> 0.77777778 | P44: =[5]Munka18!P44 -> 2 | Q44: =[5]Munka18!Q44/P44 -> 0 | R44: =[5]Munka18!R44/P44 -> 0 | S44: =[5]Munka18!S44 -> 27 | T44: =[5]Munka18!T44/S44 -> 0.74074074 | U44: =[5]Munka18!U44/S44 -> 0.25925926
C45: Tehnologii şi sisteme de telecomunicaţii | D45: =[5]Munka18!D45 -> 17 | E45: =[5]Munka18!E45/D45 -> 0.52941176 | F45: =[5]Munka18!F45/D45 -> 0.058823529 | G45: =[5]Munka18!G45 -> 10 | H45: =[5]Munka18!H45/G45 -> 0.9 | I45: =[5]Munka18!I45/G45 -> 0.5 | J45: =[5]Munka18!J45 -> 10 | K45: =[5]Munka18!K45/J45 -> 0.8 | L45: =[5]Munka18!L45/J45 -> 0.6 | M45: =[5]Munka18!M45 -> 13 | N45: =[5]Munka18!N45/M45 -> 0.92307692 | O45: =[5]Munka18!O45/M45 -> 0.69230769 | P45: =[5]Munka18!P45 -> 9 | Q45: =[5]Munka18!Q45/P45 -> 0 | R45: =[5]Munka18!R45/P45 -> 0 | S45: =[5]Munka18!S45 -> 59 | T45: =[5]Munka18!T45/S45 -> 0.6440678 | U45: =[5]Munka18!U45/S45 -> 0.3559322
C46: Tehnologia construcţiilor de maşini | D46: =[5]Munka18!D46 -> 19 | E46: =[5]Munka18!E46/D46 -> 0.84210526 | F46: =[5]Munka18!F46/D46 -> 0.68421053 | G46: =[5]Munka18!G46 -> 20 | H46: =[5]Munka18!H46/G46 -> 1 | I46: =[5]Munka18!I46/G46 -> 1 | J46: =[5]Munka18!J46 -> 5 | K46: =[5]Munka18!K46/J46 -> 1 | L46: =[5]Munka18!L46/J46 -> 1 | M46: =[5]Munka18!M46 -> 0 | N46: =[5]Munka18!N46/M46 -> #DIV/0! | O46: =[5]Munka18!O46/M46 -> #DIV/0! | P46: =[5]Munka18!P46 -> 0 | Q46: =[5]Munka18!Q46/P46 -> #DIV/0! | R46: =[5]Munka18!R46/P46 -> #DIV/0! | S46: =[5]Munka18!S46 -> 44 | T46: =[5]Munka18!T46/S46 -> 0.93181818 | U46: =[5]Munka18!U46/S46 -> 0.86363636
C47: Servicii și politici de sănătate publică | D47: =[5]Munka18!D47 -> 26 | E47: =[5]Munka18!E47/D47 -> 0.84615385 | F47: =[5]Munka18!F47/D47 -> 0.53846154 | G47: =[5]Munka18!G47 -> 8 | H47: =[5]Munka18!H47/G47 -> 1 | I47: =[5]Munka18!I47/G47 -> 1 | J47: =[5]Munka18!J47 -> 29 | K47: =[5]Munka18!K47/J47 -> 1 | L47: =[5]Munka18!L47/J47 -> 0.48275862 | M47: =[5]Munka18!M47 -> 22 | P47: =[5]Munka18!P47 -> 4 | Q47: =[5]Munka18!Q47/P47 -> 0 | R47: =[5]Munka18!R47/P47 -> 0.5 | S47: =[5]Munka18!S47 -> 89 | T47: =[5]Munka18!T47/S47 -> 0.91011236 | U47: =[5]Munka18!U47/S47 -> 0.62921348
C48: Peisagistică | D48: =[5]Munka18!D48 -> 0 | E48: =[5]Munka18!E48/D48 -> #DIV/0! | F48: =[5]Munka18!F48/D48 -> #DIV/0! | G48: =[5]Munka18!G48 -> 0 | H48: =[5]Munka18!H48/G48 -> #DIV/0! | I48: =[5]Munka18!I48/G48 -> #DIV/0! | J48: =[5]Munka18!J48 -> 0 | K48: =[5]Munka18!K48/J48 -> #DIV/0! | L48: =[5]Munka18!L48/J48 -> #DIV/0! | M48: =[5]Munka18!M48 -> 0 | N48: =[5]Munka18!N48/M48 -> #DIV/0! | O48: =[5]Munka18!O48/M48 -> #DIV/0! | P48: =[5]Munka18!P48 -> 0 | Q48: =[5]Munka18!Q48/P48 -> #DIV/0! | R48: =[5]Munka18!R48/P48 -> #DIV/0! | S48: =[5]Munka18!S48 -> 0 | T48: =[5]Munka18!T48/S48 -> #DIV/0! | U48: =[5]Munka18!U48/S48 -> #DIV/0!
C49: Agricultură (Sf. Gheorghe)
C50: Total licenţă | D50: =[5]Munka18!D51 -> 28 | E50: =[5]Munka18!E51/D51 -> 0.85714286 | F50: =[5]Munka18!F51/D51 -> 0.67857143 | G50: =[5]Munka18!G51 -> 11 | H50: =[5]Munka18!H51/G51 -> 0.72727273 | I50: =[5]Munka18!I51/G51 -> 0.63636364 | J50: =[5]Munka18!J51 -> 0 | K50: =[5]Munka18!K51/J51 -> #DIV/0! | L50: =[5]Munka18!L51/J51 -> #DIV/0! | M50: =[5]Munka18!M51 -> 0 | N50: =[5]Munka18!N51/M51 -> #DIV/0! | O50: =[5]Munka18!O51/M51 -> #DIV/0! | P50: =[5]Munka18!P51 -> 0 | Q50: =[5]Munka18!Q51/P51 -> #DIV/0! | R50: =[5]Munka18!R51/P51 -> #DIV/0! | S50: =[5]Munka18!S51 -> 39 | T50: =[5]Munka18!T51/S51 -> 0.82051282 | U50: =[5]Munka18!U51/S51 -> 0.66666667
C51: Dezvoltarea aplicaţiilor software | D51: =[5]Munka18!D51 -> 28 | E51: =[5]Munka18!E51/D51 -> 0.85714286 | F51: =[5]Munka18!F51/D51 -> 0.67857143 | G51: =[5]Munka18!G51 -> 11 | H51: =[5]Munka18!H51/G51 -> 0.72727273 | I51: =[5]Munka18!I51/G51 -> 0.63636364 | J51: =[5]Munka18!J51 -> 0 | M51: =[5]Munka18!M51 -> 0 | P51: =[5]Munka18!P51 -> 0 | Q51: =[5]Munka18!Q51/P51 -> #DIV/0! | R51: =[5]Munka18!R51/P51 -> #DIV/0! | S51: =[5]Munka18!S51 -> 39 | T51: =[5]Munka18!T51/S51 -> 0.82051282 | U51: =[5]Munka18!U51/S51 -> 0.66666667
C52: Protecția plantelor; | D52: =[5]Munka18!D52 -> 9 | E52: =[5]Munka18!E52/D52 -> 0.88888889 | F52: =[5]Munka18!F52/D52 -> 0.55555556 | G52: =[5]Munka18!G52 -> 11 | H52: =[5]Munka18!H52/G52 -> 0.90909091 | I52: =[5]Munka18!I52/G52 -> 0.81818182 | J52: =[5]Munka18!J52 -> 0 | M52: =[5]Munka18!M52 -> 0 | P52: =[5]Munka18!P52 -> 3 | Q52: =[5]Munka18!Q52/P52 -> 0 | R52: =[5]Munka18!R52/P52 -> 0.33333333 | S52: =[5]Munka18!S52 -> 23 | T52: =[5]Munka18!T52/S52 -> 0.7826087 | U52: =[5]Munka18!U52/S52 -> 0.65217391
C53: Sisteme mecatronice avansate | D53: =[5]Munka18!D53 -> 6 | E53: =[5]Munka18!E53/D53 -> 0.66666667 | F53: =[5]Munka18!F53/D53 -> 0.66666667 | G53: =[5]Munka18!G53 -> 4 | H53: =[5]Munka18!H53/G53 -> 1 | I53: =[5]Munka18!I53/G53 -> 0.75 | J53: =[5]Munka18!J53 -> 0 | M53: =[5]Munka18!M53 -> 0 | P53: =[5]Munka18!P53 -> 0 | Q53: =[5]Munka18!Q53/P53 -> #DIV/0! | R53: =[5]Munka18!R53/P53 -> #DIV/0! | S53: =[5]Munka18!S53 -> 10 | T53: =[5]Munka18!T53/S53 -> 0.8 | U53: =[5]Munka18!U53/S53 -> 0.7
C54: Sisteme de control inteligente | D54: =[5]Munka18!D54 -> 14 | E54: =[5]Munka18!E54/D54 -> 0.71428571 | F54: =[5]Munka18!F54/D54 -> 0.71428571 | G54: =[5]Munka18!G54 -> 9 | H54: =[5]Munka18!H54/G54 -> 0.88888889 | I54: =[5]Munka18!I54/G54 -> 0.88888889 | J54: =[5]Munka18!J54 -> 0 | M54: =[5]Munka18!M54 -> 0 | P54: =[5]Munka18!P54 -> 1 | Q54: =[5]Munka18!Q54/P54 -> 0 | R54: =[5]Munka18!R54/P54 -> 0 | S54: =[5]Munka18!S54 -> 24 | T54: =[5]Munka18!T54/S54 -> 0.75 | U54: =[5]Munka18!U54/S54 -> 0.75
C55: Total master | D55: =[5]Munka18!D56 -> 340 | E55: =[5]Munka18!E56/D56 -> #DIV/0! | F55: =[5]Munka18!F56/D56 -> #DIV/0! | G55: =[5]Munka18!G56 -> 236 | H55: =[5]Munka18!H56/G56 -> #DIV/0! | I55: =[5]Munka18!I56/G56 -> #DIV/0! | J55: =[5]Munka18!J56 -> 226 | M55: =[5]Munka18!M56 -> 98 | P55: =[5]Munka18!P56 -> 66 | Q55: =[5]Munka18!Q56/P56 -> #DIV/0! | R55: =[5]Munka18!R56/P56 -> #DIV/0! | S55: =[5]Munka18!S56 -> 966 | T55: =[5]Munka18!T56/S56 -> #DIV/0! | U55: =[5]Munka18!U56/S56 -> #DIV/0!
C56: Total Universitate licenţă | D56: =Munka18!D60 -> 0 | E56: =Munka18!E60/D56 -> #DIV/0! | F56: =Munka18!F60/D56 -> #DIV/0! | G56: =Munka18!G60 -> 0 | H56: =Munka18!H60/G56 -> #DIV/0! | I56: =Munka18!I60/G56 -> #DIV/0! | J56: =Munka18!J60 -> 0 | K56: =Munka18!K60/J56 -> #DIV/0! | L56: =Munka18!L60/J56 -> #DIV/0! | M56: =Munka18!M60 -> 0 | N56: =Munka18!N60/M56 -> #DIV/0! | O56: =Munka18!O60/M56 -> #DIV/0! | P56: =Munka18!P60 -> 0 | Q56: =Munka18!Q60/P56 -> #DIV/0! | R56: =Munka18!R60/P56 -> #DIV/0! | S56: =Munka18!S60 -> 0 | T56: =Munka18!T60/S56 -> #DIV/0! | U56: =Munka18!U60/S56 -> #DIV/0!
C57: Total Universitate master | D57: =Munka18!D61 -> 603 | E57: =Munka18!E61/D57 -> 0.52072968 | F57: =Munka18!F61/D57 -> 0.75621891 | G57: =Munka18!G61 -> 451 | H57: =Munka18!H61/G57 -> 0.53658537 | I57: =Munka18!I61/G57 -> 0.79822616 | J57: =Munka18!J61 -> 450 | M57: =Munka18!M61 -> 131 | P57: =Munka18!P61 -> 101 | Q57: =Munka18!Q61/P57 -> 0.1980198 | R57: =Munka18!R61/P57 -> 0.42574257 | S57: =Munka18!S61 -> 1826 | T57: =Munka18!T61/S57 -> 0.49945235 | U57: =Munka18!U61/S57 -> 0.61829135

Sheet Munka20
C3: Media de absolvire şi media de licenţă pe universitate
B4: Facultatea | C4: Programul de studiu de licenţă | D4: Promoția 2025 | G4: Promoția 2024 | J4: Promoția 2023 | M4: Promoția 2022 | P4: Promoția 2021 | S4: Promoţia 2020
D5: Media generală de absolvire | E5: Media examenului de licenţă/ disertaţie | F5: Diferenţa ML-MA | G5: Media generală de absolvire | H5: Media examenului de licenţă/ disertaţie | I5: Diferenţa ML-MA | J5: Media generală de absolvire | K5: Media examenului de licenţă/ disertaţie | L5: Diferenţa ML-MA | M5: Media generală de absolvire | N5: Media examenului de licenţă/ disertaţie | O5: Diferenţa ML-MA | P5: Media generală de absolvire | Q5: Media examenului de licenţă/ disertaţie | R5: Diferenţa ML-MA | S5: Media generală de absolvire | T5: Media examenului de licenţă/ disertaţie | U5: Diferenţa ML-MA
B6: de Ştiinţe şi Arte Cluj-Napoca | C6: Relaţii internaţionale şi studii europene | D6: 8.42 | E6: 8.43 | F6: =E6-D6 -> 0.01 | G6: 8.62 | H6: 8.64 | I6: =H6-G6 -> 0.02 | J6: 8.54 | K6: 8.81 | L6: =K6-J6 -> 0.27 | M6: 8.43 | N6: 8.44 | O6: =N6-M6 -> 0.01 | P6: 8.73 | Q6: 8.92 | R6: =Q6-P6 -> 0.19 | S6: 8 | T6: 8.9 | U6: =T6-S6 -> 0.9
C7: Drept | D7: 7.91 | E7: 8.37 | F7: =E7-D7 -> 0.46 | G7: 8.01 | H7: 8.23 | I7: =H7-G7 -> 0.22 | J7: 7.46 | K7: 7.98 | L7: =K7-J7 -> 0.52 | M7: 7.99 | N7: 8.13 | O7: =N7-M7 -> 0.14 | P7: 8.4 | Q7: 8.29 | R7: =Q7-P7 -> -0.11 | S7: 7.53 | T7: 7.66 | U7: =T7-S7 -> 0.13
C8: Cinematografie, fotografie, media | D8: 8.76 | E8: 8.74 | F8: =E8-D8 -> -0.02 | G8: 8.64 | H8: 9.06 | I8: =H8-G8 -> 0.42 | J8: 8.67 | K8: 8.69 | L8: =K8-J8 -> 0.02 | M8: 8.72 | N8: 8.39 | O8: =N8-M8 -> -0.33 | P8: 8.54 | Q8: 8.5 | R8: =Q8-P8 -> -0.04 | S8: 8.58 | T8: 8.95 | U8: =T8-S8 -> 0.37
C9: Ştiinţa mediului | D9: 8.22 | E9: 9.25 | F9: =E9-D9 -> 1.03 | G9: 8.07 | H9: 8.93 | I9: =H9-G9 -> 0.86 | J9: 7.64 | K9: 9.4 | L9: =K9-J9 -> 1.76 | M9: 8.39 | N9: 9.3 | O9: =N9-M9 -> 0.91 | P9: 7.76 | Q9: 9.25 | R9: =Q9-P9 -> 1.49 | S9: 9.58 | T9: 9.23 | U9: =T9-S9 -> -0.35
C10: Artele spectacolului (coreografie) | D10: 8.52 | E10: 7.9 | F10: =E10-D10 -> -0.62 | G10: 9 | H10: 8.86 | I10: =H10-G10 -> -0.14 | J10: 9.2 | K10: 8.66 | L10: =K10-J10 -> -0.54 | O10: =N10-M10 -> 0 | R10: =Q10-P10 -> 0 | U10: =T10-S10 -> 0
C11: Diplomație și studii interculturale | D11: 8.86 | E11: 9.33 | F11: =E11-D11 -> 0.47 | G11: 9.03 | H11: 9.67 | I11: =H11-G11 -> 0.64 | J11: 9.37 | K11: 9.06 | L11: =K11-J11 -> -0.31 | M11: 9.31 | N11: 9.5 | O11: =N11-M11 -> 0.19 | P11: 9.17 | Q11: 9.86 | R11: =Q11-P11 -> 0.69 | S11: 8.91 | T11: 9.37 | U11: =T11-S11 -> 0.46
C12: Carieră judiciară | D12: 7.15 | E12: 9.88 | F12: =E12-D12 -> 2.73 | G12: 8.4 | H12: 9.56 | I12: =H12-G12 -> 1.16 | J12: 8.31 | K12: 9.86 | L12: =K12-J12 -> 1.55 | O12: =N12-M12 -> 0 | R12: =Q12-P12 -> 0 | U12: =T12-S12 -> 0
C13: Studii de film | D13: 9.63 | E13: 10 | F13: =E13-D13 -> 0.37 | G13: 9.14 | H13: 9.33 | I13: =H13-G13 -> 0.19 | J13: 8.88 | K13: 8.94 | L13: =K13-J13 -> 0.06 | M13: 9.2 | N13: 9.09 | O13: =N13-M13 -> -0.11 | P13: 9.15 | Q13: 8.95 | R13: =Q13-P13 -> -0.2 | S13: 9.16 | T13: 8.34 | U13: =T13-S13 -> -0.82
C14: Protecția și monitorizarea mediului | D14: 8.7 | E14: 8.6 | F14: =E14-D14 -> -0.1 | G14: 8.07 | H14: 8.93 | I14: =H14-G14 -> 0.86 | J14: 9.29 | K14: 10 | L14: =K14-J14 -> 0.71 | M14: 9.41 | N14: 9.65 | O14: =N14-M14 -> 0.24 | P14: 8.98 | Q14: 9.5 | R14: =Q14-P14 -> 0.52 | S14: 9.48 | T14: 10 | U14: =T14-S14 -> 0.52
B15: de Științe Economice, Socio-Umane și Inginerești din Miercurea Ciuc | C15: Contabilitate şi informatică de gestiune | D15: 8.17 | E15: 8.01 | F15: =E15-D15 -> -0.16 | G15: 8.1 | H15: 9.21 | I15: =H15-G15 -> 1.11 | J15: 7.99 | K15: 8.89 | L15: =K15-J15 -> 0.9 | M15: 8.4 | N15: 9.13 | O15: =N15-M15 -> 0.73 | P15: 7.83 | Q15: 9.28 | R15: =Q15-P15 -> 1.45 | S15: 7.9184211 | T15: 9.1084211 | U15: 1.19
C16: Economie generală | D16: 8.68 | E16: 9.06 | F16: =E16-D16 -> 0.38 | G16: 7.46 | H16: 8.97 | I16: =H16-G16 -> 1.51 | J16: 7.92 | K16: 8.95 | L16: =K16-J16 -> 1.03 | M16: 8.01 | N16: 8.86 | O16: =N16-M16 -> 0.85 | P16: 7.92 | Q16: 9.37 | R16: =Q16-P16 -> 1.45 | S16: 7.3427273 | T16: 8.7590909 | U16: 1.4163636
C17: Economie agroalimentară | D17: 8.34 | E17: 9.48 | F17: =E17-D17 -> 1.14 | G17: 7.8 | H17: 9.08 | I17: =H17-G17 -> 1.28 | J17: 7.65 | K17: 9.27 | L17: =K17-J17 -> 1.62 | M17: 7.79 | N17: 9.12 | O17: =N17-M17 -> 1.33 | P17: 7.63 | Q17: 9.08 | R17: =Q17-P17 -> 1.45 | S17: 7.57875 | T17: 8.8271429 | U17: 1.2483929
C18: Marketing | D18: 7.92 | E18: 8.63 | F18: =E18-D18 -> 0.71 | G18: 7.87 | H18: 8.69 | I18: =H18-G18 -> 0.82 | J18: 7.77 | K18: 9 | L18: =K18-J18 -> 1.23 | M18: 8.06 | N18: 9.49 | O18: =N18-M18 -> 1.43 | P18: 7.41 | Q18: 8.81 | R18: =Q18-P18 -> 1.4 | S18: 7.68 | T18: 8.996 | U18: 1.316
C19: Informatică economică | D19: 7.97 | E19: 8.83 | F19: =E19-D19 -> 0.86 | G19: 8.11 | H19: 8.84 | I19: =H19-G19 -> 0.73 | J19: 7.91 | K19: 8.55 | L19: =K19-J19 -> 0.64 | M19: 8.16 | N19: 8.66 | O19: =N19-M19 -> 0.5 | P19: 7.97 | Q19: 8.8 | R19: =Q19-P19 -> 0.83 | S19: 8.0866667 | T19: 7.63 | U19: -0.45666667
C20: Comunicare și relații publice | D20: 9.049 | E20: 9.232 | F20: =E20-D20 -> 0.183 | G20: 8.85 | H20: 8.71 | I20: =H20-G20 -> -0.14 | J20: 8.55 | K20: 8.96 | L20: =K20-J20 -> 0.41 | M20: 9.12 | N20: 9.32 | O20: =N20-M20 -> 0.2 | P20: 8.74 | Q20: 8.77 | R20: =Q20-P20 -> 0.03 | S20: 7.71 | T20: 8.31 | U20: 0.6
C21: Sociologie | D21: 8.977 | E21: 8.788 | F21: =E21-D21 -> -0.189 | G21: 8.88 | H21: 8.83 | I21: =H21-G21 -> -0.05 | J21: 8.84 | K21: 9.06 | L21: =K21-J21 -> 0.22 | M21: 8.78 | N21: 8.82 | O21: =N21-M21 -> 0.04 | P21: 8.77 | Q21: 8.83 | R21: =Q21-P21 -> 0.06 | S21: 8.19 | T21: 8.21 | U21: 0.02
C22: Resurse umane | D22: 8.95 | E22: 8.894 | F22: =E22-D22 -> -0.056 | G22: 9.08 | H22: 9.45 | I22: =H22-G22 -> 0.37 | J22: 9.68 | K22: 9.44 | L22: =K22-J22 -> -0.24 | M22: 9.17 | N22: 9.21 | O22: =N22-M22 -> 0.04 | P22: 8.9 | Q22: 9.18 | R22: =Q22-P22 -> 0.28 | S22: 9.06 | T22: 9.17 | U22: 0.11
C23: Lb. şi lit. rom. – lb. şi lit. eng. | D23: 7.25 | E23: 8.18 | F23: =E23-D23 -> 0.93 | G23: 7.33 | H23: 7.84 | I23: =H23-G23 -> 0.51 | J23: 7.89 | K23: 8.26 | L23: =K23-J23 -> 0.37 | M23: 8.11 | N23: 8.3 | O23: =N23-M23 -> 0.19 | P23: 8.13 | Q23: 8.77 | R23: =Q23-P23 -> 0.64 | S23: 7.52 | T23: 7.6066667 | U23: 0.086666667
C24: Lit. univ. şi comp. – lb. şi lit. eng. | D24: 7.85 | E24: 7.89 | F24: =E24-D24 -> 0.04 | G24: 8.71 | H24: 9 | I24: =H24-G24 -> 0.29 | J24: 8.52 | K24: 8.6 | L24: =K24-J24 -> 0.08 | M24: 8.61 | N24: 8.69 | O24: =N24-M24 -> 0.08 | P24: 8.41 | Q24: 8.66 | R24: =Q24-P24 -> 0.25 | S24: 8.0666667 | T24: 8.5383333 | U24: 0.47166667
C25: Ingineria produselor alimentare | D25: 7.819 | E25: 9.335 | F25: =E25-D25 -> 1.516 | G25: 8.59 | H25: 9.54 | I25: =H25-G25 -> 0.95 | J25: 8.19 | K25: 9.11 | L25: =K25-J25 -> 0.92 | M25: 7.7 | N25: 9.33 | O25: =N25-M25 -> 1.63 | P25: 7.69 | Q25: 8.22 | R25: =Q25-P25 -> 0.53 | S25: 7.83 | T25: 8.09 | U25: 0.26
C26: Inginerie genetică | D26: 7.875 | E26: 9.253 | F26: =E26-D26 -> 1.378 | G26: 8.84 | H26: 9.61 | I26: =H26-G26 -> 0.77 | J26: 8.54 | K26: 9.57 | L26: =K26-J26 -> 1.03 | M26: 8.26 | N26: 9.7 | O26: =N26-M26 -> 1.44 | P26: 8.51 | Q26: 9.93 | R26: =Q26-P26 -> 1.42 | S26: 8.82 | T26: 9.87 | U26: 1.05
C27: Inginerie și management în alimentație publică și agroturism | D27: 8.65 | E27: 9.205 | F27: =E27-D27 -> 0.555 | G27: 8.69 | H27: 9.42 | I27: =H27-G27 -> 0.73 | J27: 8.49 | K27: 9.5 | L27: =K27-J27 -> 1.01 | M27: 7.91 | N27: 8.5 | O27: =N27-M27 -> 0.59 | P27: 8.04 | Q27: 8.09 | R27: =Q27-P27 -> 0.05 | S27: 7.39 | T27: 8.55 | U27: 1.16
... C32: Comunicare şi relaţii publice | D32: 9.36 | E32: 9.278 | F32: =E32-D32 -> -0.082 | G32: 9.38 | H32: 9.44 | I32: =H32-G32 -> 0.06 | J32: 8.95 | K32: 9.15 | L32: =K32-J32 -> 0.2 | M32: 9.31 | N32: 9.5 | O32: =N32-M32 -> 0.19 | P32: 9.21 | Q32: 9.08 | R32: =Q32-P32 -> -0.13 | S32: 8.94 | T32: 9.15 | U32: 0.32
B33: de Științe Tehnice și Umaniste din Tg. Mureș | C33: Informatică | D33: 7.89 | E33: 7.77 | F33: =E33-D33 -> -0.12 | G33: 8.08 | H33: 8.48 | I33: =H33-G33 -> 0.4 | J33: 7.71 | K33: 7.98 | L33: =K33-J33 -> 0.27 | M33: 8.0907317 | N33: 8.15 | O33: =N33-M33 -> 0.059268293 | P33: 7.7679487 | Q33: 8.16 | R33: =Q33-P33 -> 0.39205128 | S33: 8.06 | T33: 8.59 | U33: =T33-S33 -> 0.53
C34: Mecatronică | D34: 8.01 | E34: 8.8 | F34: =E34-D34 -> 0.79 | G34: 8.3 | H34: 8.59 | I34: =H34-G34 -> 0.29 | J34: 7.82 | K34: 8.47 | L34: =K34-J34 -> 0.65 | M34: 7.676 | N34: 8.59 | O34: =N34-M34 -> 0.914 | P34: 7.985 | Q34: 8.7 | R34: =Q34-P34 -> 0.715 | S34: 7.94 | T34: 9.37 | U34: =T34-S34 -> 1.43
C35: Calculatoare | D35: 7.97 | E35: 8.67 | F35: =E35-D35 -> 0.7 | G35: 7.6 | H35: 8.61 | I35: =H35-G35 -> 1.01 | J35: 7.77 | K35: 8.33 | L35: =K35-J35 -> 0.56 | M35: 8.0614286 | N35: 8.88 | O35: =N35-M35 -> 0.81857143 | P35: 7.7175 | Q35: 8.79 | R35: =Q35-P35 -> 1.0725 | S35: 7.94 | T35: 8.66 | U35: =T35-S35 -> 0.72
C36: Automatică şi informatică aplicată | D36: 7.41 | E36: 8.75 | F36: =E36-D36 -> 1.34 | G36: 7.82 | H36: 8.72 | I36: =H36-G36 -> 0.9 | J36: 7.45 | K36: 8.46 | L36: =K36-J36 -> 1.01 | M36: 8.0764286 | N36: 9.08 | O36: =N36-M36 -> 1.0035714 | P36: 7.8422222 | Q36: 8.95 | R36: =Q36-P36 -> 1.1077778 | S36: 7.36 | T36: 8.76 | U36: =T36-S36 -> 1.4
C37: Comunicații și relații publice | D37: 8.62 | E37: 8.68 | F37: =E37-D37 -> 0.06 | G37: 8.44 | H37: 7.87 | I37: =H37-G37 -> -0.57 | J37: 8.65 | K37: 8.5 | L37: =K37-J37 -> -0.15 | M37: 8.8640741 | N37: 8.9662963 | O37: =N37-M37 -> 0.10222222 | P37: 8.15 | Q37: 8.1576471 | R37: =Q37-P37 -> 0.0076470588 | S37: 8.6 | T37: 8.1 | U37: =T37-S37 -> -0.5
C38: Horticultură | D38: 8.73 | E38: 9.02 | F38: =E38-D38 -> 0.29 | G38: 8.49 | H38: 8.84 | I38: =H38-G38 -> 0.35 | J38: 7.91 | K38: 8.39 | L38: =K38-J38 -> 0.48 | M38: 8.0991667 | N38: 8.43 | O38: =N38-M38 -> 0.33083333 | P38: 7.9872727 | Q38: 8.9745455 | R38: =Q38-P38 -> 0.98727273 | S38: 7.83 | T38: 8.86 | U38: =T38-S38 -> 1.03
C39: Traducere și interpretare | D39: 8.52 | E39: 8.54 | F39: =E39-D39 -> 0.02 | G39: 8.24 | H39: 8.49 | I39: =H39-G39 -> 0.25 | J39: 8.39 | K39: 8.09 | L39: =K39-J39 -> -0.3 | M39: 8.3580556 | N39: 8.2520588 | O39: =N39-M39 -> -0.10599673 | P39: 8.5714815 | Q39: 8.47 | R39: =Q39-P39 -> -0.10148148 | S39: 8.27 | T39: 8.17 | U39: =T39-S39 -> -0.1
C40: Tehnologii şi sisteme de telecomunicaţii | D40: 7.7 | E40: 7.87 | F40: =E40-D40 -> 0.17 | G40: 7.69 | H40: 7.94 | I40: =H40-G40 -> 0.25 | J40: 6.73 | K40: 7.5 | L40: =K40-J40 -> 0.77 | M40: 7.68 | N40: 8.56 | O40: =N40-M40 -> 0.88 | P40: 7.4633333 | Q40: 8.35 | R40: =Q40-P40 -> 0.88666667 | S40: 6.81 | T40: 8.83 | U40: =T40-S40 -> 2.02
C41: Tehnologia construcţiilor de maşini | D41: 8.18 | E41: 8.81 | F41: =E41-D41 -> 0.63 | G41: 8.13 | H41: 8.13 | I41: =H41-G41 -> 0 | J41: 7.41 | K41: 7.55 | L41: =K41-J41 -> 0.14 | M41: 7.47875 | N41: 7.59 | O41: =N41-M41 -> 0.11125 | P41: 7.7585714 | Q41: 8.06 | R41: =Q41-P41 -> 0.30142857 | S41: 7.72 | T41: 8.5 | U41: =T41-S41 -> 0.78
C42: Servicii și politici de sănătate publică | D42: 8.6 | E42: 7.57 | F42: =E42-D42 -> -1.03 | G42: 8.46 | H42: 8.07 | I42: =H42-G42 -> -0.39 | J42: 8.51 | K42: 7.84 | L42: =K42-J42 -> -0.67 | M42: 8.7094737 | N42: 7.34 | O42: =N42-M42 -> -1.3694737 | P42: 8.6838971 | Q42: 8.22 | R42: =Q42-P42 -> -0.46389706 | S42: 8.49 | T42: 8.28 | U42: =T42-S42 -> -0.21
C43: Peisagistică | D43: 8.63 | E43: 8.35 | F43: =E43-D43 -> -0.28 | G43: 8.55 | H43: 8.46 | I43: =H43-G43 -> -0.09 | J43: 8.58 | K43: 8.4 | L43: =K43-J43 -> -0.18 | M43: 8.2744444 | N43: 8.1711111 | O43: =N43-M43 -> -0.10333333 | P43: 8.3814286 | Q43: 8.5892308 | R43: =Q43-P43 -> 0.2078022 | S43: 8.13 | T43: 7.97 | U43: =T43-S43 -> -0.16
C44: Agricultură (Sf. Gheorghe) | F44: =E44-D44 -> 0 | I44: =H44-G44 -> 0 | J44: 7.96 | K44: 8.58 | L44: =K44-J44 -> 0.62 | M44: 7.828 | N44: 8.65 | O44: =N44-M44 -> 0.822 | P44: 7.9666667 | Q44: 8.4155556 | R44: =Q44-P44 -> 0.44888889
C45: Dezvoltarea aplicaţiilor software | D45: 9.1 | E45: 8.61 | F45: =E45-D45 -> -0.49 | G45: 8.79 | H45: 8.73 | I45: =H45-G45 -> -0.06 | J45: 8.79 | K45: 8.72 | L45: =K45-J45 -> -0.07 | M45: 9.002 | N45: 8.629 | O45: =N45-M45 -> -0.373 | P45: 9.3506667 | Q45: 8.5973333 | R45: =Q45-P45 -> -0.75333333 | S45: 8.53 | T45: 9 | U45: =T45-S45 -> 0.47
C46: Protecția plantelor; | D46: 9.21 | E46: 9.52 | F46: =E46-D46 -> 0.31 | G46: 9.55 | H46: 9.61 | I46: =H46-G46 -> 0.06 | J46: 9.34 | K46: 9.61 | L46: =K46-J46 -> 0.27 | M46: 9.3992308 | N46: 9.7863636 | O46: =N46-M46 -> 0.38713287 | P46: 9.2175 | Q46: 10 | R46: =Q46-P46 -> 0.7825 | S46: 9.06 | T46: 10 | U46: =T46-S46 -> 0.94
C47: Sisteme mecatronice avansate | D47: 9.48 | E47: 9.66 | F47: =E47-D47 -> 0.18 | G47: 9.3 | H47: 10 | I47: =H47-G47 -> 0.7 | J47: 8.92 | K47: 9.66 | L47: =K47-J47 -> 0.74 | M47: 8.6755556 | N47: 8.92 | O47: =N47-M47 -> 0.24444444 | P47: 9.13375 | Q47: 9 | R47: =Q47-P47 -> -0.13375 | S47: 8.65 | T47: 9 | U47: =T47-S47 -> 0.35
C48: Sisteme de control inteligente | D48: 8.68 | E48: 8.25 | F48: =E48-D48 -> -0.43 | G48: 9.33 | H48: 9.41 | I48: =H48-G48 -> 0.08 | J48: 9.82 | K48: 9.83 | L48: =K48-J48 -> 0.01 | M48: 8.3525 | N48: 8.75 | O48: =N48-M48 -> 0.3975 | P48: 9.508 | Q48: 9.68 | R48: =Q48-P48 -> 0.172 | S48: 9.11 | T48: 9.7 | U48: =T48-S48 -> 0.59

Sheet Munka21
C2: Situația comparativă a burselor la nivel de programe și facultăți în semestrul I al anului universitar 2025/2026
B3: Facultatea | C3: Programul de studiu | D3: Anul de studii | E3: Studenți înscriși | F3: Burse de merit | H3: Burse de studii | J3: Burse sociale | L3: Burse ocazionale/speciale | N3: Total | S3: Burse merit | T3: Burse studii | U3: Burse sociale | V3: Total
E4: I | F4: Bm | G4: B% (Bm/I*100) | H4: BSt | I4: B% (BSt/I*100) | J4: BS | K4: B% (BS/I*100) | L4: BO | M4: B% (BO/I*100) | N4: BT (Bm+BSt+BS+BO) | O4: B% (BT/I*100) | R4: FSA | S4: 0.0342 | T4: 0.1056 | U4: 0.1087 | V4: 0.2484
B5: de Științe și Arte din Cluj-Napoca | C5: Relaţii internaţionale şi studii europene | D5: I | E5: 12 | F5: 0 | G5: =F5/E5 -> 0 | H5: 1 | I5: =H5/E5 -> 0.083333333 | J5: 0 | K5: =J5/E5 -> 0 | L5: 0 | M5: =L5/E59 -> 0 | N5: =SUM(F5+H5+J5+L5) -> 1 | O5: =(F5+H5+J5+L5)/E5 -> 0.083333333 | R5: FSESUI | S5: 0.0378 | T5: 9,88% | U5: 11,10% | V5: 0.2476
D6: II | E6: 14 | F6: 0 | G6: =F6/E6 -> 0 | H6: 1 | I6: =H6/E6 -> 0.071428571 | J6: 1 | K6: =J6/E6 -> 0.071428571 | L6: 0 | M6: =L6/E60 -> 0 | N6: =SUM(F6+H6+J6+L6) -> 2 | O6: =(F6+H6+J6+L6)/E6 -> 0.14285714 | R6: FSTU | S6: 0.0071 | T6: 0.1318 | U6: 0.0941 | V6: 0.2459
D7: III | E7: 16 | F7: 0 | G7: =F7/E7 -> 0 | H7: 2 | I7: =H7/E7 -> 0.125 | J7: 0 | K7: =J7/E7 -> 0 | L7: 0 | M7: =L7/E61 -> 0 | N7: =SUM(F7+H7+J7+L7) -> 2 | O7: =(F7+H7+J7+L7)/E7 -> 0.125
D8: Total | E8: =SUM(E5:E7) -> 42 | F8: =SUM(F5:F7) -> 0 | G8: =F8/E8 -> 0 | H8: =SUM(H5:H7) -> 4 | I8: =H8/E8 -> 0.095238095 | J8: =SUM(J5:J7) -> 1 | K8: =J8/E8 -> 0.023809524 | L8: =SUM(L5:L7) -> 0 | M8: =L8/E62 -> 0 | N8: =SUM(N5:N7) -> 5 | O8: =(F8+H8+J8+L8)/E8 -> 0.11904762
C9: Drept | D9: I | E9: 30 | F9: 0 | G9: =F9/E9 -> 0 | H9: 4 | I9: =H9/E9 -> 0.13333333 | J9: 4 | K9: =J9/E9 -> 0.13333333 | L9: 0 | M9: =L9/E63 -> 0 | N9: =SUM(F9+H9+J9+L9) -> 8 | O9: =(F9+H9+J9+L9)/E9 -> 0.26666667
D10: II | E10: 28 | F10: 1 | G10: =F10/E10 -> 0.035714286 | H10: 3 | I10: =H10/E10 -> 0.10714286 | J10: 3 | K10: =J10/E10 -> 0.10714286 | L10: 0 | M10: =L10/E64 -> 0 | N10: =SUM(F10+H10+J10+L10) -> 7 | O10: =(F10+H10+J10+L10)/E10 -> 0.25
D11: III | E11: 26 | F11: 1 | G11: =F11/E11 -> 0.038461538 | H11: 3 | I11: =H11/E11 -> 0.11538462 | J11: 3 | K11: =J11/E11 -> 0.11538462 | L11: 0 | M11: =L11/E65 -> 0 | N11: =SUM(F11+H11+J11+L11) -> 7 | O11: =(F11+H11+J11+L11)/E11 -> 0.26923077
D12: IV | E12: 30 | F12: 1 | G12: =F12/E12 -> 0.033333333 | H12: 0 | I12: =H12/E12 -> 0 | J12: 4 | K12: =J12/E12 -> 0.13333333 | L12: 0 | M12: =L12/E66 -> 0 | N12: =SUM(F12+H12+J12+L12) -> 5 | O12: =(F12+H12+J12+L12)/E12 -> 0.16666667
D13: Total | E13: =SUM(E9:E12) -> 114 | F13: =SUM(F9:F12) -> 3 | G13: =F13/E13 -> 0.026315789 | H13: =SUM(H9:H12) -> 10 | I13: =H13/E13 -> 0.087719298 | J13: =SUM(J9:J12) -> 14 | K13: =J13/E13 -> 0.12280702 | L13: =SUM(L9:L12) -> 0 | M13: =L13/E67 -> 0 | N13: =SUM(N9:N12) -> 27 | O13: =(F13+H13+J13+L13)/E13 -> 0.23684211
C14: Cinematografie, fotografie, media | D14: I | E14: 20 | F14: 0 | G14: =F14/E14 -> 0 | H14: 2 | I14: =H14/E14 -> 0.1 | J14: 3 | K14: =J14/E14 -> 0.15 | L14: 0 | M14: =L14/E68 -> 0 | N14: =SUM(F14+H14+J14+L14) -> 5 | O14: =(F14+H14+J14+L14)/E14 -> 0.25
D15: II | E15: 19 | F15: 1 | G15: =F15/E15 -> 0.052631579 | H15: 2 | I15: =H15/E15 -> 0.10526316 | J15: 2 | K15: =J15/E15 -> 0.10526316 | L15: 0 | M15: =L15/E69 -> 0 | N15: =SUM(F15+H15+J15+L15) -> 5 | O15: =(F15+H15+J15+L15)/E15 -> 0.26315789
D16: III | E16: 19 | F16: 1 | G16: =F16/E16 -> 0.052631579 | H16: 2 | I16: =H16/E16 -> 0.10526316 | J16: 4 | K16: =J16/E16 -> 0.21052632 | L16: 0 | M16: =L16/E70 -> 0 | N16: =SUM(F16+H16+J16+L16) -> 7 | O16: =(F16+H16+J16+L16)/E16 -> 0.36842105
D17: Total | E17: =SUM(E14:E16) -> 58 | F17: =SUM(F14:F16) -> 2 | G17: =F17/E17 -> 0.034482759 | H17: =SUM(H14:H16) -> 6 | I17: =H17/E17 -> 0.10344828 | J17: =SUM(J14:J16) -> 9 | K17: =J17/E17 -> 0.15517241 | L17: =SUM(L14:L16) -> 0 | M17: =L17/E71 -> 0 | N17: =SUM(N14:N16) -> 17 | O17: =(F17+H17+J17+L17)/E17 -> 0.29310345
C18: Artele spectacolului | D18: I | E18: 14 | F18: 0 | G18: =F18/E18 -> 0 | H18: 1 | I18: =H18/E18 -> 0.071428571 | J18: 0 | K18: =J18/E18 -> 0 | L18: 0 | M18: =L18/E72 -> 0 | N18: =SUM(F18+H18+J18+L18) -> 1 | O18: =(F18+H18+J18+L18)/E18 -> 0.071428571
D19: II | E19: 15 | F19: 1 | G19: =F19/E19 -> 0.066666667 | H19: 2 | I19: =H19/E19 -> 0.13333333 | J19: 2 | K19: =J19/E19 -> 0.13333333 | L19: 0 | M19: =L19/E73 -> 0 | N19: =SUM(F19+H19+J19+L19) -> 5 | O19: =(F19+H19+J19+L19)/E19 -> 0.33333333
D20: III | E20: 9 | F20: 1 | G20: =F20/E20 -> 0.11111111 | H20: 1 | I20: =H20/E20 -> 0.11111111 | J20: 2 | K20: =J20/E20 -> 0.22222222 | L20: 0 | M20: =L20/E74 -> 0 | N20: =SUM(F20+H20+J20+L20) -> 4 | O20: =(F20+H20+J20+L20)/E20 -> 0.44444444
D21: Total | E21: =SUM(E18:E20) -> 38 | F21: =SUM(F18:F20) -> 2 | G21: =F21/E21 -> 0.052631579 | H21: =SUM(H18:H20) -> 4 | I21: =H21/E21 -> 0.10526316 | J21: =SUM(J18:J20) -> 4 | K21: =J21/E21 -> 0.10526316 | L21: =SUM(L18:L20) -> 0 | M21: =L21/E75 -> 0 | N21: =SUM(N18:N20) -> 10 | O21: =(F21+H21+J21+L21)/E21 -> 0.26315789
C22: Ştiinţa mediului | D22: I | E22: 4 | F22: 0 | G22: =F22/E22 -> 0 | H22: 1 | I22: =H22/E22 -> 0.25 | J22: 0 | K22: =J22/E22 -> 0 | L22: 0 | M22: =L22/E72 -> 0 | N22: =SUM(F22+H22+J22+L22) -> 1 | O22: =(F22+H22+J22+L22)/E22 -> 0.25
D23: II | E23: 8 | F23: 1 | G23: =F23/E23 -> 0.125 | H23: 1 | I23: =H23/E23 -> 0.125 | J23: 2 | K23: =J23/E23 -> 0.25 | L23: 0 | M23: =L23/E73 -> 0 | N23: =SUM(F23+H23+J23+L23) -> 4 | O23: =(F23+H23+J23+L23)/E23 -> 0.5
D24: III | E24: 1 | F24: 0 | G24: =F24/E24 -> 0 | H24: 1 | I24: =H24/E24 -> 1 | J24: 0 | K24: =J24/E24 -> 0 | L24: 0 | M24: =L24/E74 -> 0 | N24: =SUM(F24+H24+J24+L24) -> 1 | O24: =(F24+H24+J24+L24)/E24 -> 1
D25: Total | E25: =SUM(E22:E24) -> 13 | F25: =SUM(F22:F24) -> 1 | G25: =F25/E25 -> 0.076923077 | H25: =SUM(H22:H24) -> 3 | I25: =H25/E25 -> 0.23076923 | J25: =SUM(J22:J24) -> 2 | K25: =J25/E25 -> 0.15384615 | L25: =SUM(L22:L24) -> 0 | M25: =L25/E75 -> 0 | N25: =SUM(N22:N24) -> 6 | O25: =(F25+H25+J25+L25)/E25 -> 0.46153846
C26: Total facultate licenţă | E26: =E8+E13+E17+E21+E25 -> 265 | F26: =F8+F13+F17+F21+F25 -> 8 | G26: =F26/E26 -> 0.030188679 | H26: =SUM(H25,H21,H17,H13,H8) -> 27 | I26: =H26/E26 -> 0.10188679 | J26: =SUM(J25,J21,J17,J13,J8) -> 30 | K26: =J26/E26 -> 0.11320755 | L26: 0 | M26: =L26/E76 -> 0 | N26: =SUM(N8,N13,N17,N21,N25) -> 65 | O26: =(F26+H26+J26+L26)/E26 -> 0.24528302
C27: Diplomație și studii interculturale | D27: I | E27: 0 | F27: 0 | G27: =F27/E27 -> #DIV/0! | H27: 0 | I27: =H27/E27 -> #DIV/0! | J27: 0 | K27: =J27/E27 -> #DIV/0! | L27: 0 | M27: =L27/E77 -> 0 | N27: =SUM(F27+H27+J27+L27) -> 0 | O27: =(F27+H27+J27+L27)/E27 -> #DIV/0!
D28: II | E28: 7 | F28: 1 | G28: =F28/E28 -> 0.14285714 | H28: 1 | I28: =H28/E28 -> 0.14285714 | J28: 0 | K28: =J28/E28 -> 0 | L28: 0 | M28: =L28/E78 -> 0 | N28: =SUM(F28+H28+J28+L28) -> 2 | O28: =(F28+H28+J28+L28)/E28 -> 0.28571429
D29: Total | E29: =SUM(E27:E28) -> 7 | F29: =SUM(F27:F28) -> 1 | G29: =F29/E29 -> 0.14285714 | H29: =SUM(H27:H28) -> 1 | I29: =H29/E29 -> 0.14285714 | J29: =SUM(J27:J28) -> 0 | K29: =J29/E29 -> 0 | L29: =SUM(L27:L28) -> 0 | M29: =L29/E79 -> 0 | N29: =SUM(N27:N28) -> 2 | O29: =(F29+H29+J29+L29)/E29 -> 0.28571429
C30: Relaţii internaţionale şi geopolitică | D30: I | E30: 13 | F30: 0 | G30: =F30/E30 -> 0 | H30: 1 | I30: =H30/E30 -> 0.076923077 | J30: 1 | K30: =J30/E30 -> 0.076923077 | L30: 0 | M30: =L30/E80 -> 0 | N30: =SUM(F30+H30+J30+L30) -> 2 | O30: =(F30+H30+J30+L30)/E30 -> 0.15384615
D31: II | E31: 0 | F31: 0 | G31: =F31/E31 -> #DIV/0! | H31: 0 | I31: =H31/E31 -> #DIV/0! | J31: 0 | K31: =J31/E31 -> #DIV/0! | L31: 0 | M31: =L31/E81 -> 0 | N31: =SUM(F31+H31+J31+L31) -> 0 | O31: =(F31+H31+J31+L31)/E31 -> #DIV/0!
D32: Total | E32: =SUM(E30:E31) -> 13 | F32: =SUM(F30:F31) -> 0 | G32: =F32/E32 -> 0 | H32: =SUM(H30:H31) -> 1 | I32: =H32/E32 -> 0.076923077 | J32: =SUM(J30:J31) -> 1 | K32: =J32/E32 -> 0.076923077 | L32: =SUM(L30:L31) -> 0 | M32: =L32/E82 -> 0 | N32: =SUM(N30:N31) -> 2 | O32: =(F32+H32+J32+L32)/E32 -> 0.15384615
C33: Studii de film | D33: I | E33: 8 | F33: 0 | G33: =F33/E33 -> 0 | H33: 1 | I33: =H33/E33 -> 0.125 | J33: 1 | K33: =J33/E33 -> 0.125 | L33: 0 | M33: =L33/E80 -> 0 | N33: =SUM(F33+H33+J33+L33) -> 2 | O33: =(F33+H33+J33+L33)/E33 -> 0.25
D34: II | E34: 8 | F34: 1 | G34: =F34/E34 -> 0.125 | H34: 2 | I34: =H34/E34 -> 0.25 | J34: 0 | K34: =J34/E34 -> 0 | L34: 0 | M34: =L34/E81 -> 0 | N34: =SUM(F34+H34+J34+L34) -> 3 | O34: =(F34+H34+J34+L34)/E34 -> 0.375
D35: Total | E35: =SUM(E33:E34) -> 16 | F35: =SUM(F33:F34) -> 1 | G35: =F35/E35 -> 0.0625 | H35: =SUM(H33:H34) -> 3 | I35: =H35/E35 -> 0.1875 | J35: =SUM(J33:J34) -> 1 | K35: =J35/E35 -> 0.0625 | L35: =SUM(L33:L34) -> 0 | M35: =L35/E82 -> 0 | N35: =SUM(N33:N34) -> 5 | O35: =(F35+H35+J35+L35)/E35 -> 0.3125
C36: Protecţia şi monitorizarea mediului | D36: I | E36: 5 | F36: 0 | G36: =F36/E36 -> 0 | H36: 1 | I36: =H36/E36 -> 0.2 | J36: 1 | K36: =J36/E36 -> 0.2 | L36: 0 | M36: =L36/E83 -> 0 | N36: =SUM(F36+H36+J36+L36) -> 2 | O36: =(F36+H36+J36+L36)/E36 -> 0.4
D37: II | E37: 4 | F37: 1 | G37: =F37/E37 -> 0.25 | H37: 0 | I37: =H37/E37 -> 0 | J37: 0 | K37: =J37/E37 -> 0 | L37: 0 | M37: =L37/E84 -> 0 | N37: =SUM(F37+H37+J37+L37) -> 1 | O37: =(F37+H37+J37+L37)/E37 -> 0.25
D38: Total | E38: =SUM(E36:E37) -> 9 | F38: =SUM(F36:F37) -> 1 | G38: =F38/E38 -> 0.11111111 | H38: =SUM(H36:H37) -> 1 | I38: =H38/E38 -> 0.11111111 | J38: =SUM(J36:J37) -> 1 | K38: =J38/E38 -> 0.11111111 | L38: =SUM(L36:L37) -> 0 | M38: =L38/E85 -> 0 | N38: =SUM(N36:N37) -> 3 | O38: =(F38+H38+J38+L38)/E38 -> 0.33333333
C39: Carieră judiciară | D39: I | E39: 12 | F39: 0 | G39: =F39/E39 -> 0 | H39: 1 | I39: =H39/E39 -> 0.083333333 | J39: 2 | K39: =J39/E39 -> 0.16666667 | L39: 0 | M39: =L39/E86 -> 0 | N39: =SUM(F39+H39+J39+L39) -> 3 | O39: =(F39+H39+J39+L39)/E39 -> 0.25
D40: Total | E40: =E39 -> 12 | F40: =F39 -> 0 | G40: =F40/E40 -> 0 | H40: =H39 -> 1 | I40: =H40/E40 -> 0.083333333 | J40: =J39 -> 2 | K40: =J40/E40 -> 0.16666667 | L40: =L39 -> 0 | M40: =L40/E87 -> 0 | N40: =N39 -> 3 | O40: =(F40+H40+J40+L40)/E40 -> 0.25
C41: Total facultate master | E41: =E29+E32+E35+E38+E40 -> 57 | F41: =F29+F35+F32+F38+F40 -> 3 | G41: =F41/E41 -> 0.052631579 | H41: =H29+H35+H32+H38+H40 -> 7 | I41: =H41/E41 -> 0.12280702 | J41: =J29+J32+J35+J38+J40 -> 5 | K41: =J41/E41 -> 0.087719298 | L41: =L29+L35+L38+L40 -> 0 | M41: =L41/E86 -> 0 | N41: =N29+N35+N38+N40 -> 13 | O41: =(F41+H41+J41+L41)/E41 -> 0.26315789
C42: TOTAL facultate | E42: =E26+E41 -> 322 | F42: =F26+F41 -> 11 | G42: =F42/E42 -> 0.034161491 | H42: =SUM(H26,H41) -> 34 | I42: =H42/E42 -> 0.10559006 | J42: =SUM(J26,J41) -> 35 | K42: =J42/E42 -> 0.10869565 | L42: =SUM(L26,L41) -> 0 | M42: =L42/E42 -> 0 | N42: =SUM(N26,N41) -> 78 | O42: =(F42+H42+J42+L42)/E42 -> 0.2484472
B43: de Științe Economice, Socio-Umane și Inginerești din Miercurea Ciuc | C43: Contabilitate și informatică de gestiune | D43: I | E43: 38 | F43: 0 | G43: =F43/E43 -> 0 | H43: 5 | I43: =H43/E43 -> 0.13157895 | J43: 4 | K43: =J43/E43 -> 0.10526316 | L43: 0 | M43: =L43/E43 -> 0 | N43: =F43+H43+J43+L43 -> 9 | O43: =(F43+H43+J43+L43)/E43 -> 0.23684211
D44: II | E44: 18 | F44: 1 | G44: =F44/E44 -> 0.055555556 | H44: 2 | I44: =H44/E44 -> 0.11111111 | J44: 4 | K44: =J44/E44 -> 0.22222222 | L44: 0 | M44: =L44/E44 -> 0 | N44: =F44+H44+J44+L44 -> 7 | O44: =(F44+H44+J44+L44)/E44 -> 0.38888889
D45: III | E45: 11 | F45: 1 | G45: =F45/E45 -> 0.090909091 | H45: 0 | I45: =H45/E45 -> 0 | J45: 1 | K45: =J45/E45 -> 0.090909091 | L45: 0 | M45: =L45/E45 -> 0 | N45: =F45+H45+J45+L45 -> 2 | O45: =(F45+H45+J45+L45)/E45 -> 0.18181818
D46: Total | E46: =SUM(E43:E45) -> 67 | F46: =SUM(F43:F45) -> 2 | G46: =F46/E46 -> 0.029850746 | H46: =SUM(H43:H45) -> 7 | I46: =H46/E46 -> 0.10447761 | J46: =SUM(J43:J45) -> 9 | K46: =J46/E46 -> 0.13432836 | L46: =SUM(L43:L45) -> 0 | M46: =L46/E46 -> 0 | N46: =F46+H46+J46+L46 -> 18 | O46: =(F46+H46+J46+L46)/E46 -> 0.26865672
C47: Economie agroalimentară | D47: I
D48: II | E48: 12 | F48: 1 | G48: =F48/E48 -> 0.083333333 | H48: 0 | I48: =H48/E48 -> 0 | J48: 1 | K48: =J48/E48 -> 0.083333333 | L48: 0 | M48: =L48/E48 -> 0 | N48: =F48+H48+J48+L48 -> 2 | O48: =(F48+H48+J48+L48)/E48 -> 0.16666667
D49: III | E49: 10 | F49: 1 | G49: =F49/E49 -> 0.1 | H49: 1 | I49: =H49/E49 -> 0.1 | J49: 3 | K49: =J49/E49 -> 0.3 | L49: 0 | M49: =L49/E49 -> 0 | N49: =F49+H49+J49+L49 -> 5 | O49: =(F49+H49+J49+L49)/E49 -> 0.5
D50: Total | E50: =SUM(E47:E49) -> 22 | F50: =SUM(F47:F49) -> 2 | G50: =F50/E50 -> 0.090909091 | H50: =SUM(H47:H49) -> 1 | I50: =H50/E50 -> 0.045454545 | J50: =SUM(J47:J49) -> 4 | K50: =J50/E50 -> 0.18181818 | L50: =SUM(L47:L49) -> 0 | M50: =L50/E50 -> 0 | N50: =F50+H50+J50+L50 -> 7 | O50: =(F50+H50+J50+L50)/E50 -> 0.31818182
C51: Economie generală | D51: I | E51: 44 | F51: 0 | G51: =F51/E51 -> 0 | H51: 5 | I51: =H51/E51 -> 0.11363636 | J51: 8 | K51: =J51/E51 -> 0.18181818 | L51: 0 | M51: =L51/E51 -> 0 | N51: =F51+H51+J51+L51 -> 13 | O51: =(F51+H51+J51+L51)/E51 -> 0.29545455
D52: II | E52: 30 | F52: 1 | G52: =F52/E52 -> 0.033333333 | H52: 3 | I52: =H52/E52 -> 0.1 | J52: 4 | K52: =J52/E52 -> 0.13333333 | L52: 0 | M52: =L52/E52 -> 0 | N52: =F52+H52+J52+L52 -> 8 | O52: =(F52+H52+J52+L52)/E52 -> 0.26666667
D53: III | E53: 20 | F53: 1 | G53: =F53/E53 -> 0.05 | H53: 3 | I53: =H53/E53 -> 0.15 | J53: 2 | K53: =J53/E53 -> 0.1 | L53: 0 | M53: =L53/E53 -> 0 | N53: =F53+H53+J53+L53 -> 6 | O53: =(F53+H53+J53+L53)/E53 -> 0.3
D54: Total | E54: =SUM(E51:E53) -> 94 | F54: =SUM(F51:F53) -> 2 | G54: =F54/E54 -> 0.021276596 | H54: =SUM(H51:H53) -> 11 | I54: =H54/E54 -> 0.11702128 | J54: =SUM(J51:J53) -> 14 | K54: =J54/E54 -> 0.14893617 | L54: =SUM(L51:L53) -> 0 | M54: =L54/E54 -> 0 | N54: =F54+H54+J54+L54 -> 27 | O54: =(F54+H54+J54+L54)/E54 -> 0.28723404
C55: Marketing | D55: I | E55: 18 | F55: 0 | G55: =F55/E55 -> 0 | H55: 2 | I55: =H55/E55 -> 0.11111111 | J55: 1 | K55: =J55/E55 -> 0.055555556 | L55: 0 | M55: =L55/E55 -> 0 | N55: =F55+H55+J55+L55 -> 3 | O55: =(F55+H55+J55+L55)/E55 -> 0.16666667
D56: II | E56: 21 | F56: 1 | G56: =F56/E56 -> 0.047619048 | H56: 1 | I56: =H56/E56 -> 0.047619048 | J56: 0 | K56: =J56/E56 -> 0 | L56: 0 | M56: =L56/E56 -> 0 | N56: =F56+H56+J56+L56 -> 2 | O56: =(F56+H56+J56+L56)/E56 -> 0.095238095
D57: III | E57: 9 | F57: 1 | G57: =F57/E57 -> 0.11111111 | H57: 0 | I57: =H57/E57 -> 0 | J57: 1 | K57: =J57/E57 -> 0.11111111 | L57: 0 | M57: =L57/E57 -> 0 | N57: =F57+H57+J57+L57 -> 2 | O57: =(F57+H57+J57+L57)/E57 -> 0.22222222
D58: Total | E58: =SUM(E55:E57) -> 48 | F58: =SUM(F55:F57) -> 2 | G58: =F58/E58 -> 0.041666667 | H58: =SUM(H55:H57) -> 3 | I58: =H58/E58 -> 0.0625 | J58: =SUM(J55:J57) -> 2 | K58: =J58/E58 -> 0.041666667 | L58: =SUM(L55:L57) -> 0 | M58: =L58/E58 -> 0 | N58: =F58+H58+J58+L58 -> 7 | O58: =(F58+H58+J58+L58)/E58 -> 0.14583333
C59: Informatică economică | D59: I | E59: 23 | F59: 0 | G59: =F59/E59 -> 0 | H59: 3 | I59: =H59/E59 -> 0.13043478 | J59: 1 | K59: =J59/E59 -> 0.043478261 | L59: 0 | M59: =L59/E59 -> 0 | N59: =F59+H59+J59+L59 -> 4 | O59: =(F59+H59+J59+L59)/E59 -> 0.17391304
D60: II | E60: 19 | F60: 1 | G60: =F60/E60 -> 0.052631579 | H60: 1 | I60: =H60/E60 -> 0.052631579 | J60: 2 | K60: =J60/E60 -> 0.10526316 | L60: 0 | M60: =L60/E60 -> 0 | N60: =F60+H60+J60+L60 -> 4 | O60: =(F60+H60+J60+L60)/E60 -> 0.21052632
D61: III | E61: 22 | F61: 1 | G61: =F61/E61 -> 0.045454545 | H61: 2 | I61: =H61/E61 -> 0.090909091 | J61: 1 | K61: =J61/E61 -> 0.045454545 | L61: 0 | M61: =L61/E61 -> 0 | N61: =F61+H61+J61+L61 -> 4 | O61: =(F61+H61+J61+L61)/E61 -> 0.18181818
D62: Total | E62: =SUM(E59:E61) -> 64 | F62: =SUM(F59:F61) -> 2 | G62: =F62/E62 -> 0.03125 | H62: =SUM(H59:H61) -> 6 | I62: =H62/E62 -> 0.09375 | J62: =SUM(J59:J61) -> 4 | K62: =J62/E62 -> 0.0625 | L62: =SUM(L59:L61) -> 0 | M62: =L62/E62 -> 0 | N62: =F62+H62+J62+L62 -> 12 | O62: =(F62+H62+J62+L62)/E62 -> 0.1875
C63: Comunicare şi relaţii publice | D63: I | E63: 19 | F63: 0 | G63: =F63/E63 -> 0 | H63: 2 | I63: =H63/E63 -> 0.10526316 | J63: 2 | K63: =J63/E63 -> 0.10526316 | L63: 0 | M63: 0 | N63: =L63+J63+H63+F63 -> 4 | O63: =(F63+H63+J63+L63)/E63 -> 0.21052632
D64: II | E64: 16 | F64: 1 | G64: =F64/E64 -> 0.0625 | H64: 1 | I64: =H64/E64 -> 0.0625 | J64: 3 | K64: =J64/E64 -> 0.1875 | L64: 0 | M64: 0 | N64: =L64+J64+H64+F64 -> 5 | O64: =(F64+H64+J64+L64)/E64 -> 0.3125
D65: III | E65: 10 | F65: 1 | G65: =F65/E65 -> 0.1 | H65: 1 | I65: =H65/E65 -> 0.1 | J65: 0 | K65: =J65/E65 -> 0 | L65: 0 | M65: 0 | N65: =L65+J65+H65+F65 -> 2 | O65: =(F65+H65+J65+L65)/E65 -> 0.2
D66: TOTAL | E66: =SUM(E63:E65) -> 45 | F66: =SUM(F63:F65) -> 2 | G66: =F66/E66 -> 0.044444444 | H66: =SUM(H63:H65) -> 4 | I66: =H66/E66 -> 0.088888889 | J66: =SUM(J63:J65) -> 5 | K66: =SUM(K63:K65) -> 0.29276316 | L66: =SUM(L63:L65) -> 0 | M66: =L66/E66 -> 0 | N66: =F66+H66+J66+L66 -> 11 | O66: =(F66+H66+J66+L66)/E66 -> 0.24444444
C67: Sociologie | D67: I | E67: 16 | F67: 0 | G67: =F67/E67 -> 0 | H67: 2 | I67: =H67/E67 -> 0.125 | J67: 5 | K67: =J67/E67 -> 0.3125 | L67: 0 | M67: 0 | N67: =L67+J67+H67+F67 -> 7 | O67: =(F67+H67+J67+L67)/E67 -> 0.4375
D68: II | E68: 11 | F68: 1 | G68: =F68/E68 -> 0.090909091 | H68: 0 | I68: =H68/E68 -> 0 | J68: 1 | K68: =J68/E68 -> 0.090909091 | L68: 0 | M68: 0 | N68: =L68+J68+H68+F68 -> 2 | O68: =(F68+H68+J68+L68)/E68 -> 0.18181818
D69: III | E69: 5 | F69: 0 | G69: =F69/E69 -> 0 | H69: 1 | I69: =H69/E69 -> 0.2 | J69: 1 | K69: =J69/E69 -> 0.2 | L69: 0 | M69: 0 | N69: =L69+J69+H69+F69 -> 2 | O69: =(F69+H69+J69+L69)/E69 -> 0.4
D70: Total | E70: =SUM(E67:E69) -> 32 | F70: =SUM(F67:F69) -> 1 | G70: =F70/E70 -> 0.03125 | H70: =SUM(H67:H69) -> 3 | I70: =H70/E70 -> 0.09375 | J70: =SUM(J67:J69) -> 7 | K70: =J70/E70 -> 0.21875 | L70: =SUM(L67:L69) -> 0 | M70: =L70/E70 -> 0 | N70: =F70+H70+J70+L70 -> 11 | O70: =(F70+H70+J70+L70)/E70 -> 0.34375
C71: Resurse umane | D71: I | E71: 11 | F71: 0 | G71: =F71/E71 -> 0 | H71: 1 | I71: =H71/E71 -> 0.090909091 | J71: 1 | K71: =J71/E71 -> 0.090909091 | L71: 0 | M71: 0 | N71: =L71+J71+H71+F71 -> 2 | O71: =(F71+H71+J71+L71)/E71 -> 0.18181818
D72: II | E72: 7 | F72: 1 | G72: =F72/E72 -> 0.14285714 | H72: 0 | I72: =H72/E72 -> 0 | J72: 2 | K72: =J72/E72 -> 0.28571429 | L72: 0 | M72: 0 | N72: =L72+J72+H72+F72 -> 3 | O72: =(F72+H72+J72+L72)/E72 -> 0.42857143
D73: III | E73: 6 | F73: 1 | G73: =F73/E73 -> 0.16666667 | H73: 0 | I73: =H73/E73 -> 0 | J73: 0 | K73: =J73/E73 -> 0 | L73: 0 | M73: 0 | N73: =L73+J73+H73+F73 -> 1 | O73: =(F73+H73+J73+L73)/E73 -> 0.16666667
D74: Total | E74: =SUM(E71:E73) -> 24 | F74: =SUM(F71:F73) -> 2 | G74: =F74/E74 -> 0.083333333 | H74: =SUM(H71:H73) -> 1 | I74: =H74/E74 -> 0.041666667 | J74: =SUM(J71:J73) -> 3 | K74: =J74/E74 -> 0.125 | L74: =SUM(L71:L73) -> 0 | M74: =L74/E74 -> 0 | N74: =F74+H74+J74+L74 -> 6 | O74: =(F74+H74+J74+L74)/E74 -> 0.25
C75: Limba și literatura română -limba și literatura engleză | D75: I | E75: 18 | F75: 0 | G75: =F75/E75 -> 0 | H75: 2 | I75: =H75/E75 -> 0.11111111 | J75: 2 | K75: =J75/E75 -> 0.11111111 | L75: 0 | M75: =L75/E75 -> 0 | N75: =F75+H75+J75+L75 -> 4 | O75: =(F75+H75+J75+L75)/E75 -> 0.22222222
D76: II | E76: 7 | F76: 0 | G76: =F76/E76 -> 0 | H76: 2 | I76: =H76/E76 -> 0.28571429 | J76: 0 | K76: =J76/E76 -> 0 | L76: 0 | M76: =L76/E76 -> 0 | N76: =F76+H76+J76+L76 -> 2 | O76: =(F76+H76+J76+L76)/E76 -> 0.28571429
D77: III | E77: 7 | F77: 1 | G77: =F77/E77 -> 0.14285714 | H77: 0 | I77: =H77/E77 -> 0 | J77: 0 | K77: =J77/E77 -> 0 | L77: 0 | M77: =L77/E77 -> 0 | N77: =F77+H77+J77+L77 -> 1 | O77: =(F77+H77+J77+L77)/E77 -> 0.14285714
D78: TOTAL | E78: =SUM(E75:E77) -> 32 | F78: =SUM(F75:F77) -> 1 | G78: =F78/E78 -> 0.03125 | H78: =SUM(H75:H77) -> 4 | I78: =H78/E78 -> 0.125 | J78: =SUM(J75:J77) -> 2 | K78: =J78/E78 -> 0.0625 | L78: =SUM(L75:L77) -> 0 | M78: =L78/E78 -> 0 | N78: =F78+H78+J78+L78 -> 7 | O78: =(F78+H78+J78+L78)/E78 -> 0.21875
C79: Literatură universală comparată -limba și literatura engleză | D79: I | E79: 16 | F79: 0 | G79: =F79/E79 -> 0 | H79: 2 | I79: =H79/E79 -> 0.125 | J79: 3 | K79: =J79/E79 -> 0.1875 | L79: 0 | M79: =L79/E79 -> 0 | N79: =F79+H79+J79+L79 -> 5 | O79: =(F79+H79+J79+L79)/E79 -> 0.3125
D80: II | E80: 16 | F80: 1 | G80: =F80/E80 -> 0.0625 | H80: 1 | I80: =H80/E80 -> 0.0625 | J80: 1 | K80: =J80/E80 -> 0.0625 | L80: 0 | M80: =L80/E80 -> 0 | N80: =F80+H80+J80+L80 -> 3 | O80: =(F80+H80+J80+L80)/E80 -> 0.1875
D81: III | E81: 13 | F81: 1 | G81: =F81/E81 -> 0.076923077 | H81: 0 | I81: =H81/E81 -> 0 | J81: 0 | K81: =J81/E81 -> 0 | L81: 0 | M81: =L81/E81 -> 0 | N81: =F81+H81+J81+L81 -> 1 | O81: =(F81+H81+J81+L81)/E81 -> 0.076923077
D82: TOTAL | E82: =SUM(E79:E81) -> 45 | F82: =SUM(F79:F81) -> 2 | G82: =F82/E82 -> 0.044444444 | H82: =SUM(H79:H81) -> 3 | I82: =H82/E82 -> 0.066666667 | J82: =SUM(J79:J81) -> 4 | K82: =J82/E82 -> 0.088888889 | L82: =SUM(L79:L81) -> 0 | M82: =L82/E82 -> 0 | N82: =F82+H82+J82+L82 -> 9 | O82: =(F82+H82+J82+L82)/E82 -> 0.2
C83: Ingineria produselor alimentare | D83: I | E83: 19 | F83: 0 | G83: =F83/E83 -> 0 | H83: 3 | I83: =H83/E83 -> 0.15789474 | J83: 1 | K83: =J83/E83 -> 0.052631579 | L83: 0 | M83: 0 | N83: =L83+J83+H83+F83 -> 4 | O83: =(F83+H83+J83+L83)/E83 -> 0.21052632
D84: II | E84: 13 | F84: 1 | G84: =F84/E84 -> 0.076923077 | H84: 1 | I84: =H84/E84 -> 0.076923077 | J84: 1 | K84: =J84/E84 -> 0.076923077 | L84: 0 | M84: 0 | N84: =L84+J84+H84+F84 -> 3 | O84: =(F84+H84+J84+L84)/E84 -> 0.23076923
D85: III | E85: 11 | F85: 0 | G85: =F85/E85 -> 0 | H85: 1 | I85: =H85/E85 -> 0.090909091 | J85: 1 | K85: =J85/E85 -> 0.090909091 | L85: 0 | M85: 0 | N85: =L85+J85+H85+F85 -> 2 | O85: =(F85+H85+J85+L85)/E85 -> 0.18181818
D86: IV | E86: 16 | F86: 1 | G86: =F86/E86 -> 0.0625 | H86: 1 | I86: =H86/E86 -> 0.0625 | J86: 1 | K86: =J86/E86 -> 0.0625 | L86: 0 | M86: 0 | N86: =L86+J86+H86+F86 -> 3 | O86: =(F86+H86+J86+L86)/E86 -> 0.1875
D87: TOTAL | E87: =SUM(E83:E86) -> 59 | F87: =SUM(F83:F86) -> 2 | G87: =F87/E87 -> 0.033898305 | H87: =SUM(H83:H86) -> 6 | I87: =H87/E87 -> 0.10169492 | J87: =SUM(J83:J86) -> 4 | K87: =J87/E87 -> 0.06779661 | L87: =SUM(L83:L86) -> 0 | M87: =L87/E87 -> 0 | N87: =F87+H87+J87+L87 -> 12 | O87: =(F87+H87+J87+L87)/E87 -> 0.20338983
C88: Inginerie și management în alimentație publică și agroturism | D88: I | E88: 19 | F88: 0 | G88: =F88/E88 -> 0 | H88: 2 | I88: =H88/E88 -> 0.10526316 | J88: 3 | K88: =J88/E88 -> 0.15789474 | L88: 0 | M88: 0 | N88: =L88+J88+H88+F88 -> 5 | O88: =(F88+H88+J88+L88)/E88 -> 0.26315789
D89: II | E89: 10 | F89: 1 | G89: =F89/E89 -> 0.1 | H89: 0 | I89: =H89/E89 -> 0 | J89: 3 | K89: =J89/E89 -> 0.3 | L89: 0 | M89: 0 | N89: =L89+J89+H89+F89 -> 4 | O89: =(F89+H89+J89+L89)/E89 -> 0.4
D90: III | E90: 11 | F90: 1 | G90: =F90/E90 -> 0.090909091 | H90: 0 | I90: =H90/E90 -> 0 | J90: 2 | K90: =J90/E90 -> 0.18181818 | L90: 0 | M90: 0 | N90: =L90+J90+H90+F90 -> 3 | O90: =(F90+H90+J90+L90)/E90 -> 0.27272727
D91: IV | E91: 6 | F91: 1 | G91: =F91/E91 -> 0.16666667 | H91: 1 | I91: =H91/E91 -> 0.16666667 | J91: 0 | K91: =J91/E91 -> 0 | L91: 0 | M91: 0 | N91: =L91+J91+H91+F91 -> 2 | O91: =(F91+H91+J91+L91)/E91 -> 0.33333333
D92: TOTAL | E92: =SUM(E88:E91) -> 46 | F92: =SUM(F88:F91) -> 3 | G92: =F92/E92 -> 0.065217391 | H92: =SUM(H88:H91) -> 3 | I92: =H92/E92 -> 0.065217391 | J92: =SUM(J88:J91) -> 8 | K92: =J92/E92 -> 0.17391304 | L92: =SUM(L88:L91) -> 0 | M92: =L92/E92 -> 0 | N92: =F92+H92+J92+L92 -> 14 | O92: =(F92+H92+J92+L92)/E92 -> 0.30434783
C93: Educație fizică și sportivă | D93: I | E93: 24 | F93: 0 | G93: =F93/E93 -> 0 | H93: 3 | I93: =H93/E93 -> 0.125 | J93: 0 | K93: =J93/E93 -> 0 | L93: 0 | M93: 0 | N93: =L93+J93+H93+F93 -> 3 | O93: =(F93+H93+J93+L93)/E93 -> 0.125
D94: II | E94: 21 | F94: 1 | G94: =F94/E94 -> 0.047619048 | H94: 2 | I94: =H94/E94 -> 0.095238095 | J94: 2 | K94: =J94/E94 -> 0.095238095 | L94: 0 | M94: 0 | N94: =L94+J94+H94+F94 -> 5 | O94: =(F94+H94+J94+L94)/E94 -> 0.23809524
D95: III
D96: TOTAL | E96: =SUM(E93:E95) -> 45 | F96: =SUM(F93:F95) -> 1 | G96: =F96/E96 -> 0.022222222 | H96: =SUM(H93:H95) -> 5 | I96: =H96/E96 -> 0.11111111 | J96: =SUM(J93:J95) -> 2 | K96: =J96/E96 -> 0.044444444 | L96: =SUM(L93:L95) -> 0 | M96: =L96/E96 -> 0 | N96: =F96+H96+J96+L96 -> 8 | O96: =(F96+H96+J96+L96)/E96 -> 0.17777778
C97: Inginerie genetică | D97: I | E97: 21 | F97: 0 | G97: =F97/E97 -> 0 | H97: 2 | I97: =H97/E97 -> 0.095238095 | J97: 3 | K97: =J97/E97 -> 0.14285714 | L97: 0 | M97: 0 | N97: =L97+J97+H97+F97 -> 5 | O97: =(F97+H97+J97+L97)/E97 -> 0.23809524
D98: II | E98: 9 | F98: 1 | G98: =F98/E98 -> 0.11111111 | H98: 0 | I98: =H98/E98 -> 0 | J98: 0 | K98: =J98/E98 -> 0 | L98: 0 | M98: 0 | N98: =L98+J98+H98+F98 -> 1 | O98: =(F98+H98+J98+L98)/E98 -> 0.11111111
D99: III | E99: 7 | F99: 1 | G99: =F99/E99 -> 0.14285714 | H99: 0 | I99: =H99/E99 -> 0 | J99: 2 | K99: =J99/E99 -> 0.28571429 | L99: 0 | M99: =L99/E99 -> 0 | N99: =L99+J99+H99+F99 -> 3 | O99: =(F99+H99+J99+L99)/E99 -> 0.42857143
D100: IV | E100: 16 | F100: 1 | G100: =F100/E100 -> 0.0625 | H100: 1 | I100: =H100/E100 -> 0.0625 | J100: 0 | K100: =J100/E100 -> 0 | L100: 0 | M100: =L100/E100 -> 0 | N100: =L100+J100+H100+F100 -> 2 | O100: =(F100+H100+J100+L100)/E100 -> 0.125
D101: TOTAL | E101: =SUM(E97:E100) -> 53 | F101: =SUM(F97:F100) -> 3 | G101: =F101/E101 -> 0.056603774 | H101: =SUM(H97:H100) -> 3 | I101: =H101/E101 -> 0.056603774 | J101: =SUM(J97:J100) -> 5 | K101: =J101/E101 -> 0.094339623 | L101: =SUM(L97:L100) -> 0 | M101: =L101/E101 -> 0 | N101: =F101+H101+J101+L101 -> 11 | O101: =(F101+H101+J101+L101)/E101 -> 0.20754717
...

Sheet Munka22
B3: Gradul de mulţumire a studenţilor din ultimul an de studiu cu activitatea didactică în anul 2025 (Se prelucrează răspunsurile de la punctul 6. al Chestionarului)
B4: Facultatea | C4: Programul de studiu | D4: Nr. total studenţi din ultimul an de studiu | E4: Studenţi evaluaţi | G4: Foarte mulţumiţi | I4: Mulţumiţi | K4: Mediu mulţumiţi | M4: Nemulţumiţi | R4: Studenti evaluați | S4: Foarte multumiti | T4: Multumiti | U4: Mediu multumiti | V4: Nemultumiti
E5: Nr | F5: % | G5: Nr | H5: % | I5: Nr | J5: % | K5: Nr | L5: % | M5: Nr | N5: % | Q5: FSA | R5: 0.23 | S5: 0.26 | T5: 0.52 | U5: 0.15 | V5: 0.07
B6: de Ştiinţe şi Arte Cluj-Napoca | C6: Relaţii internaţionale şi studii europene | D6: 12 | E6: =SUM(G6,I6,K6,M6) -> 4 | F6: =E6/D6 -> 0.33333333 | G6: 3 | H6: =G6/E6 -> 0.75 | I6: 1 | J6: =I6/E6 -> 0.25 | L6: =K6/E6 -> 0 | N6: =M6/E6 -> 0 | Q6: FSESUI | R6: 0.5842 | S6: 0.6871 | T6: 0.2822 | U6: 0.0123 | V6: 0.0184
D7: 12 | E7: =SUM(G7,I7,K7,M7) -> 3 | F7: =E7/D7 -> 0.25 | G7: 1 | H7: =G7/E7 -> 0.33333333 | I7: 1 | J7: =I7/E7 -> 0.33333333 | K7: 1 | L7: =K7/E7 -> 0.33333333 | N7: =M7/E7 -> 0 | Q7: FSVS | R7: 0.64 | S7: 0.39 | T7: 0.61 | U7: 0 | V7: 0
C8: Drept | D8: 24 | E8: =SUM(G8,I8,K8,M8) -> 4 | F8: =E8/D8 -> 0.16666667 | H8: =G8/E8 -> 0 | I8: 3 | J8: =I8/E8 -> 0.75 | K8: 1 | L8: =K8/E8 -> 0.25 | N8: =M8/E8 -> 0 | Q8: FSTU | R8: 0.176 | S8: 0.109 | T8: 0.783 | U8: 10,80% | V8: 0
C9: Cinematografie, fotografie, media | D9: 6 | E9: =SUM(G9,I9,K9,M9) -> 1 | F9: =E9/D9 -> 0.16666667 | H9: =G9/E9 -> 0 | J9: =I9/E9 -> 0 | K9: 1 | L9: =K9/E9 -> 1 | N9: =M9/E9 -> 0 | Q9: Total U | R9: 40,75% | S9: 0.3615 | T9: 0.5488 | U9: 6,75% | V9: 2,21%
C10: Ştiinţa mediului | D10: 13 | E10: =SUM(G10,I10,K10,M10) -> 1 | F10: =E10/D10 -> 0.076923077 | H10: =G10/E10 -> 0 | J10: =I10/E10 -> 0 | K10: 1 | L10: =K10/E10 -> 1 | N10: =M10/E10 -> 0
C11: Coreografie | D11: =SUM(D6:D10) -> 67 | E11: =SUM(E6:E10) -> 13 | F11: =E11/D11 -> 0.19402985 | G11: =SUM(G6:G10) -> 4 | H11: =G11/E11 -> 0.30769231 | I11: =SUM(I6:I10) -> 5 | J11: =I11/E11 -> 0.38461538 | K11: =SUM(K6:K10) -> 4 | L11: =K11/E11 -> 0.30769231 | M11: =SUM(M6:M10) -> 0 | N11: =M11/E11 -> 0
C12: Total licenţă | D12: 2 | E12: =SUM(G12,I12,K12,M12) -> 1 | F12: =E12/D12 -> 0.5 | H12: =G12/E12 -> 0 | I12: 1 | J12: =I12/E12 -> 1 | L12: =K12/E12 -> 0 | N12: =M12/E12 -> 0
D13: 4 | E13: =SUM(G13,I13,K13,M13) -> 1 | F13: =E13/D13 -> 0.25 | H13: =G13/E13 -> 0 | J13: =I13/E13 -> 0 | L13: =K13/E13 -> 0 | M13: 1 | N13: =M13/E13 -> 1
C14: Diplomație și studii interculturale | D14: 1 | E14: =SUM(G14,I14,K14,M14) -> 1 | F14: =E14/D14 -> 1 | H14: =G14/E14 -> 0 | I14: 1 | J14: =I14/E14 -> 1 | L14: =K14/E14 -> 0 | N14: =M14/E14 -> 0
C15: Studii de film | D15: 11 | E15: =SUM(G15,I15,K15,M15) -> 2 | F15: =E15/D15 -> 0.18181818 | G15: 1 | H15: =G15/E15 -> 0.5 | I15: 1 | J15: =I15/E15 -> 0.5 | L15: =K15/E15 -> 0 | N15: =M15/E15 -> 0
C16: Protecția și monitorizarea mediului | D16: =SUM(D12:D15) -> 18 | E16: =SUM(E12:E15) -> 5 | F16: =E16/D16 -> 0.27777778 | G16: =SUM(G12:G15) -> 1 | H16: =G16/E16 -> 0.2 | I16: =SUM(I12:I15) -> 3 | J16: =I16/E16 -> 0.6 | K16: =SUM(K12:K15) -> 0 | L16: =K16/E16 -> 0 | M16: =SUM(M12:M15) -> 1 | N16: =M16/E16 -> 0.2
C17: Cariera judiciara | D17: =D11+D16 -> 85 | E17: =E11+E16 -> 18 | F17: =E17/D17 -> 0.21176471 | G17: =G11+G16 -> 5 | H17: =G17/E17 -> 0.27777778 | I17: =I11+I16 -> 8 | J17: =I17/E17 -> 0.44444444 | K17: =K11+K16 -> 4 | L17: =K17/E17 -> 0.22222222 | M17: =M11+M16 -> 1 | N17: =M17/E17 -> 0.055555556
C18: Total master | D18: =SUM(D14:D17) -> 115 | E18: =SUM(E14:E17) -> 26 | F18: =E18/D18 -> 0.22608696 | G18: =SUM(G14:G17) -> 7 | H18: =G18/E18 -> 0.26923077 | I18: =SUM(I14:I17) -> 13 | J18: =I18/E18 -> 0.5 | K18: =SUM(K14:K17) -> 4 | L18: =K18/E18 -> 0.15384615 | M18: =SUM(M14:M17) -> 2 | N18: =M18/E18 -> 0.076923077
C19: TOTAL Facultate | D19: =D12+D18 -> 117 | E19: =E12+E18 -> 27 | F19: =E19/D19 -> 0.23076923 | G19: =G12+G18 -> 7 | H19: =G19/E19 -> 0.25925926 | I19: =I12+I18 -> 14 | J19: =I19/E19 -> 0.51851852 | K19: =K12+K18 -> 4 | L19: =K19/E19 -> 0.14814815 | M19: =M12+M18 -> 2 | N19: =M19/E19 -> 0.074074074
B20: de Știinte Economice, Socio-Umane și Inginerești din Miercurea Ciuc | C20: Contabilitate şi informatică de gestiune | D20: 20 | E20: 11 | F20: =E20/D20 -> 0.55 | G20: 10 | H20: =G20/E20 -> 0.90909091 | I20: 1 | J20: =I20/E20 -> 0.090909091 | K20: 0 | L20: =K20/E20 -> 0 | M20: 0 | N20: =M20/E20 -> 0
C21: Economie generală | D21: 12 | E21: 7 | F21: =E21/D21 -> 0.58333333 | G21: 5 | H21: =G21/E21 -> 0.71428571 | I21: 2 | J21: =I21/E21 -> 0.28571429 | K21: 0 | L21: =K21/E21 -> 0 | M21: 0 | N21: =M21/E21 -> 0
C22: Economie agroalimentară | D22: 10 | E22: 6 | F22: =E22/D22 -> 0.6 | G22: 4 | H22: =G22/E22 -> 0.66666667 | I22: 2 | J22: =I22/E22 -> 0.33333333 | K22: 0 | L22: =K22/E22 -> 0 | M22: 0 | N22: =M22/E22 -> 0
C23: Marketing | D23: 21 | E23: 16 | F23: =E23/D23 -> 0.76190476 | G23: 13 | H23: =G23/E23 -> 0.8125 | I23: 3 | J23: =I23/E23 -> 0.1875 | K23: 0 | L23: =K23/E23 -> 0 | M23: 0 | N23: =M23/E23 -> 0
C24: Informatică economică | D24: 24 | E24: 11 | F24: =E24/D24 -> 0.45833333 | G24: 9 | H24: =G24/E24 -> 0.81818182 | I24: 1 | J24: =I24/E24 -> 0.090909091 | K24: 1 | L24: =K24/E24 -> 0.090909091 | M24: 0 | N24: =M24/E24 -> 0
C25: Comunicare și relații publice | D25: 21 | E25: 12 | F25: =E25/D25 -> 0.57142857 | G25: 6 | H25: =G25/E25 -> 0.5 | I25: 6 | J25: =I25/E25 -> 0.5 | K25: 0 | L25: =K25/E25 -> 0 | M25: 0 | N25: =M25/E25 -> 0
C26: Sociologie | D26: 12 | E26: 7 | F26: =E26/D26 -> 0.58333333 | G26: 7 | H26: =G26/E26 -> 1 | I26: 0 | J26: =I26/E26 -> 0 | K26: 0 | L26: =K26/E26 -> 0 | M26: 0 | N26: =M26/E26 -> 0
C27: Resurse umane | D27: 11 | E27: 8 | F27: =E27/D27 -> 0.72727273 | G27: 3 | H27: =G27/E27 -> 0.375 | I27: 5 | J27: =I27/E27 -> 0.625 | K27: 0 | L27: =K27/E27 -> 0 | M27: 0 | N27: =M27/E27 -> 0
C28: Lb. şi lit. rom. – lb. şi lit. eng. | D28: 12 | E28: 7 | F28: =E28/D28 -> 0.58333333 | G28: 6 | H28: =G28/E28 -> 0.85714286 | I28: 1 | J28: =I28/E28 -> 0.14285714 | K28: 0 | L28: =K28/E28 -> 0 | M28: 0 | N28: =M28/E28 -> 0
C29: Lit. univ. şi comp. – lb. şi lit. eng. | D29: 12 | E29: 5 | F29: =E29/D29 -> 0.41666667 | G29: 4 | H29: 0 | I29: 1 | J29: =I29/E29 -> 0.2 | K29: 0 | L29: =K29/E29 -> 0 | M29: 0 | N29: =M29/E29 -> 0
C30: Ingineria produselor alimentare | D30: 17 | E30: 11 | F30: =E30/D30 -> 0.64705882 | G30: 10 | H30: =G30/E30 -> 0.90909091 | I30: 0 | J30: =I30/E30 -> 0 | K30: 0 | L30: =K30/E30 -> 0 | M30: 1 | N30: =M30/E30 -> 0.090909091
C31: Inginerie genetică | D31: 13 | E31: 8 | F31: =E31/D31 -> 0.61538462 | G31: 4 | H31: =G31/E31 -> 0.5 | I31: 3 | J31: =I31/E31 -> 0.375 | K31: 1 | L31: =K31/E31 -> 0.125 | M31: 0 | N31: =M31/E31 -> 0
C32: Inginerie și management în alimentație publică și agroturism | D32: 7 | E32: 3 | F32: =E32/D32 -> 0.42857143 | G32: 2 | H32: =G32/E32 -> 0.66666667 | I32: 1 | J32: =I32/E32 -> 0.33333333 | K32: 0 | L32: =K32/E32 -> 0 | M32: 0 | N32: =M32/E32 -> 0
C33: Total licenţă | D33: =SUM(D20:D32) -> 192 | E33: =SUM(E20:E32) -> 112 | F33: =E33/D33 -> 0.58333333 | G33: =SUM(G20:G32) -> 83 | H33: =G33/E33 -> 0.74107143 | I33: =SUM(I20:I32) -> 26 | J33: =I33/E33 -> 0.23214286 | K33: =SUM(K20:K32) -> 2 | L33: =K33/E33 -> 0.017857143 | M33: =SUM(M19:M32) -> 3 | N33: =M33/E33 -> 0.026785714
C34: Traducere şi interpretare | D34: 15 | E34: 12 | F34: =E34/D34 -> 0.8 | G34: 4 | H34: =G34/E34 -> 0.33333333 | I34: 8 | J34: =I34/E34 -> 0.66666667 | K34: 0 | L34: =K34/E34 -> 0 | M34: 0 | N34: =M34/E34 -> 0
C35: Leadership şi management în economia agrară | D35: 14 | E35: 10 | F35: =E35/D35 -> 0.71428571 | G35: 9 | H35: =G35/E35 -> 0.9 | I35: 0 | J35: =I35/E35 -> 0 | K35: 0 | L35: =K35/E35 -> 0 | M35: 1 | N35: =M35/E35 -> 0.1
C36: Economie aplicată şi finanţe | D36: 19 | E36: 11 | F36: =E36/D36 -> 0.57894737 | G36: 8 | H36: =G36/E36 -> 0.72727273 | I36: 3 | J36: =I36/E36 -> 0.27272727 | K36: 0 | L36: =K36/E36 -> 0 | M36: 0 | N36: =M36/E36 -> 0
C37: Biotehnologii sustenabile | D37: 13 | E37: 6 | F37: =E37/D37 -> 0.46153846 | G37: 2 | H37: =G37/E37 -> 0.33333333 | I37: 4 | J37: =I37/E37 -> 0.66666667 | K37: 0 | L37: =K37/E37 -> 0 | M37: 0 | N37: =M37/E37 -> 0
C38: Comunicare şi relaţii publice | D38: 26 | E38: 12 | F38: =E38/D38 -> 0.46153846 | G38: 6 | H38: =G38/E38 -> 0.5 | I38: 5 | J38: =I38/E38 -> 0.41666667 | K38: 0 | L38: =K38/E38 -> 0 | M38: 1 | N38: =M38/E38 -> 0.083333333
C39: Total master | D39: =SUM(D34:D38) -> 87 | E39: =SUM(E34:E38) -> 51 | F39: =E39/D39 -> 0.5862069 | G39: =SUM(G34:G38) -> 29 | H39: =G39/E39 -> 0.56862745 | I39: =SUM(I34:I38) -> 20 | J39: =I39/E39 -> 0.39215686 | K39: =SUM(K34:K38) -> 0 | L39: =K39/E39 -> 0 | M39: =SUM(M34:M38) -> 2 | N39: =M39/E39 -> 0.039215686
C40: TOTAL Facultate | D40: =D33+D39 -> 279 | E40: =E33+E39 -> 163 | F40: =E40/D40 -> 0.58422939 | G40: =G33+G39 -> 112 | H40: =G40/E40 -> 0.68711656 | I40: =I33+I39 -> 46 | J40: =I40/E40 -> 0.28220859 | K40: =K33+K39 -> 2 | L40: =K40/E40 -> 0.012269939 | M40: =M33+M39 -> 5 | N40: =M40/E40 -> 0.030674847
B41: de Științe Tehnice și Umaniste din Tg. Mureș | C41: Informatică | D41: 34 | E41: 7 | F41: =E41/D41*100 -> 20.588235 | G41: 2 | H41: =G41/E41*100 -> 28.571429 | I41: 5 | J41: =I41/E41*100 -> 71.428571 | K41: 0 | L41: =K41/E41*100 -> 0 | M41: 0 | N41: =M41/E41*100 -> 0
C42: Mecatronică | D42: 17 | E42: 11 | F42: =E42/D42*100 -> 64.705882 | G42: 1 | H42: =G42/E42*100 -> 9.0909091 | I42: 8 | J42: =I42/E42*100 -> 72.727273 | K42: 2 | L42: =K42/E42*100 -> 18.181818 | M42: 0 | N42: =M42/E42*100 -> 0
C43: Calculatoare | D43: 27 | E43: 12 | F43: =E43/D43*100 -> 44.444444 | G43: 2 | H43: =G43/E43*100 -> 16.666667 | I43: 8 | J43: =I43/E43*100 -> 66.666667 | K43: 2 | L43: =K43/E43*100 -> 16.666667 | M43: 0 | N43: =M43/E43*100 -> 0
C44: Automatică şi informatică aplicată | D44: 18 | E44: 7 | F44: =E44/D44*100 -> 38.888889 | G44: 1 | H44: =G44/E44*100 -> 14.285714 | I44: 6 | J44: =I44/E44*100 -> 85.714286 | K44: 0 | L44: =K44/E44*100 -> 0 | M44: 0 | N44: =M44/E44*100 -> 0
C45: Comunicații și relații publice | D45: 23 | E45: 9 | F45: =E45/D45*100 -> 39.130435 | G45: 1 | H45: =G45/E45*100 -> 11.111111 | I45: 6 | J45: =I45/E45*100 -> 66.666667 | K45: 2 | L45: =K45/E45*100 -> 22.222222 | M45: 0 | N45: =M45/E45*100 -> 0
C46: Horticultură | D46: 13 | E46: 7 | F46: =E46/D46*100 -> 53.846154 | G46: 1 | H46: =G46/E46*100 -> 14.285714 | I46: 6 | J46: =I46/E46*100 -> 85.714286 | K46: 0 | L46: =K46/E46*100 -> 0 | M46: 0 | N46: =M46/E46*100 -> 0
C47: Traducere și interpretare | D47: 24 | E47: 10 | F47: =E47/D47*100 -> 41.666667 | G47: 2 | H47: =G47/E47*100 -> 20 | I47: 8 | J47: =I47/E47*100 -> 80 | K47: 0 | L47: =K47/E47*100 -> 0 | M47: 0 | N47: =M47/E47*100 -> 0
C48: Tehnologii şi sisteme de telecomunicaţii | D48: 2 | E48: 2 | F48: =E48/D48*100 -> 100 | G48: 0 | H48: =G48/E48*100 -> 0 | I48: 1 | J48: =I48/E48*100 -> 50 | K48: 1 | L48: =K48/E48*100 -> 50 | M48: 0 | N48: =M48/E48*100 -> 0
C49: Tehnologia construcţiilor de maşini | D49: 8 | E49: 7 | F49: =E49/D49*100 -> 87.5 | G49: 2 | H49: =G49/E49*100 -> 28.571429 | I49: 5 | J49: =I49/E49*100 -> 71.428571 | K49: 0 | L49: =K49/E49*100 -> 0 | M49: 0 | N49: =M49/E49*100 -> 0
C50: Servicii și politici de sănătate publică | D50: 20 | E50: 6 | F50: =E50/D50*100 -> 30 | G50: 0 | H50: =G50/E50*100 -> 0 | I50: 5 | J50: =I50/E50*100 -> 83.333333 | K50: 1 | L50: =K50/E50*100 -> 16.666667 | M50: 0 | N50: =M50/E50*100 -> 0
C51: Peisagistică | D51: 29 | E51: 9 | F51: =E51/D51*100 -> 31.034483 | G51: 1 | H51: =G51/E51*100 -> 11.111111 | I51: 7 | J51: =I51/E51*100 -> 77.777778 | K51: 1 | L51: =K51/E51*100 -> 11.111111 | M51: 0 | N51: =M51/E51*100 -> 0
C52: Total licenţă | D52: =SUM(D41:D51) -> 215 | E52: =SUM(E41:E51) -> 87 | F52: =E52/D52 -> 0.40465116 | G52: =SUM(G41:G51) -> 13 | H52: =G52/E52 -> 0.14942529 | I52: =SUM(I41:I51) -> 65 | J52: =I52/E52 -> 0.74712644 | K52: =SUM(K41:K51) -> 9 | L52: =K52/E52 -> 0.10344828 | M52: =SUM(M41:M51) -> 0 | N52: =M52/E52 -> 0
C53: Dezvoltarea aplicaţiilor software | D53: 24 | E53: 15 | F53: =E53/D53*100 -> 62.5 | G53: 2 | H53: =G53/E53*100 -> 13.333333 | I53: 12 | J53: =I53/E53*100 -> 80 | K53: 1 | L53: =K53/E53*100 -> 6.6666667 | M53: 0 | N53: =M53/E53*100 -> 0
C54: Protecția plantelor; | D54: 8 | E54: 1 | F54: =E54/D54*100 -> 12.5 | G54: 0 | H54: =G54/E54*100 -> 0 | I54: 1 | J54: =I54/E54*100 -> 100 | K54: 0 | L54: =K54/E54*100 -> 0 | M54: 0 | N54: =M54/E54*100 -> 0
C55: Sisteme mecatronice avansate | D55: 4 | E55: 4 | F55: =E55/D55*100 -> 100 | G55: 2 | H55: =G55/E55*100 -> 50 | I55: 2 | J55: =I55/E55*100 -> 50 | K55: 0 | L55: =K55/E55*100 -> 0 | M55: 0 | N55: =M55/E55*100 -> 0
C56: Sisteme de control inteligente | D56: 11 | E56: 2 | F56: =E56/D56*100 -> 18.181818 | G56: 0 | H56: =G56/E56*100 -> 0 | I56: 2 | J56: =I56/E56*100 -> 100 | K56: 0 | L56: =K56/E56*100 -> 0 | M56: 0 | N56: =M56/E56*100 -> 0
C57: Total master | D57: =SUM(D53:D56) -> 47 | E57: =SUM(E53:E56) -> 22 | F57: =E57/D57 -> 0.46808511 | G57: =SUM(G53:G56) -> 4 | H57: =G57/E57 -> 0.18181818 | I57: =SUM(I53:I56) -> 17 | J57: =I57/E57 -> 0.77272727 | K57: =SUM(K53:K56) -> 1 | L57: =K57/E57 -> 0.045454545 | M57: =SUM(M53:M56) -> 0 | N57: =M57/E57 -> 0
C58: TOTAL Facultate | D58: =D52+D57 -> 262 | E58: =E52+E57 -> 109 | F58: =E58/D58 -> 0.41603053 | G58: =G52+G57 -> 17 | H58: =G58/E58 -> 0.1559633 | I58: =I57+I52 -> 82 | J58: =I58/E58 -> 0.75229358 | K58: =K52+K57 -> 10 | L58: =K58/E58 -> 0.091743119 | M58: =M52+M57 -> 0 | N58: =M58/E58 -> 0
B59: de Ştiinţe ale Vieții și Sport din Sfântu Gheorghe | C59: Agricultură | D59: 14 | E59: 9 | F59: =E59/D59 -> 0.64285714 | G59: 4 | H59: =G59/E59 -> 0.44444444 | I59: 5 | J59: =I59/E59 -> 0.55555556 | K59: 0 | L59: =K59/E59 -> 0 | M59: 0 | N59: =M59/E59 -> 0
C60: Silvicultură | D60: 14 | E60: 9 | F60: =E60/D60 -> 0.64285714 | G60: 3 | H60: =G60/E60 -> 0.33333333 | I60: 6 | J60: =I60/E60 -> 0.66666667 | K60: 0 | L60: =K60/E60 -> 0 | M60: 0 | N60: =M60/E60 -> 0
C61: Total licenţă | D61: =SUM(D59:D60) -> 28 | E61: =SUM(E59:E60) -> 18 | F61: =E61/D61 -> 0.64285714 | G61: =SUM(G59:G60) -> 7 | H61: =G61/E61 -> 0.38888889 | I61: =SUM(I59:I60) -> 11 | J61: =I61/E61 -> 0.61111111 | K61: =SUM(K59:K60) -> 0 | L61: =K61/E61 -> 0 | M61: =SUM(M59:M60) -> 0 | N61: =M61/E61 -> 0
C62: Total master | D62: 0 | E62: 0 | F62: 0 | G62: 0 | H62: 0 | I62: 0 | J62: 0 | K62: 0 | L62: 0 | M62: 0 | N62: 0
C63: TOTAL Facultate | D63: =D61+D62 -> 28 | E63: =E61+E62 -> 18 | F63: =E63/D63 -> 0.64285714 | G63: =G61+G62 -> 7 | H63: =G63/E63 -> 0.38888889 | I63: =I61+I62 -> 11 | J63: =I63/E63 -> 0.61111111 | K63: =K61+K62 -> 0 | L63: =K63/E63 -> 0 | M63: =M61+M62 -> 0 | N63: =M63/E63 -> 0
B64: Universitate | C64: Total Universitate licenţă | D64: 441 | E64: 143 | F64: 0.4711 | G64: 72 | H64: 0.3575 | I64: 46 | J64: 0.4188 | K64: 16 | L64: 0.2546 | M64: 5 | N64: 0.05
C65: Total Universitate master | D65: 134 | E65: 64 | F65: =E65/D65 -> 0.47761194 | G65: =G26+G47+G62 -> 9 | H65: 0.25 | I65: =I26+I47+I62 -> 8 | J65: 0.45 | K65: 2 | L65: 0.17 | M65: 2 | N65: 0.03
C66: Total Universitate | D66: 575 | E66: =E27+E48+E63 -> 28 | F66: 0.475 | G66: 29 | H66: 0.31 | I66: 21 | J66: =I66/E66 -> 0.75 | K66: 18 | L66: 0.21 | M66: =M27+M48+M63 -> 0 | N66: 0.04

Sheet Munka23
B3: Gradul de mulţumire a studenţilor din ultimul an de studiu cu infrastructura oferită în anul 2025 (Se prelucrează răspunsurile de la punctul 9. al Chestionarului)
B4: Facultatea | C4: Programul de studiu | D4: Nr. total studenţi din ultimul an de studiu | E4: Studenţi evaluaţi | G4: Foarte mulţumiţi | I4: Mulţumiţi | K4: Mediu mulţumiţi | M4: Nemulţumiţi
E5: Nr | F5: % | G5: Nr | H5: % | I5: Nr | J5: % | K5: Nr | L5: % | M5: Nr | N5: % | S5: Studenti evaluați | T5: Foarte multumiti | U5: Multumiti | V5: Mediu multumiti | W5: Nemultumiti
B6: de Ştiinţe şi Arte Cluj-Napoca | C6: Relaţii internaţionale şi studii europene | D6: 12 | E6: =SUM(G6,I6,K6,M6) -> 4 | F6: =E6/D6 -> 0.33333333 | G6: 3 | H6: =G6/E6 -> 0.75 | I6: 1 | J6: =I6/E6 -> 0.25 | L6: =K6/E6 -> 0 | N6: =M6/E6 -> 0 | R6: FSA | S6: 0.22 | T6: 0.32 | U6: 0.53 | V6: 0.15 | W6: 0
C7: Drept | D7: 12 | E7: =SUM(G7,I7,K7,M7) -> 3 | F7: =E7/D7 -> 0.25 | H7: =G7/E7 -> 0 | I7: 2 | J7: =I7/E7 -> 0.66666667 | K7: 1 | L7: =K7/E7 -> 0.33333333 | N7: =M7/E7 -> 0 | R7: FSESUI | S7: 0.53 | T7: 0.65 | U7: 0.31 | V7: 0.04 | W7: 0.01
D8: 24 | E8: =SUM(G8,I8,K8,M8) -> 4 | F8: =E8/D8 -> 0.16666667 | H8: =G8/E8 -> 0 | I8: 3 | J8: =I8/E8 -> 0.75 | K8: 1 | L8: =K8/E8 -> 0.25 | N8: =M8/E8 -> 0 | R8: FSVS | S8: 0.64 | T8: 0.6 | U8: 0.35 | V8: 0.05 | W8: 0
C9: Cinematografie, fotografie, media | D9: 6 | E9: =SUM(G9,I9,K9,M9) -> 1 | F9: =E9/D9 -> 0.16666667 | H9: =G9/E9 -> 0 | I9: 1 | J9: =I9/E9 -> 1 | L9: =K9/E9 -> 0 | N9: =M9/E9 -> 0 | R9: FSTU | S9: 0.17 | T9: 0.61 | U9: 0.35 | V9: 0.04 | W9: 0
C10: Ştiinţa mediului | D10: 13 | E10: =SUM(G10,I10,K10,M10) -> 1 | F10: =E10/D10 -> 0.076923077 | H10: =G10/E10 -> 0 | I10: 1 | J10: =I10/E10 -> 1 | L10: =K10/E10 -> 0 | N10: =M10/E10 -> 0 | R10: Total U | S10: 0.39 | T10: 0.54 | U10: 0.39 | V10: 0.07 | W10: 0
C11: Coreografie | D11: =SUM(D6:D10) -> 67 | E11: =SUM(E6:E10) -> 13 | F11: =E11/D11 -> 0.19402985 | G11: =SUM(G6:G10) -> 3 | H11: =G11/E11 -> 0.23076923 | I11: =SUM(I6:I10) -> 8 | J11: =I11/E11 -> 0.61538462 | K11: =SUM(K6:K10) -> 2 | L11: =K11/E11 -> 0.15384615 | M11: =SUM(M6:M10) -> 0 | N11: =M11/E11 -> 0
C12: Total licenţă | D12: 2 | E12: =SUM(G12,I12,K12,M12) -> 1 | F12: =E12/D12 -> 0.5 | H12: =G12/E12 -> 0 | I12: 1 | J12: =I12/E12 -> 1 | L12: =K12/E12 -> 0 | N12: =M12/E12 -> 0
C13: Diplomație și studii interculturale | D13: 4 | E13: =SUM(G13,I13,K13,M13) -> 1 | F13: =E13/D13 -> 0.25 | H13: =G13/E13 -> 0 | J13: =I13/E13 -> 0 | K13: 1 | L13: =K13/E13 -> 1 | N13: =M13/E13 -> 0
C14: Studii de film | D14: 1 | E14: =SUM(G14,I14,K14,M14) -> 1 | F14: =E14/D14 -> 1 | G14: 1 | H14: =G14/E14 -> 1 | J14: =I14/E14 -> 0 | L14: =K14/E14 -> 0 | N14: =M14/E14 -> 0
C15: Protecția și monitorizarea mediului | D15: 11 | E15: =SUM(G15,I15,K15,M15) -> 2 | F15: =E15/D15 -> 0.18181818 | G15: 2 | H15: =G15/E15 -> 1 | J15: =I15/E15 -> 0 | L15: =K15/E15 -> 0 | N15: =M15/E15 -> 0
C16: Cariera judiciara | D16: =SUM(D12:D15) -> 18 | E16: =SUM(E12:E15) -> 5 | F16: =E16/D16 -> 0.27777778 | G16: =SUM(G12:G15) -> 3 | H16: =G16/E16 -> 0.6 | I16: =SUM(I12:I15) -> 1 | J16: =I16/E16 -> 0.2 | K16: =SUM(K12:K15) -> 1 | L16: =K16/E16 -> 0.2 | M16: =SUM(M12:M15) -> 0 | N16: =M16/E16 -> 0
C17: Total master | D17: =D11+D16 -> 85 | E17: =E11+E16 -> 18 | F17: =E17/D17 -> 0.21176471 | G17: =G11+G16 -> 6 | H17: =G17/E17 -> 0.33333333 | I17: =I11+I16 -> 9 | J17: =I17/E17 -> 0.5 | K17: =K11+K16 -> 3 | L17: =K17/E17 -> 0.16666667 | M17: =M11+M16 -> 0 | N17: =M17/E17 -> 0
C18: TOTAL Facultate | D18: =D12+D17 -> 87 | E18: =E12+E17 -> 19 | F18: =E18/D18 -> 0.2183908 | G18: =G12+G17 -> 6 | H18: =G18/E18 -> 0.31578947 | I18: =I12+I17 -> 10 | J18: =I18/E18 -> 0.52631579 | K18: =K12+K17 -> 3 | L18: 0.15 | M18: =M12+M17 -> 0 | N18: =M18/E18 -> 0
B19: de Știinte Economice, Socio-Umane și Inginerești din Miercurea Ciuc | C19: Contabilitate şi informatică de gestiune | D19: ='[4]Tabelul 6.1'!D16 -> 3 | E19: 15 | F19: =E19/D19 -> 5 | G19: 12 | H19: =G19/E19 -> 0.8 | I19: 3 | J19: =I19/E19 -> 0.2 | K19: 0 | L19: =K19/E19 -> 0 | M19: 0 | N19: =M19/E19 -> 0
C20: Economie generală | D20: ='[4]Tabelul 6.1'!D17 -> 112 | E20: 9 | F20: =E20/D20 -> 0.080357143 | G20: 7 | H20: =G20/E20 -> 0.77777778 | I20: 1 | J20: =I20/E20 -> 0.11111111 | K20: 0 | L20: =K20/E20 -> 0 | M20: 1 | N20: =M20/E20 -> 0.11111111
C21: Economie agroalimentară | D21: ='[4]Tabelul 6.1'!D18 -> 12 | E21: 8 | F21: =E21/D21 -> 0.66666667 | G21: 7 | H21: =G21/E21 -> 0.875 | I21: 1 | J21: =I21/E21 -> 0.125 | K21: 0 | L21: =K21/E21 -> 0 | M21: 0 | N21: =M21/E21 -> 0
C22: Marketing | D22: ='[4]Tabelul 6.1'!D19 -> 10 | E22: 17 | F22: =E22/D22 -> 1.7 | G22: 12 | H22: =G22/E22 -> 0.70588235 | I22: 3 | J22: =I22/E22 -> 0.17647059 | K22: 2 | L22: =K22/E22 -> 0.11764706 | M22: 0 | N22: =M22/E22 -> 0
C23: Informatică economică | D23: ='[4]Tabelul 6.1'!D20 -> 11 | E23: 14 | F23: =E23/D23 -> 1.2727273 | G23: 10 | H23: =G23/E23 -> 0.71428571 | I23: 4 | J23: =I23/E23 -> 0.28571429 | K23: 0 | L23: =K23/E23 -> 0 | M23: 0 | N23: =M23/E23 -> 0
C24: Comunicare și relații publice | D24: ='[4]Tabelul 6.1'!D21 -> 6 | E24: 14 | F24: =E24/D24 -> 2.3333333 | G24: 9 | H24: =G24/E24 -> 0.64285714 | I24: 5 | J24: =I24/E24 -> 0.35714286 | K24: 0 | L24: =K24/E24 -> 0 | M24: 0 | N24: =M24/E24 -> 0
C25: Sociologie | D25: ='[4]Tabelul 6.1'!D22 -> 12 | E25: 8 | F25: =E25/D25 -> 0.66666667 | G25: 4 | H25: =G25/E25 -> 0.5 | I25: 3 | J25: =I25/E25 -> 0.375 | K25: 0 | L25: =K25/E25 -> 0 | M25: 1 | N25: =M25/E25 -> 0.125
C26: Resurse umane | D26: ='[4]Tabelul 6.1'!D23 -> 51 | E26: 9 | F26: =E26/D26 -> 0.17647059 | G26: 3 | H26: =G26/E26 -> 0.33333333 | I26: 6 | J26: =I26/E26 -> 0.66666667 | K26: 0 | L26: =K26/E26 -> 0 | M26: 0 | N26: =M26/E26 -> 0
C27: Lb. şi lit. rom. – lb. şi lit. eng. | D27: ='[4]Tabelul 6.1'!D24 -> 163 | E27: 7 | F27: =E27/D27 -> 0.042944785 | G27: 5 | H27: =G27/E27 -> 0.71428571 | I27: 2 | J27: =I27/E27 -> 0.28571429 | K27: 0 | L27: =K27/E27 -> 0 | M27: 0 | N27: =M27/E27 -> 0
C28: Lit. univ. şi comp. – lb. şi lit. eng. | D28: ='[4]Tabelul 6.1'!D25 -> 0 | E28: 7 | F28: =E28/D28 -> #DIV/0! | G28: 6 | H28: =G28/E28 -> 0.85714286 | I28: 1 | J28: =I28/E28 -> 0.14285714 | K28: 0 | L28: =K28/E28 -> 0 | M28: 0 | N28: =M28/E28 -> 0
C29: Ingineria produselor alimentare | D29: ='[4]Tabelul 6.1'!D26 -> 0 | E29: 14 | F29: =E29/D29 -> #DIV/0! | G29: 12 | H29: =G29/E29 -> 0.85714286 | I29: 2 | J29: =I29/E29 -> 0.14285714 | K29: 0 | L29: =K29/E29 -> 0 | M29: 0 | N29: =M29/E29 -> 0
C30: Inginerie genetică | D30: ='[4]Tabelul 6.1'!D27 -> 0 | E30: 10 | F30: =E30/D30 -> #DIV/0! | G30: 3 | H30: =G30/E30 -> 0.3 | I30: 6 | J30: =I30/E30 -> 0.6 | K30: 1 | L30: =K30/E30 -> 0.1 | M30: 0 | N30: =M30/E30 -> 0
C31: Inginerie și management în alimentație publică și agroturism | D31: ='[4]Tabelul 6.1'!D28 -> 0 | E31: 4 | F31: =E31/D31 -> #DIV/0! | G31: 3 | H31: =G31/E31 -> 0.75 | I31: 1 | J31: =I31/E31 -> 0.25 | K31: 0 | L31: =K31/E31 -> 0 | M31: 0 | N31: =M31/E31 -> 0
C32: Total licenţă | D32: =SUM(D19:D31) -> 380 | E32: =SUM(E19:E31) -> 136 | F32: =E32/D32 -> 0.35789474 | G32: =SUM(G19:G31) -> 93 | H32: =G32/E32 -> 0.68382353 | I32: =SUM(I19:I31) -> 38 | J32: =I32/E32 -> 0.27941176 | K32: =SUM(K19:K31) -> 3 | L32: =K32/E32 -> 0.022058824 | M32: =SUM(M19:M31) -> 2 | N32: =M32/E32 -> 0.014705882
C33: Traducere şi interpretare | D33: ='[4]Tabelul 6.1'!D30 -> 0 | E33: 14 | F33: =E33/D33 -> #DIV/0! | G33: 4 | H33: =G33/E33 -> 0.28571429 | I33: 9 | J33: =I33/E33 -> 0.64285714 | K33: 1 | L33: =K33/E33 -> 0.071428571 | M33: 0 | N33: =M33/E33 -> 0
C34: Leadership şi management în economia agrară | D34: ='[4]Tabelul 6.1'!D31 -> 0 | E34: 12 | F34: =E34/D34 -> #DIV/0! | G34: 10 | H34: =G34/E34 -> 0.83333333 | I34: 1 | J34: =I34/E34 -> 0.083333333 | K34: 1 | L34: =K34/E34 -> 0.083333333 | M34: 0 | N34: =M34/E34 -> 0
C35: Economie aplicată şi finanţe | D35: ='[4]Tabelul 6.1'!D32 -> 0 | E35: 14 | F35: =E35/D35 -> #DIV/0! | G35: 11 | H35: =G35/E35 -> 0.78571429 | I35: 3 | J35: =I35/E35 -> 0.21428571 | K35: 0 | L35: =K35/E35 -> 0 | M35: 0 | N35: =M35/E35 -> 0
C36: Biotehnologii sustenabile | D36: ='[4]Tabelul 6.1'!D33 -> 0 | E36: 8 | F36: =E36/D36 -> #DIV/0! | G36: 4 | H36: =G36/E36 -> 0.5 | I36: 4 | J36: =I36/E36 -> 0.5 | K36: 0 | L36: =K36/E36 -> 0 | M36: 0 | N36: =M36/E36 -> 0
C37: Comunicare şi relaţii publice | D37: ='[4]Tabelul 6.1'!D34 -> 0 | E37: 16 | F37: =E37/D37 -> #DIV/0! | G37: 7 | H37: =G37/E37 -> 0.4375 | I37: 7 | J37: =I37/E37 -> 0.4375 | K37: 2 | L37: =K37/E37 -> 0.125 | M37: 0 | N37: =M37/E37 -> 0
C38: Total master | D38: =SUM(D33:D37) -> 0 | E38: =SUM(E33:E37) -> 64 | F38: =E38/D38 -> #DIV/0! | G38: =SUM(G33:G37) -> 36 | H38: =G38/E38 -> 0.5625 | I38: =SUM(I33:I37) -> 24 | J38: =I38/E38 -> 0.375 | K38: =SUM(K33:K37) -> 4 | L38: =K38/E38 -> 0.0625 | M38: =SUM(M33:M37) -> 0 | N38: =M38/E38 -> 0
C39: TOTAL Facultate | D39: =D32+D38 -> 380 | E39: =E32+E38 -> 200 | F39: =E39/D39 -> 0.52631579 | G39: =G32+G38 -> 129 | H39: =G39/E39 -> 0.645 | I39: =I32+I38 -> 62 | J39: =I39/E39 -> 0.31 | K39: =K32+K38 -> 7 | L39: =K39/E39 -> 0.035 | M39: =M32+M38 -> 2 | N39: =M39/E39 -> 0.01
B40: de Științe Tehnice și Umaniste din Tg. Mureș | C40: Informatică | D40: 34 | E40: 7 | F40: =E40/D40*100 -> 20.588235 | G40: 3 | H40: =G40/E40*100 -> 42.857143 | I40: 4 | J40: =I40/E40*100 -> 57.142857 | K40: 0 | L40: =K40/E40*100 -> 0 | M40: 0 | N40: =M40/E40*100 -> 0
C41: Mecatronică | D41: 17 | E41: 11 | F41: =E41/D41*100 -> 64.705882 | G41: 6 | H41: =G41/E41*100 -> 54.545455 | I41: 4 | J41: =I41/E41*100 -> 36.363636 | K41: 1 | L41: =K41/E41*100 -> 9.0909091 | M41: 0 | N41: =M41/E41*100 -> 0
C42: Calculatoare | D42: 27 | E42: 12 | F42: =E42/D42*100 -> 44.444444 | G42: 8 | H42: =G42/E42*100 -> 66.666667 | I42: 4 | J42: =I42/E42*100 -> 33.333333 | K42: 0 | L42: =K42/E42*100 -> 0 | M42: 0 | N42: =M42/E42*100 -> 0
C43: Automatică şi informatică aplicată | D43: 18 | E43: 7 | F43: =E43/D43*100 -> 38.888889 | G43: 6 | H43: =G43/E43*100 -> 85.714286 | I43: 1 | J43: =I43/E43*100 -> 14.285714 | K43: 0 | L43: =K43/E43*100 -> 0 | M43: 0 | N43: =M43/E43*100 -> 0
C44: Comunicații și relații publice | D44: 23 | E44: 9 | F44: =E44/D44*100 -> 39.130435 | G44: 3 | H44: =G44/E44*100 -> 33.333333 | I44: 5 | J44: =I44/E44*100 -> 55.555556 | K44: 1 | L44: =K44/E44*100 -> 11.111111 | M44: 0 | N44: =M44/E44*100 -> 0
C45: Horticultură | D45: 13 | E45: 7 | F45: =E45/D45*100 -> 53.846154 | G45: 3 | H45: =G45/E45*100 -> 42.857143 | I45: 3 | J45: =I45/E45*100 -> 42.857143 | K45: 1 | L45: =K45/E45*100 -> 14.285714 | M45: 0 | N45: =M45/E45*100 -> 0
C46: Traducere și interpretare | D46: 24 | E46: 10 | F46: =E46/D46*100 -> 41.666667 | G46: 6 | H46: =G46/E46*100 -> 60 | I46: 4 | J46: =I46/E46*100 -> 40 | K46: 0 | L46: =K46/E46*100 -> 0 | M46: 0 | N46: =M46/E46*100 -> 0
C47: Tehnologii şi sisteme de telecomunicaţii | D47: 2 | E47: 2 | F47: =E47/D47*100 -> 100 | G47: 1 | H47: =G47/E47*100 -> 50 | I47: 1 | J47: =I47/E47*100 -> 50 | K47: 0 | L47: =K47/E47*100 -> 0 | M47: 0 | N47: =M47/E47*100 -> 0
C48: Tehnologia construcţiilor de maşini | D48: 8 | E48: 7 | F48: =E48/D48*100 -> 87.5 | G48: 4 | H48: =G48/E48*100 -> 57.142857 | I48: 3 | J48: =I48/E48*100 -> 42.857143 | K48: 0 | L48: =K48/E48*100 -> 0 | M48: 0 | N48: =M48/E48*100 -> 0
C49: Servicii și politici de sănătate publică | D49: 20 | E49: 6 | F49: =E49/D49*100 -> 30 | G49: 3 | H49: =G49/E49*100 -> 50 | I49: 3 | J49: =I49/E49*100 -> 50 | K49: 0 | L49: =K49/E49*100 -> 0 | M49: 0 | N49: =M49/E49*100 -> 0
C50: Peisagistică | D50: 29 | E50: 9 | F50: =E50/D50*100 -> 31.034483 | G50: 4 | H50: =G50/E50*100 -> 44.444444 | I50: 5 | J50: =I50/E50*100 -> 55.555556 | K50: 0 | L50: =K50/E50*100 -> 0 | M50: 0 | N50: =M50/E50*100 -> 0
C51: Total licenţă | D51: =SUM(D40:D50) -> 215 | E51: =SUM(E40:E50) -> 87 | F51: =E51/D51 -> 0.40465116 | G51: =SUM(G40:G50) -> 47 | H51: =G51/E51 -> 0.54022989 | I51: =SUM(I40:I50) -> 37 | J51: =I51/E51 -> 0.42528736 | K51: =SUM(K40:K50) -> 3 | L51: =K51/E51 -> 0.034482759 | M51: =SUM(M40:M50) -> 0 | N51: =M51/E51 -> 0
C52: Dezvoltarea aplicaţiilor software | D52: 24 | E52: 15 | F52: =E52/D52*100 -> 62.5 | G52: 12 | H52: =G52/E52*100 -> 80 | I52: 2 | J52: =I52/E52*100 -> 13.333333 | K52: 0 | L52: =K52/E52*100 -> 0 | M52: 0 | N52: =M52/E52*100 -> 0
C53: Protecția plantelor; | D53: 8 | E53: 1 | F53: =E53/D53*100 -> 12.5 | G53: 0 | H53: =G53/E53*100 -> 0 | I53: 1 | J53: =I53/E53*100 -> 100 | K53: 0 | L53: =K53/E53*100 -> 0 | M53: 0 | N53: =M53/E53*100 -> 0
C54: Sisteme mecatronice avansate | D54: 4 | E54: 4 | F54: =E54/D54*100 -> 100 | G54: 2 | H54: =G54/E54*100 -> 50 | I54: 2 | J54: =I54/E54*100 -> 50 | K54: 0 | L54: =K54/E54*100 -> 0 | M54: 0 | N54: =M54/E54*100 -> 0
C55: Sisteme de control inteligente | D55: 11 | E55: 2 | F55: =E55/D55*100 -> 18.181818 | G55: 0 | H55: =G55/E55*100 -> 0 | I55: 2 | J55: =I55/E55*100 -> 100 | K55: 0 | L55: =K55/E55*100 -> 0 | M55: 0 | N55: =M55/E55*100 -> 0
C56: Total master | D56: =SUM(D52:D55) -> 47 | E56: =SUM(E52:E55) -> 22 | F56: =E56/D56 -> 0.46808511 | G56: =SUM(G52:G55) -> 14 | H56: =G56/E56 -> 0.63636364 | I56: =SUM(I52:I55) -> 7 | J56: =I56/E56 -> 0.31818182 | K56: =SUM(K52:K55) -> 0 | L56: =K56/E56 -> 0 | M56: =SUM(M52:M55) -> 0 | N56: =M56/E56 -> 0
C57: TOTAL Facultate | D57: =D51+D56 -> 262 | E57: =E51+E56 -> 109 | F57: =E57/D57 -> 0.41603053 | G57: =G51+G56 -> 61 | H57: =G57/E57 -> 0.55963303 | I57: =I56+I51 -> 44 | J57: =I57/E57 -> 0.40366972 | K57: =K51+K56 -> 3 | L57: =K57/E57 -> 0.027522936 | M57: =M51+M56 -> 0 | N57: =M57/E57 -> 0
B58: de Ştiinţe ale Vieții și Sport din Sfântu Gheorghe | C58: Agricultură | D58: 14 | E58: 9 | F58: =E58/D58 -> 0.64285714 | G58: 6 | H58: =G58/E58 -> 0.66666667 | I58: 3 | J58: =I58/E58 -> 0.33333333 | K58: 0 | L58: =K58/E58 -> 0 | M58: 0 | N58: =M58/E58 -> 0
C59: Silvicultură | D59: 14 | E59: 9 | F59: =E59/D59 -> 0.64285714 | G59: 4 | H59: =G59/E59 -> 0.44444444 | I59: 5 | J59: =I59/E59 -> 0.55555556 | K59: 0 | L59: =K59/E59 -> 0 | M59: 0 | N59: =M59/E59 -> 0
C60: Total licenţă | D60: =SUM(D58:D59) -> 28 | E60: =SUM(E58:E59) -> 18 | F60: =E60/D60 -> 0.64285714 | G60: =SUM(G58:G59) -> 10 | H60: =G60/E60 -> 0.55555556 | I60: =SUM(I58:I59) -> 8 | J60: =I60/E60 -> 0.44444444 | K60: =SUM(K58:K59) -> 0 | L60: =K60/E60 -> 0 | M60: =SUM(M58:M59) -> 0 | N60: =M60/E60 -> 0
C61: Total master | D61: 0 | E61: 0 | F61: 0 | G61: 0 | H61: 0 | I61: 0 | J61: 0 | K61: 0 | L61: 0 | M61: 0 | N61: 0
C62: TOTAL Facultate | D62: =D60+D61 -> 28 | E62: =E60+E61 -> 18 | F62: =E62/D62 -> 0.64285714 | G62: =G60+G61 -> 10 | H62: =G62/E62 -> 0.55555556 | I62: =I60+I61 -> 8 | J62: =I62/E62 -> 0.44444444 | K62: =K60+K61 -> 0 | L62: =K62/E62 -> 0 | M62: =M60+M61 -> 0 | N62: =M62/E62 -> 0
B63: Universitate | C63: Total Universitate licenţă | D63: =D15+D35+D54 -> 15 | E63: =E15+E35+E54 -> 20 | F63: =E63/D63 -> 1.3333333 | G63: =G15+G35+G54 -> 15 | H63: =G63/E63 -> 0.75 | I63: =I15+I35+I54 -> 5 | J63: =I63/E63 -> 0.25 | K63: =K15+K35+K54 -> 0 | L63: =K63/E63 -> 0 | M63: =M15+M35+M54 -> 0 | N63: =M63/E63 -> 0
C64: Total Universitate master | D64: =D20+D41+D59 -> 143 | E64: =E20+E41+E59 -> 29 | F64: =E64/D64 -> 0.2027972 | G64: =G20+G41+G59 -> 17 | H64: =G64/E64 -> 0.5862069 | I64: =I20+I41+I59 -> 10 | J64: =I64/E64 -> 0.34482759 | K64: =K20+K41+K59 -> 1 | L64: =K64/E64 -> 0.034482759 | M64: =M20+M41+M59 -> 1 | N64: =M64/E64 -> 0.034482759
C65: Total Universitate | D65: =D21+D42+D62 -> 67 | E65: =E21+E42+E62 -> 38 | F65: =E65/D65 -> 0.56716418 | G65: =G21+G42+G62 -> 25 | H65: =G65/E65 -> 0.65789474 | I65: =I21+I42+I62 -> 13 | J65: =I65/E65 -> 0.34210526 | K65: =K21+K42+K62 -> 0 | L65: =K65/E65 -> 0 | M65: =M21+M42+M62 -> 0 | N65: =M65/E65 -> 0

Sheet Munka24
B1: Gradul de mulţumire al studenţilor din ultimul an de studiu cu personalul didactic auxiliar şi administrativ în anul 2025 (Se prelucreaza răspunsurile de la punctul 21. al Chestionarului)
B2: Facultatea | C2: Programul de studiu | D2: Nr. total studenţi din ultimul an de studiu | E2: Studenţi evaluaţi | G2: Foarte mulţumiţi | I2: Mulţumiţi | K2: Mediu mulţumiţi | M2: Nemulţumiţi
E3: Nr | F3: % | G3: Nr | H3: % | I3: Nr | J3: % | K3: Nr | L3: % | M3: Nr | N3: % | S3: Studenti evaluați | T3: Foarte multumiti | U3: Multumiti | V3: Mediu multumiti | W3: Nemultumiti
B4: de Ştiinţe şi Arte Cluj-Napoca | C4: Relaţii internaţionale şi studii europene | D4: 12 | E4: =SUM(G4,I4,K4,M4) -> 4 | F4: =E4/D4 -> 0.33333333 | G4: 1 | H4: =G4/E4 -> 0.25 | I4: 3 | J4: =I4/E4 -> 0.75 | L4: =K4/E4 -> 0 | N4: =M4/E4 -> 0 | R4: FSA | S4: 0.22 | T4: 0.37 | U4: 0.47 | V4: 0.16 | W4: 0
C5: Drept | D5: 12 | E5: =SUM(G5,I5,K5,M5) -> 3 | F5: =E5/D5 -> 0.25 | H5: =G5/E5 -> 0 | I5: 2 | J5: =I5/E5 -> 0.66666667 | K5: 1 | L5: =K5/E5 -> 0.33333333 | N5: =M5/E5 -> 0 | R5: FSESUI | S5: 58,42% | T5: 68,71% | U5: 28,22% | V5: 1,23% | W5: 1,84%
D6: 24 | E6: =SUM(G6,I6,K6,M6) -> 4 | F6: =E6/D6 -> 0.16666667 | G6: 2 | H6: =G6/E6 -> 0.5 | I6: 1 | J6: =I6/E6 -> 0.25 | K6: 1 | L6: =K6/E6 -> 0.25 | N6: =M6/E6 -> 0 | R6: FSVS | S6: 0.64 | T6: 0.65 | U6: 0.25 | V6: 0.05 | W6: 0.05
C7: Cinematografie, fotografie, media | D7: 6 | E7: =SUM(G7,I7,K7,M7) -> 1 | F7: =E7/D7 -> 0.16666667 | H7: =G7/E7 -> 0 | I7: 1 | J7: =I7/E7 -> 1 | L7: =K7/E7 -> 0 | N7: =M7/E7 -> 0 | R7: FSTU | S7: 17,60% | T7: 0.5 | U7: 47,80% | V7: 2,20% | W7: 0
C8: Ştiinţa mediului | D8: 13 | E8: =SUM(G8,I8,K8,M8) -> 1 | F8: =E8/D8 -> 0.076923077 | H8: =G8/E8 -> 0 | I8: 1 | J8: =I8/E8 -> 1 | L8: =K8/E8 -> 0 | N8: =M8/E8 -> 0 | R8: Total U | S8: 40,50% | T8: 55,18% | U8: 37,01% | V8: 6,11% | W8: 1,70%
C9: Coreografie | D9: =SUM(D4:D8) -> 67 | E9: =SUM(E4:E8) -> 13 | F9: =E9/D9 -> 0.19402985 | G9: =SUM(G4:G8) -> 3 | H9: =G9/E9 -> 0.23076923 | I9: =SUM(I4:I8) -> 8 | J9: =I9/E9 -> 0.61538462 | K9: =SUM(K4:K8) -> 2 | L9: =K9/E9 -> 0.15384615 | M9: =SUM(M4:M8) -> 0 | N9: =M9/E9 -> 0
C10: Total licenţă | D10: 2 | E10: =SUM(G10,I10,K10,M10) -> 1 | F10: =E10/D10 -> 0.5 | G10: 1 | H10: =G10/E10 -> 1 | J10: =I10/E10 -> 0 | L10: =K10/E10 -> 0 | N10: =M10/E10 -> 0
C11: Diplomație și studii interculturale | D11: 4 | E11: =SUM(G11,I11,K11,M11) -> 1 | F11: =E11/D11 -> 0.25 | H11: =G11/E11 -> 0 | J11: =I11/E11 -> 0 | K11: 1 | L11: =K11/E11 -> 1 | N11: =M11/E11 -> 0
C12: Studii de film | D12: 1 | E12: =SUM(G12,I12,K12,M12) -> 1 | F12: =E12/D12 -> 1 | H12: =G12/E12 -> 0 | I12: 1 | J12: =I12/E12 -> 1 | L12: =K12/E12 -> 0 | N12: =M12/E12 -> 0
C13: Protecția și monitorizarea mediului | D13: 11 | E13: =SUM(G13,I13,K13,M13) -> 2 | F13: =E13/D13 -> 0.18181818 | G13: 2 | H13: =G13/E13 -> 1 | J13: =I13/E13 -> 0 | L13: =K13/E13 -> 0 | N13: =M13/E13 -> 0
C14: Cariera judiciara | D14: =SUM(D10:D13) -> 18 | E14: =SUM(E10:E13) -> 5 | F14: =E14/D14 -> 0.27777778 | G14: =SUM(G10:G13) -> 3 | H14: =G14/E14 -> 0.6 | I14: =SUM(I10:I13) -> 1 | J14: =I14/E14 -> 0.2 | K14: =SUM(K10:K13) -> 1 | L14: =K14/E14 -> 0.2 | M14: =SUM(M10:M13) -> 0 | N14: =M14/E14 -> 0
C15: Total master | D15: =D9+D14 -> 85 | E15: =E9+E14 -> 18 | F15: =E15/D15 -> 0.21176471 | G15: =G9+G14 -> 6 | H15: =G15/E15 -> 0.33333333 | I15: =I9+I14 -> 9 | J15: =I15/E15 -> 0.5 | K15: =K9+K14 -> 3 | L15: =K15/E15 -> 0.16666667 | M15: =M9+M14 -> 0 | N15: =M15/E15 -> 0
C16: TOTAL Facultate | D16: =D10+D15 -> 87 | E16: =E10+E15 -> 19 | F16: =E16/D16 -> 0.2183908 | G16: =G10+G15 -> 7 | H16: =G16/E16 -> 0.36842105 | I16: =I10+I15 -> 9 | J16: =I16/E16 -> 0.47368421 | K16: =K10+K15 -> 3 | L16: =K16/E16 -> 0.15789474 | M16: =M10+M15 -> 0 | N16: =M16/E16 -> 0
B17: de Știinte Economice, Socio-Umane și Inginerești din Miercurea Ciuc | C17: Contabilitate şi informatică de gestiune | D17: 20 | E17: 11 | F17: =E17/D17 -> 0.55 | G17: 10 | H17: =G17/E17 -> 0.90909091 | I17: 1 | J17: =I17/E17 -> 0.090909091 | K17: 0 | L17: =K17/E17 -> 0 | M17: 0 | N17: =M17/E17 -> 0
C18: Economie generală | D18: 12 | E18: 7 | F18: =E18/D18 -> 0.58333333 | G18: 5 | H18: =G18/E18 -> 0.71428571 | I18: 2 | J18: =I18/E18 -> 0.28571429 | K18: 0 | L18: =K18/E18 -> 0 | M18: 0 | N18: =M18/E18 -> 0
C19: Economie agroalimentară | D19: 10 | E19: 6 | F19: =E19/D19 -> 0.6 | G19: 4 | H19: =G19/E19 -> 0.66666667 | I19: 2 | J19: =I19/E19 -> 0.33333333 | K19: 0 | L19: =K19/E19 -> 0 | M19: 0 | N19: =M19/E19 -> 0
C20: Marketing | D20: 21 | E20: 16 | F20: =E20/D20 -> 0.76190476 | G20: 13 | H20: =G20/E20 -> 0.8125 | I20: 3 | J20: =I20/E20 -> 0.1875 | K20: 0 | L20: =K20/E20 -> 0 | M20: 0 | N20: =M20/E20 -> 0
C21: Informatică economică | D21: 24 | E21: 11 | F21: =E21/D21 -> 0.45833333 | G21: 9 | H21: =G21/E21 -> 0.81818182 | I21: 1 | J21: =I21/E21 -> 0.090909091 | K21: 1 | L21: =K21/E21 -> 0.090909091 | M21: 0 | N21: =M21/E21 -> 0
C22: Comunicare și relații publice | D22: 21 | E22: 12 | F22: =E22/D22 -> 0.57142857 | G22: 6 | H22: =G22/E22 -> 0.5 | I22: 6 | J22: =I22/E22 -> 0.5 | K22: 0 | L22: =K22/E22 -> 0 | M22: 0 | N22: =M22/E22 -> 0
C23: Sociologie | D23: 12 | E23: 7 | F23: =E23/D23 -> 0.58333333 | G23: 7 | H23: =G23/E23 -> 1 | I23: 0 | J23: =I23/E23 -> 0 | K23: 0 | L23: =K23/E23 -> 0 | M23: 0 | N23: =M23/E23 -> 0
C24: Resurse umane | D24: 11 | E24: 8 | F24: =E24/D24 -> 0.72727273 | G24: 3 | H24: =G24/E24 -> 0.375 | I24: 5 | J24: =I24/E24 -> 0.625 | K24: 0 | L24: =K24/E24 -> 0 | M24: 0 | N24: =M24/E24 -> 0
C25: Lb. şi lit. rom. – lb. şi lit. eng. | D25: 12 | E25: 7 | F25: =E25/D25 -> 0.58333333 | G25: 6 | H25: =G25/E25 -> 0.85714286 | I25: 1 | J25: =I25/E25 -> 0.14285714 | K25: 0 | L25: =K25/E25 -> 0 | M25: 0 | N25: =M25/E25 -> 0
C26: Lit. univ. şi comp. – lb. şi lit. eng. | D26: 12 | E26: 5 | F26: =E26/D26 -> 0.41666667 | G26: 4 | H26: 0 | I26: 1 | J26: =I26/E26 -> 0.2 | K26: 0 | L26: =K26/E26 -> 0 | M26: 0 | N26: =M26/E26 -> 0
C27: Ingineria produselor alimentare | D27: 17 | E27: 11 | F27: =E27/D27 -> 0.64705882 | G27: 10 | H27: =G27/E27 -> 0.90909091 | I27: 0 | J27: =I27/E27 -> 0 | K27: 0 | L27: =K27/E27 -> 0 | M27: 1 | N27: =M27/E27 -> 0.090909091
C28: Inginerie genetică | D28: 13 | E28: 8 | F28: =E28/D28 -> 0.61538462 | G28: 4 | H28: =G28/E28 -> 0.5 | I28: 3 | J28: =I28/E28 -> 0.375 | K28: 1 | L28: =K28/E28 -> 0.125 | M28: 0 | N28: =M28/E28 -> 0
C29: Inginerie și management în alimentație publică și agroturism | D29: 7 | E29: 3 | F29: =E29/D29 -> 0.42857143 | G29: 2 | H29: =G29/E29 -> 0.66666667 | I29: 1 | J29: =I29/E29 -> 0.33333333 | K29: 0 | L29: =K29/E29 -> 0 | M29: 0 | N29: =M29/E29 -> 0
C30: Total licenţă | D30: =SUM(D17:D29) -> 192 | E30: =SUM(E17:E29) -> 112 | F30: =E30/D30 -> 0.58333333 | G30: =SUM(G17:G29) -> 83 | H30: =G30/E30 -> 0.74107143 | I30: =SUM(I17:I29) -> 26 | J30: =I30/E30 -> 0.23214286 | K30: =SUM(K17:K29) -> 2 | L30: =K30/E30 -> 0.017857143 | M30: =SUM(M16:M29) -> 1 | N30: =M30/E30 -> 0.0089285714
C31: Traducere şi interpretare | D31: 15 | E31: 12 | F31: =E31/D31 -> 0.8 | G31: 4 | H31: =G31/E31 -> 0.33333333 | I31: 8 | J31: =I31/E31 -> 0.66666667 | K31: 0 | L31: =K31/E31 -> 0 | M31: 0 | N31: =M31/E31 -> 0
C32: Leadership şi management în economia agrară | D32: 14 | E32: 10 | F32: =E32/D32 -> 0.71428571 | G32: 9 | H32: =G32/E32 -> 0.9 | I32: 0 | J32: =I32/E32 -> 0 | K32: 0 | L32: =K32/E32 -> 0 | M32: 1 | N32: =M32/E32 -> 0.1
C33: Economie aplicată şi finanţe | D33: 19 | E33: 11 | F33: =E33/D33 -> 0.57894737 | G33: 8 | H33: =G33/E33 -> 0.72727273 | I33: 3 | J33: =I33/E33 -> 0.27272727 | K33: 0 | L33: =K33/E33 -> 0 | M33: 0 | N33: =M33/E33 -> 0
C34: Biotehnologii sustenabile | D34: 13 | E34: 6 | F34: =E34/D34 -> 0.46153846 | G34: 2 | H34: =G34/E34 -> 0.33333333 | I34: 4 | J34: =I34/E34 -> 0.66666667 | K34: 0 | L34: =K34/E34 -> 0 | M34: 0 | N34: =M34/E34 -> 0
C35: Comunicare şi relaţii publice | D35: 26 | E35: 12 | F35: =E35/D35 -> 0.46153846 | G35: 6 | H35: =G35/E35 -> 0.5 | I35: 5 | J35: =I35/E35 -> 0.41666667 | K35: 0 | L35: =K35/E35 -> 0 | M35: 1 | N35: =M35/E35 -> 0.083333333
C36: Total master | D36: =SUM(D31:D35) -> 87 | E36: =SUM(E31:E35) -> 51 | F36: =E36/D36 -> 0.5862069 | G36: =SUM(G31:G35) -> 29 | H36: =G36/E36 -> 0.56862745 | I36: =SUM(I31:I35) -> 20 | J36: =I36/E36 -> 0.39215686 | K36: =SUM(K31:K35) -> 0 | L36: =K36/E36 -> 0 | M36: =SUM(M31:M35) -> 2 | N36: =M36/E36 -> 0.039215686
C37: TOTAL Facultate | D37: =D30+D36 -> 279 | E37: =E30+E36 -> 163 | F37: =E37/D37 -> 0.58422939 | G37: =G30+G36 -> 112 | H37: =G37/E37 -> 0.68711656 | I37: =I30+I36 -> 46 | J37: =I37/E37 -> 0.28220859 | K37: =K30+K36 -> 2 | L37: =K37/E37 -> 0.012269939 | M37: =M30+M36 -> 3 | N37: =M37/E37 -> 0.018404908
B38: de Științe Tehnice și Umaniste din Tg. Mureș | C38: Informatică | D38: 34 | E38: 7 | F38: =E38/D38*100 -> 20.588235 | G38: 5 | H38: =G38/E38*100 -> 71.428571 | I38: 2 | J38: =I38/E38*100 -> 28.571429 | K38: 0 | L38: =K38/E38*100 -> 0 | M38: 0 | N38: =M38/E38*100 -> 0
C39: Mecatronică | D39: 17 | E39: 11 | F39: =E39/D39*100 -> 64.705882 | G39: 2 | H39: =G39/E39*100 -> 18.181818 | I39: 9 | J39: =I39/E39*100 -> 81.818182 | K39: 0 | L39: =K39/E39*100 -> 0 | M39: 0 | N39: =M39/E39*100 -> 0
C40: Calculatoare | D40: 27 | E40: 12 | F40: =E40/D40*100 -> 44.444444 | G40: 6 | H40: =G40/E40*100 -> 50 | I40: 6 | J40: =I40/E40*100 -> 50 | K40: 0 | L40: =K40/E40*100 -> 0 | M40: 0 | N40: =M40/E40*100 -> 0
C41: Automatică şi informatică aplicată | D41: 18 | E41: 7 | F41: =E41/D41*100 -> 38.888889 | G41: 3 | H41: =G41/E41*100 -> 42.857143 | I41: 4 | J41: =I41/E41*100 -> 57.142857 | K41: 0 | L41: =K41/E41*100 -> 0 | M41: 0 | N41: =M41/E41*100 -> 0
C42: Comunicații și relații publice | D42: 23 | E42: 9 | F42: =E42/D42*100 -> 39.130435 | G42: 2 | H42: =G42/E42*100 -> 22.222222 | I42: 7 | J42: =I42/E42*100 -> 77.777778 | K42: 0 | L42: =K42/E42*100 -> 0 | M42: 0 | N42: =M42/E42*100 -> 0
C43: Horticultură | D43: 13 | E43: 7 | F43: =E43/D43*100 -> 53.846154 | G43: 3 | H43: =G43/E43*100 -> 42.857143 | I43: 3 | J43: =I43/E43*100 -> 42.857143 | K43: 1 | L43: =K43/E43*100 -> 14.285714 | M43: 0 | N43: =M43/E43*100 -> 0
C44: Traducere și interpretare | D44: 24 | E44: 10 | F44: =E44/D44*100 -> 41.666667 | G44: 8 | H44: =G44/E44*100 -> 80 | I44: 2 | J44: =I44/E44*100 -> 20 | K44: 0 | L44: =K44/E44*100 -> 0 | M44: 0 | N44: =M44/E44*100 -> 0
C45: Tehnologii şi sisteme de telecomunicaţii | D45: 2 | E45: 2 | F45: =E45/D45*100 -> 100 | G45: 1 | H45: =G45/E45*100 -> 50 | I45: 1 | J45: =I45/E45*100 -> 50 | K45: 0 | L45: =K45/E45*100 -> 0 | M45: 0 | N45: =M45/E45*100 -> 0
C46: Tehnologia construcţiilor de maşini | D46: 8 | E46: 7 | F46: =E46/D46*100 -> 87.5 | G46: 4 | H46: =G46/E46*100 -> 57.142857 | I46: 3 | J46: =I46/E46*100 -> 42.857143 | K46: 0 | L46: =K46/E46*100 -> 0 | M46: 0 | N46: =M46/E46*100 -> 0
C47: Servicii și politici de sănătate publică | D47: 20 | E47: 6 | F47: =E47/D47*100 -> 30 | G47: 3 | H47: =G47/E47*100 -> 50 | I47: 3 | J47: =I47/E47*100 -> 50 | K47: 0 | L47: =K47/E47*100 -> 0 | M47: 0 | N47: =M47/E47*100 -> 0
C48: Peisagistică | D48: 29 | E48: 9 | F48: =E48/D48*100 -> 31.034483 | G48: 2 | H48: =G48/E48*100 -> 22.222222 | I48: 7 | J48: =I48/E48*100 -> 77.777778 | K48: 0 | L48: =K48/E48*100 -> 0 | M48: 0 | N48: =M48/E48*100 -> 0
C49: Total licenţă | D49: =SUM(D38:D48) -> 215 | E49: =SUM(E38:E48) -> 87 | F49: =E49/D49 -> 0.40465116 | G49: =SUM(G38:G48) -> 39 | H49: =G49/E49 -> 0.44827586 | I49: =SUM(I38:I48) -> 47 | J49: =I49/E49 -> 0.54022989 | K49: =SUM(K38:K48) -> 1 | L49: =K49/E49 -> 0.011494253 | M49: =SUM(M38:M48) -> 0 | N49: =M49/E49 -> 0
C50: Dezvoltarea aplicaţiilor software | D50: 24 | E50: 15 | F50: =E50/D50*100 -> 62.5 | G50: 11 | H50: =G50/E50*100 -> 73.333333 | I50: 4 | J50: =I50/E50*100 -> 26.666667 | K50: 0 | L50: =K50/E50*100 -> 0 | M50: 0 | N50: =M50/E50*100 -> 0
C51: Protecția plantelor; | D51: 8 | E51: 1 | F51: =E51/D51*100 -> 12.5 | G51: 0 | H51: =G51/E51*100 -> 0 | I51: 1 | J51: =I51/E51*100 -> 100 | K51: 0 | L51: =K51/E51*100 -> 0 | M51: 0 | N51: =M51/E51*100 -> 0
C52: Sisteme mecatronice avansate | D52: 4 | E52: 4 | F52: =E52/D52*100 -> 100 | G52: 2 | H52: =G52/E52*100 -> 50 | I52: 2 | J52: =I52/E52*100 -> 50 | K52: 0 | L52: =K52/E52*100 -> 0 | M52: 0 | N52: =M52/E52*100 -> 0
C53: Sisteme de control inteligente | D53: 11 | E53: 2 | F53: =E53/D53*100 -> 18.181818 | G53: 1 | H53: =G53/E53*100 -> 50 | I53: 1 | J53: =I53/E53*100 -> 50 | K53: 0 | L53: =K53/E53*100 -> 0 | M53: 0 | N53: =M53/E53*100 -> 0
C54: Total master | D54: =SUM(D50:D53) -> 47 | E54: =SUM(E50:E53) -> 22 | F54: =E54/D54 -> 0.46808511 | G54: =SUM(G50:G53) -> 14 | H54: =G54/E54 -> 0.63636364 | I54: =SUM(I50:I53) -> 8 | J54: =I54/E54 -> 0.36363636 | K54: =SUM(K50:K53) -> 0 | L54: =K54/E54 -> 0 | M54: =SUM(M50:M53) -> 0 | N54: =M54/E54 -> 0
C55: TOTAL Facultate | D55: =D49+D54 -> 262 | E55: =E49+E54 -> 109 | F55: =E55/D55 -> 0.41603053 | G55: =G49+G54 -> 53 | H55: =G55/E55 -> 0.48623853 | I55: =I54+I49 -> 55 | J55: =I55/E55 -> 0.50458716 | K55: =K49+K54 -> 1 | L55: =K55/E55 -> 0.0091743119 | M55: =M49+M54 -> 0 | N55: =M55/E55 -> 0
B56: de Ştiinţe ale Vieții și Sport din Sfântu Gheorghe | C56: Agricultură | D56: 14 | E56: 9 | F56: =E56/D56 -> 0.64285714 | G56: 8 | H56: =G56/E56 -> 0.88888889 | I56: 1 | J56: =I56/E56 -> 0.11111111 | K56: 0 | L56: =K56/E56 -> 0 | M56: 0 | N56: =M56/E56 -> 0
C57: Silvicultură | D57: 14 | E57: 9 | F57: =E57/D57 -> 0.64285714 | G57: 8 | H57: =G57/E57 -> 0.88888889 | I57: 1 | J57: =I57/E57 -> 0.11111111 | K57: 0 | L57: =K57/E57 -> 0 | M57: 0 | N57: =M57/E57 -> 0
C58: Total licenţă | D58: =SUM(D56:D57) -> 28 | E58: =SUM(E56:E57) -> 18 | F58: =E58/D58 -> 0.64285714 | G58: 10 | H58: =G58/E58 -> 0.55555556 | I58: 8 | J58: =I58/E58 -> 0.44444444 | K58: =SUM(K56:K57) -> 0 | L58: =K58/E58 -> 0 | M58: =SUM(M56:M57) -> 0 | N58: =M58/E58 -> 0
