Workbook

Sheet Munka1
B2: Tabelul nr.1a. – Oferta educaţională a Universităţii Sapientia la nivel de licență pentru anul universitar 2025/2026
B3: Facultatea | C3: Denumirea programului de studiu | D3: Situaţia programului de studiu | E3: Anul de evaluarea internă/externă, reevaluare
D4: A-acreditat; AP- autorizat provizoriu
D5: RA- reacreditat
B6: 1 | C6: 2 | D6: 3 | E6: 4
B7: Facultatea de Ştiinţe şi Arte din Cluj-Napoca | C7: Relaţii internaţionale şi studii europene | D7: RA - reacreditat | E7: 2028
C8: Cinematografie, fotografie, media | D8: RA - reacreditat | E8: 2029
C9: Ştiinţa mediului | D9: RA - reacreditat | E9: 2030
C10: Drept | D10: A - acreditat | E10: 2029
C11: Artele spectacolului (coreografie) | D11: AP - autorizat provizoriu | E11: 2030
B12: Facultatea de Ştiinţe Economice, Socio-Umaniste și Ingineresti din Miercurea Ciuc | C12: Economie generală | D12: RA- reacreditat | E12: 2026
C13: Economie agroalimentară | D13: RA- reacreditat | E13: 2030
C14: Contabilitate şi informatică de gestiune | D14: RA- reacreditat | E14: 2028
C15: Educație fizică și sport | D15: AP - autorizat provizoriu | E15: 2029
C16: Lb. si lit. română şi limba și lit. engleză | D16: RA- reacreditat | E16: 2026
C17: Marketing | D17: A | E17: 2026
C18: Literatură universală şi comparată limbă şi literatură engleză. | D18: A | E18: 2026
C19: Informatică economică | D19: A | E19: 2027
C20: Sociologie | D20: RA- reacreditat | E20: 2026
C21: Resurse umane | D21: A | E21: 2029
C22: Ingineria produselor alimentare | D22: RA- reacreditat | E22: 2026
C23: Comunicare şi relaţii publice | D23: RA- reacreditat | E23: 2026
C24: Biotehnologii: Inginerie genetică | D24: A | E24: 2030
C25: Inginerie şi management în alimentaţie publică şi agroturism | D25: A | E25: 2027
B26: Facultatea de Ştiinţe Tehnice şi Umaniste din Târgu Mureş | C26: Informatică | D26: RA- reacreditat | E26: 2027
C27: Mecatronică | D27: RA- reacreditat | E27: 2026
C28: Calculatoare | D28: RA- reacreditat | E28: 2026
C29: Automatică şi informatică aplicată | D29: RA- reacreditat | E29: 2027
C30: Horticultură | D30: RA- reacreditat | E30: 2028
C31: Comunicare şi relaţii publice | D31: RA- reacreditat | E31: 2028
C32: Traducere şi interpretare | D32: RA- reacreditat | E32: 2026
C33: Tehnologii şi sisteme de telecomunicaţii | D33: RA – acreditat | E33: 2027
C34: Tehnologia construcţiilor de maşini | D34: RA – acreditat | E34: 2027
C35: Servicii şi politici de sănătate publică | D35: RA- reacreditat | E35: 2028
C36: Peisagistică | D36: A - Acreditat | E36: 2029
B37: Facultatea de Ştiinţe ale Vieţii şi Sport | C37: Agricultură (Sf. Gheorghe) | D37: A – Acreditat | E37: 2027
C38: Silvicultură (Sf. Gheorghe) | D38: AP – Autorizat provizoriu | E38: 2026
C39: Sport și performanță motrică | D39: AP – Autorizat provizoriu | E39: 2028
B40: Departamentul de Specialitate cu Profil Psihopedagogic | C40: Programul de formare psihopedagogică în vederea certificării competențelor pentru profesia didactică DPPD - Cluj Napoca | D40: RA-reacreditat (– Menținerea calității de instituție furnizoare de formare psihopedagogică în vederea certificării competențelor pentru profesia didactică) | E40: 2028
C41: Programul de formare psihopedagogică în vederea certificării competențelor pentru profesia didactică DPPD - Târgu Mureș | D41: RA-reacreditat | E41: 2028
...

Sheet Munka2
A1: Tabelul 2.1a. Situaţia cadrelor didactice titularizate în învăţământul superior cu activităţi didactice (număr persoane) pentru anul universitar 2025/2026
A2: Facultatea | B2: Departamentul | C2: Prof. | F2: Conf. | I2: Lector/ | L2: Asist. | O2: Prep | P2: Total cadre didactice | Q2: Total cadre didactice cu norma de bază în Universitate
I3: Şef lucr.
C4: Norma de bază | D4: Asociat cu contract durată determinată | E4: Plata cu ora | F4: Norma de bază | G4: Asociat cu contract durată determinată | H4: Plata cu ora | I4: Norma de bază | J4: Asociat cu contract durată determinată | K4: Plata cu ora | L4: Norma de bază | M4: Asociat cu contract durată determinată | N4: Plata cu ora | O4: Norma de bază
A5: 1 | B5: 2 | C5: 3.1 | D5: 3.2 | E5: 3.3 | F5: 4.1 | G5: 4.2 | H5: 4.3 | I5: 5.1 | J5: 5.2 | K5: 5.3 | L5: 6.1 | M5: 6.2 | N5: 6.3 | O5: 7 | P5: 8 | Q5: 9
A6: de Ştiinţe şi Arte Cluj-Napoca | B6: Studii Europene | C6: 1 | D6: 0 | E6: 0 | F6: 4 | G6: 0 | H6: 1 | I6: 4 | J6: 0 | K6: 4 | L6: 0 | M6: 0 | N6: 4 | O6: 0 | P6: =SUM(C6:O6) -> 18 | Q6: =C6+F6+I6+L6+O6 -> 9
B7: Ştiinţe Juridice | C7: 2 | D7: 0 | E7: 0 | F7: 3 | G7: 2 | H7: 0 | I7: 6 | J7: 0 | K7: 2 | L7: 0 | M7: 0 | N7: 4 | O7: 0 | P7: =SUM(C7:O7) -> 19 | Q7: =C7+F7+I7+L7+O7 -> 11
B8: Media | C8: 1 | D8: 1 | E8: 0 | F8: 5 | G8: 6 | H8: 1 | I8: 5 | J8: 5 | K8: 6 | L8: 2 | M8: 2 | N8: 16 | O8: 0 | P8: =SUM(C8:O8) -> 50 | Q8: =C8+F8+I8+L8+O8 -> 13
B9: Ştiinţa Mediului | C9: 1 | D9: 1 | E9: 1 | F9: 1 | G9: 0 | H9: 3 | I9: 5 | J9: 0 | K9: 5 | L9: 0 | M9: 0 | N9: 0 | O9: 0 | P9: =SUM(C9:O9) -> 17 | Q9: =C9+F9+I9+L9+O9 -> 7
A10: Total facultate | C10: =SUM(C6:C9) -> 5 | D10: =SUM(D6:D9) -> 2 | E10: =SUM(E6:E9) -> 1 | F10: =SUM(F6:F9) -> 13 | G10: =SUM(G6:G9) -> 8 | H10: =SUM(H6:H9) -> 5 | I10: =SUM(I6:I9) -> 20 | J10: =SUM(J6:J9) -> 5 | ... Q10: =SUM(Q6:Q9) -> 40
A11: de Științe Economice, Socio-Umane și Inginereşti din Miercurea Ciuc | B11: Ştiinţa Afacerilor | C11: 0 | D11: 4 | E11: 4 | F11: 1 | G11: 10 | H11: 0 | I11: 2 | J11: 0 | K11: 2 | L11: 1 | M11: 2 | N11: 1 | O11: 0 | P11: =SUM(D11:O11) -> 27 | Q11: =D11+G11+J11+M11 -> 16
B12: Ştiinţe Economice | C12: 2 | D12: 3 | E12: 0 | F12: 1 | G12: 6 | H12: 0 | I12: 1 | J12: 0 | K12: 1 | L12: 2 | M12: 1 | N12: 2 | O12: 0 | P12: =SUM(D12:O12) -> 17 | Q12: =D12+G12+J12+M12 -> 10
B13: Științe Sociale | C13: 4 | D13: 5 | E13: 2 | F13: 0 | G13: 5 | H13: 1 | I13: 2 | J13: 0 | K13: 1 | L13: 2 | M13: 1 | N13: 2 | O13: 0 | P13: =SUM(D13:O13) -> 21 | Q13: =D13+G13+J13+M13 -> 11
B14: Ştiinţe Umane | C14: 0 | D14: 4 | E14: 0 | F14: 3 | G14: 8 | H14: 0 | I14: 2 | J14: 0 | K14: 1 | L14: 6 | M14: 1 | N14: 6 | O14: 0 | P14: =SUM(D14:O14) -> 31 | Q14: =D14+G14+J14+M14 -> 13
B15: Științe Alimentare | C15: 1 | D15: 3 | E15: 0 | F15: 1 | G15: 5 | H15: 0 | I15: 3 | J15: 0 | K15: 1 | L15: 0 | M15: 1 | N15: 0 | O15: 0 | P15: =SUM(D15:O15) -> 14 | Q15: =D15+G15+J15+M15 -> 9
B16: Bioinginerie | C16: 4 | D16: 5 | E16: 0 | F16: 10 | G16: 8 | H16: 0 | I16: 12 | J16: 0 | K16: 3 | L16: 7 | M16: 3 | N16: 7 | O16: 0 | P16: =SUM(D16:O16) -> 55 | Q16: =D16+G16+J16+M16 -> 16
A17: Total facultate | C17: =SUM(C11:C16) -> 11 | D17: =SUM(D11:D16) -> 24 | E17: =SUM(E11:E16) -> 6 | F17: =SUM(F11:F16) -> 16 | G17: =SUM(G11:G16) -> 42 | H17: =SUM(H11:H16) -> 1 | I17: =SUM(I11:I16) -> 22 | J17: =SUM(J11:J16) -> 0 | ... N17: =SUM(N11:N16) -> 18 | O17: 0 | P17: =SUM(P11:P16) -> 165 | Q17: 67
A18: de Ştiinţe Tehnice și Umaniste Tg. Mureș | B18: Inginerie Mecanică | C18: 1 | D18: 0 | E18: 0 | F18: 6 | G18: 3 | H18: 1 | I18: 5 | J18: 0 | K18: 0 | L18: 0 | M18: 0 | N18: 0 | O18: 0 | P18: =SUM(C18:O18) -> 16 | Q18: =C18+F18+I18+L18+O18 -> 12
B19: Inginerie Electrică | C19: 3 | D19: 0 | E19: 0 | F19: 6 | G19: 0 | H19: 3 | I19: 11 | J19: 1 | K19: 0 | L19: 0 | M19: 0 | N19: 0 | O19: 0 | P19: =SUM(C19:O19) -> 24 | Q19: =C19+F19+I19+L19+O19 -> 20
B20: Științe Sociale Aplicate | C20: 0 | D20: 0 | E20: 0 | F20: 5 | G20: 1 | H20: 1 | I20: 7 | J20: 1 | K20: 0 | L20: 0 | M20: 0 | N20: 0 | O20: 0 | P20: =SUM(C20:O20) -> 15 | Q20: =C20+F20+I20+L20+O20 -> 12
B21: Lingvistică Aplicată | C21: 1 | D21: 1 | E21: 1 | F21: 5 | G21: 0 | H21: 1 | I21: 5 | J21: 0 | K21: 0 | L21: 0 | M21: 0 | N21: 0 | O21: 0 | P21: =SUM(C21:O21) -> 14 | Q21: =C21+F21+I21+L21+O21 -> 11
B22: Horticultură | C22: 3 | D22: 0 | E22: 0 | F22: 7 | G22: 1 | H22: 0 | I22: 11 | J22: 2 | K22: 0 | L22: 0 | M22: 0 | N22: 0 | O22: 0 | P22: =SUM(C22:O22) -> 24 | Q22: =C22+F22+I22+L22+O22 -> 21
B23: Matematică-Informatică | C23: 3 | D23: 1 | E23: 1 | F23: 4 | G23: 0 | H23: 4 | I23: 6 | J23: 1 | K23: 1 | L23: 0 | M23: 0 | N23: 0 | O23: 0 | P23: =SUM(C23:O23) -> 21 | Q23: =C23+F23+I23+L23+O23 -> 13
A24: Total facultate | C24: =SUM(C18:C23) -> 11 | D24: =SUM(D18:D23) -> 2 | E24: =SUM(E18:E23) -> 2 | F24: =SUM(F18:F23) -> 33 | G24: =SUM(G18:G23) -> 5 | H24: =SUM(H18:H23) -> 10 | I24: =SUM(I18:I23) -> 45 | J24: =SUM(J18:J23) -> 5 | ... Q24: =SUM(Q18:Q23) -> 89
A25: de Ştiinţe ale Vieții și Sport Sf. Gheorghe | B25: Științe ale Vieții | C25: 1 | D25: 0 | E25: 9 | F25: 3 | G25: 0 | H25: 12 | I25: 11 | J25: 0 | K25: 20 | L25: 0 | M25: 0 | N25: 21 | O25: 0 | P25: =SUM(C25:O25) -> 77 | Q25: =C25+F25+I25 -> 15
A26: Total facultate | C26: 1 | D26: 0 | E26: 9 | F26: 3 | G26: 0 | H26: 12 | I26: 11 | J26: 0 | K26: 20 | L26: 0 | M26: 0 | N26: 21 | O26: 0 | P26: 77 | Q26: =C26+F26+I26 -> 15
A27: DSPP | B27: DSPP | C27: 1 | D27: 0 | E27: 1 | F27: 1 | G27: 0 | H27: 5 | I27: 3 | J27: 0 | K27: 9 | L27: 0 | M27: 0 | N27: 2 | O27: 0 | P27: 22 | Q27: 5
A28: Total Universitate | C28: =C10+C17+C24+C27 -> 28 | D28: =D10+D17+D24+D27 -> 28 | E28: =E10+E17+E24+E27 -> 10 | F28: 65 | G28: =G10+G17+G24+G27 -> 55 | H28: =H10+H17+H24+H27 -> 21 | I28: 98 | J28: =J10+J17+J24+J27 -> 10 | K28: =K10+K17+K24+K27 -> 36 | L28: =L10+L17+L24+L27 -> 20 | M28: =M10+M17+M24+M27 -> 11 | N28: =N10+N17+N24+N27 -> 44 | O28: =O10+O17+O24+O27 -> 0 | P28: 426 | Q28: 211
D34: Titulari | E34: % | F34: Total | G34: %
C35: Prof | D35: 28 | E35: =D35/D40 -> 0.13270142 | F35: 66 | G35: =F35/F40 -> 0.15492958
C36: Conf | D36: 65 | E36: =D36/D40 -> 0.30805687 | F36: 141 | G36: =F36/F40 -> 0.33098592
C37: Lector | D37: 98 | E37: =D37/D40 -> 0.46445498 | F37: 144 | G37: =F37/F40 -> 0.33802817
C38: Asist | D38: 20 | E38: =D38/D40 -> 0.09478673 | F38: 75 | G38: =F38/F40 -> 0.17605634
C39: Preparator | D39: 0 | E39: 0 | F39: 0 | G39: 0
C40: Total | D40: 211 | F40: 426

Sheet Munka3
A1: Tabelul 2.1b. Situaţia cadrelor didactice netitularizate în învăţământul superior, cu titlul recunoscut de Senat la nivelul facultăților pentru anul universitar 2025/2026
A2: Facultatea | B2: Departamentul | C2: Numele și prenumele | D2: Funcția recunoscută
A3: 1 | B3: 2 | C3: 3 | D3: 4
A4: Științe și Arte din Cluj-Napoca | B4: Relații Internaționale și Studii Europene | C4: Anca Filipovici | D4: Lector universitar
C5: Laczkó Rita | D5: Lector universitar
C6: Robert C. Castel | D6: Lector universitar
C7: Szabó Lilla | D7: Lector universitar
C8: Baricz Ágnes | D8: Asistent universitar
C9: Móritz Kinga Eva | D9: Asistent universitar
C10: Kiss Gergely Antal | D10: Asistent universitar
C11: Török Ferenc | D11: Asistent universitar
B12: Științe Juridice | C12: Bartis Előd | D12: Asistent universitar
C13: Ilyés Kinga | D13: Asistent universitar
C14: Nagy Gellért | D14: Asistent universitar
C15: Füzi Norbert | D15: Asistent universitar
B16: Media | C16: Bakk Ágnes Karolina | D16: Lector universitar
C17: Benedek Árpád | D17: Asistent universitar
C18: Böjthe Alex | D18: Asistent universitar
C19: Janisch Attila | D19: Conferențiar universitar
C20: Márton László | D20: Asistent universitar
C21: Czont Attila | D21: Asistent universitar
C22: Jakab Melinda | D22: Asistent universitar
C23: Juhász Csilla | D23: Asistent universitar
C24: Karácsony Zoltán | D24: Lector universitar
C25: Kelemen László | D25: Lector universitar
C26: Lakatos Mihály | D26: Asistent universitar
C27: Maly Róbert | D27: Asistent universitar
C28: Muresan Alice | D28: Asistent universitar
... C37: Orbán Csala | D37: Asistent universitar
B38: Ştiința Mediului | C38: Farkas György | D38: Lector universitar
C39: Ábrán Péter | D39: Lector universitar
A40: Științe Economice, Socio-Umane și Inginerești | B40: Ştiinţa Afacerilor | C40: Geréb László | D40: conferențiar universitar
C41: Birta Zsuzsánna | D41: lector universitar
C42: Bareith Tibor | D42: lector universitar
C43: Vigh Beáta | D43: asistent universitar
C44: Nagy-Kercsó Katalin | D44: asistent universitar
C45: Ágoston Norbert | D45: asistent universitar
B46: Științe Economice | C46: Csata Andrea | D46: asistent universitar
C47: Filep Levente | D47: asistent universitar
C48: Lőrincz Annamária | D48: asistent universitar
...

Sheet Munka4
A2: Tabelul 2.2. Situaţia posturilor conform Statelor de funcţii ale departamentelor în anul universitar 2025/2026
A3: Facultatea | B3: Departamentul | C3: Prof. | F3: Conf. | I3: Lector/Şef lucrări | L3: Asist. | O3: Total posturi | P3: Total posturi ocupate
C5: Total | D5: Ocupat | E5: Vacant | F5: Total | G5: Ocupat | H5: Vacant | I5: Total | J5: Ocupat | K5: Vacant | L5: Total | M5: Ocupat | N5: Vacant
A6: 1 | B6: 2 | C6: 3.1 | D6: 3.2 | E6: 3.3 | F6: 4.1 | G6: 4.2 | H6: 4.3 | I6: 5.1 | J6: 5.2 | K6: 5.3 | L6: 6.1 | M6: 6.2 | N6: 6.3 | O6: 8 | P6: 9 | U6: 2021
A7: de Ştiinţe şi Arte Cluj Napoca | B7: Studii Europene | C7: 1 | D7: 1 | E7: 0 | F7: 6 | G7: 4 | H7: 2 | I7: 6 | J7: 4 | K7: 2 | L7: 2 | M7: 0 | N7: 2 | O7: =C7+F7+I7+L7 -> 15 | P7: =D7+G7+J7+M7 -> 9 | U7: =O7 -> 15 | V7: =P7 -> 9
B8: Științe Juridice | C8: 3 | D8: 2 | E8: 1 | F8: 4 | G8: 3 | H8: 1 | I8: 9 | J8: 6 | K8: 3 | L8: 0 | M8: 0 | N8: 0 | O8: =C8+F8+I8+L8 -> 16 | P8: =D8+G8+J8+M8 -> 11 | U8: =O8 -> 16 | V8: =P8 -> 11
B9: Media | C9: 1 | D9: 1 | E9: 0 | F9: 7 | G9: 5 | H9: 2 | I9: 10 | J9: 5 | K9: 5 | L9: 4 | M9: 2 | N9: 2 | O9: =C9+F9+I9+L9 -> 22 | P9: =D9+G9+J9+M9 -> 13 | U9: =O9 -> 22 | V9: =P9 -> 13
B10: Ştiinţa Mediului | C10: 1 | D10: 1 | E10: 0 | F10: 3 | G10: 1 | H10: 2 | I10: 8 | J10: 5 | K10: 3 | L10: 0 | M10: 0 | N10: 0 | O10: =C10+F10+I10+L10 -> 12 | P10: =D10+G10+J10+M10 -> 7 | U10: =O10 -> 12 | V10: =P10 -> 7
A11: Total facultate | C11: =SUM(C7:C10) -> 6 | D11: =SUM(D7:D10) -> 5 | E11: =SUM(E7:E10) -> 1 | F11: =SUM(F7:F10) -> 20 | G11: =SUM(G7:G10) -> 13 | H11: =SUM(H7:H10) -> 7 | I11: =SUM(I7:I10) -> 33 | J11: =SUM(J7:J10) -> 20 | ... P11: =SUM(P7:P10) -> 40 | U11: =O11 -> 65 | V11: =P11 -> 40
A12: de Științe Economice, Socio-Umane și Ingineresti din Miercurea Ciuc | B12: Ştiinţa Afacerilor | C12: 1 | D12: 1 | E12: 0 | F12: 5 | G12: 4 | H12: 1 | I12: 19 | J12: 10 | K12: 9 | L12: 2 | M12: 0 | N12: 2 | O12: =C12+F12+I12+L12 -> 27 | P12: =D12+G12+J12+M12 -> 15 | U12: =O12 -> 27 | V12: =P12 -> 15
B13: Ştiinţe Economice | C13: 1 | D13: 1 | E13: 0 | F13: 6 | G13: 3 | H13: 3 | I13: 11 | J13: 6 | K13: 5 | L13: 4 | M13: 0 | N13: 4 | O13: =C13+F13+I13+L13 -> 22 | P13: =D13+G13+J13+M13 -> 10 | U13: =O13 -> 22 | V13: =P13 -> 10
B14: Ştiinţe Sociale | C14: 1 | D14: 1 | E14: 0 | F14: 5 | G14: 5 | H14: 0 | I14: 15 | J14: 5 | K14: 10 | L14: 2 | M14: 0 | N14: 2 | O14: =C14+F14+I14+L14 -> 23 | P14: =D14+G14+J14+M14 -> 11 | U14: =O14 -> 23 | V14: =P14 -> 11
B15: Ştiinţe Umane | C15: 2 | D15: 2 | E15: 0 | F15: 4 | G15: 4 | H15: 0 | I15: 14 | J15: 8 | K15: 6 | L15: 9 | M15: 0 | N15: 9 | O15: =C15+F15+I15+L15 -> 29 | P15: =D15+G15+J15+M15 -> 14 | U15: =O15 -> 29 | V15: =P15 -> 14
B16: Ştiinţe alimentare | C16: 2 | D16: 1 | E16: 1 | F16: 4 | G16: 3 | H16: 1 | I16: 8 | J16: 5 | K16: 3 | L16: 1 | M16: 0 | N16: 1 | O16: =C16+F16+I16+L16 -> 15 | P16: =D16+G16+J16+M16 -> 9 | U16: =O16 -> 15 | V16: =P16 -> 9
B17: Bioinginerie | C17: 4 | D17: 3 | E17: 1 | F17: 9 | G17: 5 | H17: 4 | I17: 12 | J17: 8 | K17: 4 | L17: 5 | M17: 0 | N17: 5 | O17: =C17+F17+I17+L17 -> 30 | P17: =D17+G17+J17+M17 -> 16 | U17: =O17 -> 30 | V17: =P17 -> 16
A18: Total facultate | C18: =SUM(C12:C17) -> 11 | D18: =SUM(D12:D17) -> 9 | E18: =SUM(E12:E17) -> 2 | F18: =SUM(F12:F17) -> 33 | G18: =SUM(G12:G17) -> 24 | H18: =SUM(H12:H17) -> 9 | I18: =SUM(I12:I17) -> 79 | J18: =SUM(J12:J17) -> 42 | ... P18: =SUM(P12:P17) -> 75 | U18: =O18 -> 146 | V18: =P18 -> 75
A19: de Științe Tehnice și Umaniste Tg. Mureș | B19: Inginerie Mecanică | C19: 1 | D19: 1 | E19: 0 | F19: 6 | G19: 6 | H19: 0 | I19: 12 | J19: 5 | K19: 7 | L19: 2 | M19: 0 | N19: 2 | O19: =C19+F19+I19+L19 -> 21 | P19: =D19+G19+J19+M19 -> 12 | U19: =O19 -> 21 | V19: =P19 -> 12
B20: Inginerie Electrică | C20: 6 | D20: 3 | E20: 3 | F20: 8 | G20: 6 | H20: 2 | I20: 13 | J20: 11 | K20: 2 | L20: 3 | M20: 0 | N20: 3 | O20: =C20+F20+I20+L20 -> 30 | P20: =D20+G20+J20+M20 -> 20 | U20: =O20 -> 30 | V20: =P20 -> 20
B21: Științe Sociale Aplicate | C21: 0 | D21: 0 | E21: 0 | F21: 6 | G21: 5 | H21: 1 | I21: 13 | J21: 7 | K21: 6 | L21: 2 | M21: 0 | N21: 2 | O21: =C21+F21+I21+L21 -> 21 | P21: =D21+G21+J21+M21 -> 12 | U21: =O21 -> 21 | V21: =P21 -> 12
B22: Lingvistică Aplicată | C22: 1 | D22: 1 | E22: 0 | F22: 5 | G22: 5 | H22: 0 | I22: 9 | J22: 5 | K22: 4 | L22: 7 | M22: 0 | N22: 7 | O22: =C22+F22+I22+L22 -> 22 | P22: =D22+G22+J22+M22 -> 11 | U22: =O22 -> 22 | V22: =P22 -> 11
B23: Horticultură | C23: 4 | D23: 3 | E23: 1 | F23: 8 | G23: 7 | H23: 1 | I23: 16 | J23: 11 | K23: 5 | L23: 3 | M23: 0 | N23: 3 | O23: =C23+F23+I23+L23 -> 31 | P23: =D23+G23+J23+M23 -> 21 | U23: =O23 -> 31 | V23: =P23 -> 21
B24: Matematică-Informatică | C24: 3 | D24: 3 | E24: 0 | F24: 7 | G24: 4 | H24: 3 | I24: 8 | J24: 6 | K24: 2 | L24: 6 | M24: 0 | N24: 6 | O24: =C24+F24+I24+L24 -> 24 | P24: =D24+G24+J24+M24 -> 13 | U24: =O24 -> 24 | V24: =P24 -> 13
A25: Total facultate | C25: =SUM(C19:C24) -> 15 | D25: =SUM(D19:D24) -> 11 | E25: =SUM(E19:E24) -> 4 | F25: =SUM(F19:F24) -> 40 | G25: =SUM(G19:G24) -> 33 | H25: =SUM(H19:H24) -> 7 | I25: =SUM(I19:I24) -> 71 | J25: =SUM(J19:J24) -> 45 | ... P25: =SUM(P19:P24) -> 89 | U25: =O25 -> 149 | V25: =P25 -> 89
A26: de Științe ale Vieții și Sport | B26: Științe ale Vieții | C26: 4 | D26: 1 | E26: 3 | F26: 11 | G26: 3 | H26: 8 | I26: 25 | J26: 11 | K26: 14 | L26: 5 | M26: 0 | N26: 5 | O26: =C26+F26+I26+L26 -> 45 | P26: =D26+G26+M26++J26 -> 15
A27: Total facultate | C27: 4 | D27: 1 | E27: 3 | F27: 11 | G27: 3 | H27: 8 | I27: 25 | J27: 11 | K27: 14 | L27: 5 | M27: 0 | N27: 5 | O27: =C27+F27+I27+L27 -> 45 | P27: 15
B28: DSPP | C28: 1 | D28: 1 | E28: 0 | F28: 1 | G28: 1 | H28: 0 | I28: 10 | J28: 3 | K28: 7 | L28: 0 | M28: 0 | N28: 0 | O28: 12 | P28: 5 | U28: =O28 -> 12 | V28: =P28 -> 5
A29: Total universitate | C29: 37 | D29: 27 | E29: =E11+E18+E25+E28 -> 7 | F29: 105 | G29: 74 | H29: =H11+H18+H25+H28 -> 23 | I29: 218 | J29: 121 | K29: =K11+K18+K25+K28 -> 83 | L29: 57 | M29: =M11+M18+M25+M28 -> 2 | N29: =N11+N18+N25+N28 -> 50 | O29: 417 | P29: 224 | U29: =O29 -> 417 | V29: =P29 -> 224
O31: =P29/O29 -> 0.53717026
C36: Total posturi | D36: Total posturi ocupate | E36: Procent
A37: de Ştiinţe şi Arte Cluj Napoca | B37: Studii Europene | C37: 15 | D37: 9 | E37: =D37/C37 -> 0.6
B38: Științe Juridice | C38: 16 | D38: 11 | E38: =D38/C38 -> 0.6875
B39: Media | C39: 22 | D39: 13 | E39: =D39/C39 -> 0.59090909
B40: Ştiinţa Mediului | C40: 12 | D40: 7 | E40: =D40/C40 -> 0.58333333
A41: de Științe Economice, Socio-Umane și Ingineresti din Miercurea Ciuc | B41: Ştiinţa Afacerilor | C41: 27 | D41: 15 | E41: =D41/C41 -> 0.55555556
B42: Ştiinţe Economice | C42: 22 | D42: 10 | E42: =D42/C42 -> 0.45454545
B43: Ştiinţe Sociale | C43: 23 | D43: 11 | E43: =D43/C43 -> 0.47826087
B44: Ştiinţe Umane | C44: 29 | D44: 14 | E44: =D44/C44 -> 0.48275862
B45: Ştiinţe alimentare | C45: 15 | D45: 9 | E45: =D45/C45 -> 0.6
B46: Bioinginerie | C46: 30 | D46: 16 | E46: =D46/C46 -> 0.53333333
A47: de Științe Tehnice și Umaniste Tg. Mureș | B47: Inginerie Mecanică | C47: 21 | D47: 12 | E47: =D47/C47 -> 0.57142857
...

Sheet Munka6
B3: Tabelul 2.4. Media de vârstă a cadrelor didactice titulare conform statelor de funcții ale departamentelor pentru universitar 2025/2026
B4: Facultatea | C4: Departamentul | D4: Prof. | F4: Conf. | H4: Lector/ | J4: Asist. | L4: Prep. | N4: Media ponderată pe departament
H5: Şef lucr.
D6: Nr. fizic. | E6: Media de vârstă | F6: Nr. fizic. | G6: Media de vârstă | H6: Nr. fizic. | I6: Media de vârstă | J6: Nr. fizic. | K6: Media de vârstă | L6: Nr. fizic. | M6: Media de vârstă
B7: 1 | C7: 2 | D7: 3.1 | E7: 3.2 | F7: 4.1 | G7: 4.2 | H7: 5.1 | I7: 5.2 | J7: 6.1 | K7: 6.2 | L7: 7.1 | M7: 7.2 | N7: 8
B8: de Ştiinţe şi Arte din Cluj-Napoca | C8: Studii Europene | D8: 1 | E8: 51 | F8: 4 | G8: 48 | H8: 4 | I8: 39.25 | J8: 0 | K8: 0 | N8: =(D8*E8+F8*G8+H8*I8+J8*K8+L8+M8)/SUM(D8,F8,H8,J8,L8) -> 44.444444
C9: Şt. Juridice | D9: 2 | E9: 48 | F9: 3 | G9: 55 | H9: 6 | I9: 44.3 | J9: 0 | K9: 0 | N9: =(D9*E9+F9*G9+H9*I9+J9*K9+L9+M9)/SUM(D9,F9,H9,J9,L9) -> 47.890909
C10: Media | D10: 1 | E10: 64 | F10: 5 | G10: 50.6 | H10: 5 | I10: 44.2 | J10: 2 | K10: 41 | N10: =(D10*E10+F10*G10+H10*I10+J10*K10+L10+M10)/SUM(D10,F10,H10,J10,L10) -> 47.692308
C11: Ştiinţa Mediului | D11: 1 | E11: 70 | F11: 1 | G11: 47 | H11: 5 | I11: 47 | J11: 0 | K11: 0 | N11: =(D11*E11+F11*G11+H11*I11+J11*K11+L11+M11)/SUM(D11,F11,H11,J11,L11) -> 50.285714
B12: de Științe Economice, Socio-Umane și Inginereşti din Miercurea Ciuc | C12: Ştiinţa Afacerilor | D12: 1 | E12: 57 | F12: 4 | G12: 53.75 | H12: 10 | I12: 43.4 | J12: 0 | K12: 0 | N12: =(D12*E12+F12*G12+H12*I12+J12*K12)/(D12+F12+H12+J12) -> 47.066667
C13: Ştiinţe Economice | D13: 1 | E13: 57 | F13: 3 | G13: 50.66 | H13: 6 | I13: 50 | J13: 0 | K13: 0 | N13: =(D13*E13+F13*G13+H13*I13+J13*K13)/(D13+F13+H13+J13) -> 50.898
C14: Ştiinţe Sociale | D14: 1 | E14: 47 | F14: 5 | G14: 53.28 | H14: 6 | I14: 46.33 | J14: 0 | K14: 0 | N14: =(D14*E14+F14*G14+H14*I14+J14*K14)/(D14+F14+H14+J14) -> 49.281667
C15: Ştiinţe Umane | D15: 2 | E15: 58 | F15: 4 | G15: 51.5 | H15: 8 | I15: 46.63 | J15: 0 | K15: 0 | N15: =(D15*E15+F15*G15+H15*I15+J15*K15)/(D15+F15+H15+J15) -> 49.645714
C16: Ştiinţe Alimentare | D16: 1 | E16: 52 | F16: 3 | G16: 46.3 | H16: 5 | I16: 50.6 | J16: 1 | K16: 37 | N16: =(D16*E16+F16*G16+H16*I16+J16*K16)/(D16+F16+H16+J16) -> 48.09
C17: Bioinginerie | D17: 3 | E17: 55 | F17: 5 | G17: 45 | H17: 8 | I17: 43 | J17: 0 | K17: 0 | N17: =(D17*E17+F17*G17+H17*I17+J17*K17)/(D17+F17+H17+J17) -> 45.875
B18: de Științe Tehnice și Umaniste Tg. Mureș | C18: Inginerie Mecanică | D18: 1 | E18: 65 | F18: 6 | G18: 55 | H18: 5 | I18: 48 | J18: 0 | K18: 0 | N18: =(D18*E18+F18*G18+H18*I18+J18*K18)/(D18+F18+H18+J18) -> 52.916667
C19: Inginerie Electrică | D19: 3 | E19: 57 | F19: 6 | G19: 53 | H19: 11 | I19: 53 | J19: 0 | K19: 0 | N19: =(D19*E19+F19*G19+H19*I19+J19*K19)/(D19+F19+H19+J19) -> 53.6
C20: Științe Sociale Aplicate | D20: 0 | E20: 0 | F20: 5 | G20: 49.2 | H20: 7 | I20: 44.71 | J20: 0 | K20: 0 | N20: =(D20*E20+F20*G20+H20*I20+J20*K20)/(D20+F20+H20+J20) -> 46.580833
C21: Lingvistică Aplicată | D21: 1 | E21: 51 | F21: 5 | G21: 53 | H21: 5 | I21: 49.4 | J21: 0 | K21: 0 | N21: =(D21*E21+F21*G21+H21*I21+J21*K21)/(D21+F21+H21+J21) -> 51.181818
C22: Horticultură | D22: 3 | E22: 55.67 | F22: 7 | G22: 48.14 | H22: 11 | I22: 45.09 | J22: 0 | K22: 0 | N22: =(D22*E22+F22*G22+H22*I22+J22*K22)/(D22+F22+H22+J22) -> 47.618095
C23: Matematică-Informatică | D23: 3 | E23: 47.6 | F23: 4 | G23: 54.4 | H23: 6 | I23: 46 | J23: 0 | K23: 0 | N23: =(D23*E23+F23*G23+H23*I23+J23*K23)/(D23+F23+H23+J23) -> 48.953846
B24: de Științe ale Vieții și Sport | C24: Științe ale Vieții | D24: 1 | E24: 67 | F24: 3 | G24: 52 | H24: 11 | I24: 45 | J24: 0 | K24: 0 | N24: 47,87
B25: DSPP | C25: DSPP | D25: 1 | E25: 50 | F25: 1 | G25: 58 | H25: 3 | I25: 47.33 | J25: 0 | K25: 0 | N25: =(D25*E25+F25*G25+H25*I25)/SUM(D25,F25,H25) -> 49.998
M32: 1 | N32: 67 | O32: 3 | P32: 52 | Q32: 11 | R32: 45 | S32: 0 | T32: 0

Sheet Munka7
A2: Tabelul 2.5. Situaţia cadrelor didactice pensionate (nr. persoane) care desfăşoară activitate didactică în anul universitar 2025/2026
A3: Facultatea | B3: Departamentul | C3: Nr. cadre didactice pensionate | F3: Modul de suplinire a orelor
C4: Cu titlul de profesor | D4: Cu titlul de conferenţiar | E4: Lector | F4: Plata cu ora | G4: Contract de muncă pe perioadă determinată
A5: de Științe și Arte din Cluj-Napoca | B5: Media | C5: 0 | D5: 0 | E5: 0 | F5: 0 | G5: 0
B6: Ştiinţa Mediului | C6: 1 | D6: 0 | E6: 0 | F6: 0 | G6: 0
B7: Științe juridice | C7: 0 | D7: 0 | E7: 0 | F7: 0 | G7: 0
B8: Studii europene | C8: 0 | D8: 0 | E8: 0 | F8: 0 | G8: 0
B9: Total facultate | C9: =C5+C6+C7+C8 -> 1 | D9: =D5+D6+D7+D8 -> 0 | E9: =E5+E6+E7+E8 -> 0 | F9: =F5+F6+F7+F8 -> 0 | G9: =G5+G6+G7+G8 -> 0
A10: de Științe Econimice, Socio-Umane și Inginerești din Miercurea Ciuc | B10: Ştiinţe Economice | C10: 1 | D10: 0 | E10: 1 | F10: 1 | G10: 1
B11: Ştiinţa Afacerilor | C11: 0 | D11: 0 | E11: 0 | F11: 0 | G11: 0
B12: Ştiinţe Sociale | C12: 4 | D12: 0 | E12: 0 | F12: 0 | G12: 0
B13: Ştiinţe Umane | C13: 0 | D13: 1 | E13: 0 | F13: 1 | G13: 0
B14: Ştiinţe Alimentare | C14: 0 | D14: 0 | E14: 0 | F14: 0 | G14: 0
B15: Bioinginerie | C15: 1 | D15: 0 | E15: 0 | F15: 1 | G15: 0
B16: Total facultate | C16: =C10+C11+C12+C13+C14+C15 -> 6 | D16: =D10+D11+D12+D13+D14+D15 -> 1 | E16: =E10+E11+E12+E13+E14+E15 -> 1 | F16: =F10+F11+F12+F13+F14+F15 -> 3 | G16: =G10+G11+G12+G13+G14+G15 -> 1
A17: de Științe Tehnice și Umaniste Tg. Mureș | B17: Inginerie Mecanică | C17: 2 | D17: 0 | E17: 0 | F17: 1 | G17: 1
B18: Inginerie Electrică | C18: 1 | F18: 1
B19: Științe Sociale Aplicate | C19: 1 | D19: 0 | E19: 1 | F19: 2 | G19: 0
B20: Lingvistică Aplicată | C20: 0 | D20: 0 | E20: 0 | F20: 0 | G20: 0
B21: Horticultură | C21: 1 | D21: 0 | E21: 0 | F21: 0 | G21: 1
B22: Matematică-Informatică | C22: 0 | D22: 1 | E22: 0 | F22: 1 | G22: 0
B23: Total facultate | C23: =C17+C18+C19+C20+C21+C22 -> 5 | D23: =D17+D18+D19+D20+D21+D22 -> 1 | E23: =E17+E18+E19+E20+E21+E22 -> 1 | F23: =F17+F18+F19+F20+F21+F22 -> 5 | G23: =G17+G18+G19+G20+G21+G22 -> 2
A24: de Științe ale Vieții și Sport | B24: Științe ale Vieții | C24: 1 | D24: 0 | E24: 0 | F24: 8 | G24: 0
B25: Total facultate | C25: 1 | D25: 0 | E25: 0 | F25: 5 | G25: 0
A26: DSPP | B26: DSPP | C26: 0 | D26: 1 | E26: 0 | F26: 1 | G26: 0
A27: Total universitate | C27: 13 | D27: 3 | E27: =E9+E16+E23+E26 -> 2 | F27: 14 | G27: 3
B32: prof | C32: conf | D32: lector | E32: plata cu ora | F32: contract de munca
A33: FSA | B33: 1 | C33: 0 | D33: 0 | E33: 0 | F33: 0
A34: FSESUI | B34: 6 | C34: 1 | D34: 1 | E34: 3 | F34: 1
A35: FSTU | B35: 5 | C35: 1 | D35: 1 | E35: 5 | F35: 2
A36: FSVS | B36: 1 | C36: 0 | D36: 0 | E36: 5 | F36: 0
A37: DSPP | B37: 0 | C37: 1 | D37: 0 | E37: 1 | F37: 0
A38: Universitate | B38: 13 | C38: 3 | D38: 2 | E38: 14 | F38: 3

Sheet Munka8
A2: Tabelul 3.1. Situaţia elaborării materialelor didactice care acoperă în întregime/parţial problemetica disciplinei de către cadrele didactice din departamente (situație globală la data de 31 decembrie 2025 numeric)
A3: Facultatea | B3: Departamentul | C3: Materiale apărute în edituri cu ISBN care acoperă integral sau parţial problemetica disciplinelor | Q3: Alte materiale didactice elaborate de cadrele didactice şi aprobate în departament, accesibile în bibliotecă sau pe site/intranet | S3: Total
C4: Carte de specialitate | E4: Manuale universitare | G4: Cursuri universitare | I4: Îndrumare laborator, de proiectare si calcule tehnologice | K4: Culegeri de probleme | M4: Dicţionare, comp. texte. | O4: Culegeri de texte
C5: T | D5: E | E5: T | F5: E | G5: T | H5: E | I5: T | J5: E | K5: T | L5: E | M5: T | N5: E | O5: T | P5: E | Q5: T | R5: E | S5: T | T5: E | U5: T | V5: Tipărit
A6: de Științe și Arte din Cluj-Napoca | B6: Studii Europene | C6: 20 | D6: 2 | E6: 1 | F6: 0 | G6: 5 | H6: 0 | I6: 1 | J6: 0 | K6: 0 | L6: 0 | M6: 0 | N6: 0 | O6: 6 | P6: 11 | Q6: 0 | R6: 28 | S6: =C6+E6+G6+I6+K6+M6+O6+Q6 -> 33 | T6: =D6+F6+H6+J6+L6+N6+P6+R6 -> 41 | U6: E | V6: Format digital
B7: Ştiinţe Juridice | C7: 95 | D7: 0 | E7: 31 | F7: 0 | G7: 26 | H7: 0 | I7: 0 | J7: 0 | K7: 0 | L7: 0 | M7: 0 | N7: 0 | O7: 1 | P7: 1 | Q7: 0 | R7: 0 | S7: =C7+E7+G7+I7+K7+M7+O7+Q7 -> 153 | T7: =D7+F7+H7+J7+L7+N7+P7+R7 -> 1
B8: Media | C8: 64 | D8: 0 | E8: 0 | F8: 0 | G8: 8 | H8: 0 | I8: 0 | J8: 0 | K8: 0 | L8: 0 | M8: 1 | N8: 0 | O8: 9 | P8: 0 | Q8: 59 | R8: 23 | S8: =C8+E8+G8+I8+K8+M8+O8+Q8 -> 141 | T8: =D8+F8+H8+J8+L8+N8+P8+R8 -> 23
B9: Ştiinţa Mediului | C9: 22 | D9: 0 | E9: 3 | F9: 2 | G9: 0 | H9: 30 | I9: 6 | J9: 0 | K9: 0 | L9: 0 | M9: 1 | N9: 0 | O9: 6 | P9: 0 | Q9: 3 | R9: 2 | S9: =C9+E9+G9+I9+K9+M9+O9+Q9 -> 41 | T9: =D9+F9+H9+J9+L9+N9+P9+R9 -> 34
B10: Total facultate | C10: =SUM(C6:C9) -> 201 | D10: =SUM(D6:D9) -> 2 | E10: =SUM(E6:E9) -> 35 | F10: =SUM(F6:F9) -> 2 | G10: =SUM(G6:G9) -> 39 | H10: =SUM(H6:H9) -> 30 | I10: =SUM(I6:I9) -> 7 | J10: =SUM(J6:J9) -> 0 | ... T10: =SUM(T6:T9) -> 99
A11: de Științe Economice, Socio-Umane și Inginerești din Miercurea Ciuc | B11: Ştiinţe Economice | C11: 19 | D11: 0 | E11: 8 | F11: 1 | G11: 2 | H11: 2 | I11: 0 | J11: 8 | K11: 4 | L11: 2 | M11: 0 | N11: 0 | O11: 0 | P11: 1 | Q11: 8 | R11: 6 | S11: =C11+E11+G11+I11+K11+M11+O11+Q11 -> 41 | T11: =D11+F11+H11+J11+L11+N11+P11+R11 -> 20
B12: Ştiinţa Afacerilor | C12: 20 | D12: 1 | E12: 4 | F12: 0 | G12: 1 | H12: 1 | I12: 7 | J12: 0 | K12: 1 | L12: 0 | M12: 0 | N12: 0 | O12: 0 | P12: 0 | Q12: 3 | R12: 9 | S12: =C12+E12+G12+I12+K12+M12+O12+Q12 -> 36 | T12: =D12+F12+H12+J12+L12+N12+P12+R12 -> 11
B13: Ştiinţe Sociale | C13: 23 | D13: 2 | E13: 12 | F13: 4 | G13: 0 | H13: 20 | I13: 0 | J13: 6 | K13: 0 | L13: 0 | M13: 0 | N13: 0 | O13: 1 | P13: 14 | Q13: 3 | R13: 14 | S13: =C13+E13+G13+I13+K13+M13+O13+Q13 -> 39 | T13: =D13+F13+H13+J13+L13+N13+P13+R13 -> 60
B14: Științe Umane | C14: 24 | D14: 1 | E14: 0 | F14: 0 | G14: 3 | H14: 0 | I14: 0 | J14: 0 | K14: 1 | L14: 2 | M14: 1 | N14: 0 | O14: 1 | P14: 0 | Q14: 18 | R14: 25 | S14: =C14+E14+G14+I14+K14+M14+O14+Q14 -> 48 | T14: =D14+F14+H14+J14+L14+N14+P14+R14 -> 28
B15: Ştiinţe Alimentare | C15: 18 | D15: 0 | E15: 4 | F15: 1 | G15: 5 | H15: 1 | I15: 5 | J15: 2 | K15: 0 | L15: 0 | M15: 3 | N15: 0 | O15: 0 | P15: 0 | Q15: 0 | R15: 5 | S15: =C15+E15+G15+I15+K15+M15+O15+Q15 -> 35 | T15: =D15+F15+H15+J15+L15+N15+P15+R15 -> 9
B16: Bioinginerie | C16: 1 | D16: 0 | E16: 4 | F16: 0 | G16: 4 | H16: 1 | I16: 1 | J16: 2 | K16: 0 | L16: 0 | M16: 0 | N16: 0 | O16: 0 | P16: 0 | Q16: 0 | R16: 28 | S16: =C16+E16+G16+I16+K16+M16+O16+Q16 -> 10 | T16: =D16+F16+H16+J16+L16+N16+P16+R16 -> 31
B17: Total facultate | C17: =C11+C12+C13+C14+C15+C16 -> 105 | D17: =D11+D12+D13+D14+D15+D16 -> 4 | E17: =E11+E12+E13+E14+E15+E16 -> 32 | F17: =F11+F12+F13+F14+F15+F16 -> 6 | G17: =G11+G12+G13+G14+G15+G16 -> 15 | H17: =H11+H12+H13+H14+H15+H16 -> 25 | I17: =I11+I12+I13+I14+I15+I16 -> 13 | J17: =J11+J12+J13+J14+J15+J16 -> 18 | ... T17: =T11+T12+T13+T14+T15+T16 -> 159
A18: de Științe Tehnice și Umaniste Tg. Mureș | B18: Inginerie Mecanică | C18: 0 | D18: 0 | E18: 1 | F18: 0 | G18: 0 | H18: 1 | I18: 0 | J18: 0 | K18: 0 | L18: 0 | M18: 0 | N18: 0 | O18: 0 | P18: 0 | Q18: 0 | R18: 0 | S18: 1 | T18: 1
B19: Inginerie Electrică | C19: 0 | D19: 0 | E19: 0 | F19: 0 | G19: 1 | H19: 0 | I19: 0 | J19: 0 | K19: 0 | L19: 0 | M19: 0 | N19: 0 | O19: 0 | P19: 0 | Q19: 0 | R19: 0 | S19: 0 | T19: 0
B20: Științe Sociale Aplicate | C20: 1 | D20: 0 | E20: 2 | F20: 0 | G20: 0 | H20: 0 | I20: 0 | J20: 0 | K20: 0 | L20: 0 | M20: 0 | N20: 0 | O20: 0 | P20: 0 | Q20: 1 | R20: 0 | S20: 4 | T20: 0
B21: Lingvistică Aplicată | C21: 1 | D21: 0 | E21: 1 | F21: 0 | G21: 0 | H21: 2 | I21: 0 | J21: 1 | K21: 0 | L21: 0 | M21: 0 | N21: 0 | O21: 0 | P21: 9 | Q21: 0 | R21: 28 | S21: 2 | T21: 40
B22: Horticultură | C22: 0 | D22: 0 | E22: 0 | F22: 0 | G22: 0 | H22: 0 | I22: 0 | J22: 0 | K22: 0 | L22: 0 | M22: 0 | N22: 0 | O22: 0 | P22: 0 | Q22: 0 | R22: 0 | S22: 0 | T22: 0
B23: Matematică-Informatică | C23: 0 | D23: 0 | E23: 1 | F23: 5 | G23: 0 | H23: 0 | I23: 0 | J23: 0 | K23: 0 | L23: 0 | M23: 0 | N23: 0 | O23: 0 | P23: 0 | Q23: 0 | R23: 0 | S23: 0 | T23: 0
B24: Total facultate | C24: =SUM(C18:C23) -> 2 | D24: =SUM(D18:D23) -> 0 | E24: =SUM(E18:E23) -> 5 | F24: =SUM(F18:F23) -> 5 | G24: =SUM(G18:G23) -> 1 | H24: =SUM(H18:H23) -> 3 | I24: =SUM(I18:I23) -> 0 | J24: =SUM(J18:J23) -> 1 | ... R24: =SUM(R18:R23) -> 28 | S24: =C24+E24+G24+I24+K24+M24+O24+Q24 -> 9 | T24: =D24+F24+H24+J24+L24+N24+P24+R24 -> 46
B25: Agricultură | C25: 2 | D25: 1 | E25: 1 | F25: 0 | G25: 1 | H25: 4 | I25: 0 | J25: 4 | K25: 0 | L25: 0 | M25: 0 | N25: 0 | O25: 0 | P25: 0 | Q25: 1 | R25: 21 | S25: =C25+E25+G25+I25+K25+M25+O25+Q25 -> 5 | T25: =D25+F25+H25+J25+L25+N25+P25+R25 -> 30
B26: Silvicultură | C26: 2 | D26: 1 | E26: 4 | F26: 3 | G26: 0 | H26: 7 | I26: 0 | J26: 1 | K26: 0 | L26: 0 | M26: 0 | N26: 0 | O26: 0 | P26: 1 | Q26: 3 | R26: 18 | S26: =C26+E26+G26+I26+K26+M26+O26+Q26 -> 9 | T26: =D26+F26+H26+J26+L26+N26+P26+R26 -> 31
A27: de Științe ale Vieții și Sport | B27: Sport și performanță motrică | C27: 0 | D27: 0 | E27: 0 | F27: 0 | G27: 0 | H27: 0 | I27: 0 | J27: 0 | K27: 0 | L27: 0 | M27: 0 | N27: 0 | O27: 0 | P27: 0 | Q27: 0 | R27: 0 | S27: 0 | T27: =D27+F27+H27+J27+L27+N27+P27+R27 -> 0
B28: Total facultate | C28: =SUM(C25:C27) -> 4 | D28: =SUM(D25:D27) -> 2 | E28: =SUM(E25:E27) -> 5 | F28: =SUM(F25:F27) -> 3 | G28: =SUM(G25:G27) -> 1 | H28: =SUM(H25:H27) -> 11 | I28: =SUM(I25:I27) -> 0 | J28: =SUM(J25:J27) -> 5 | ... T28: =SUM(T25:T27) -> 61
A29: DSPP | B29: DSPP | C29: 9 | D29: 0 | E29: 0 | F29: 0 | G29: 3 | H29: 5 | I29: 0 | J29: 0 | K29: 0 | L29: 0 | M29: 1 | N29: 0 | O29: 0 | P29: 0 | Q29: 0 | R29: 30 | S29: 13 | T29: 35
A30: Total Universitate | C30: 321 | D30: 8 | E30: 77 | F30: 16 | G30: 59 | H30: 74 | I30: =I10+I17+I24+I29 -> 20 | J30: 24 | K30: =K10+K17+K24+K29 -> 6 | L30: =L10+L17+L24+L29 -> 4 | M30: =M10+M17+M24+M29 -> 7 | N30: =N10+N17+N24+N29 -> 0 | O30: =O10+O17+O24+O29 -> 24 | P30: 37 | Q30: 99 | R30: 237 | S30: 613 | T30: 400
X32: total T | Y32: total E
X33: 613 | Y33: 400
C34: carti T | D34: carti E | E34: manuale T | F34: manuale E | G34: cursuri T | H34: cursuri E | I34: indrumar T | J34: indrumar E | K34: culegeri T | L34: culegeri E | M34: dict T | N34: dict E | O34: culeg T | P34: culeg E | Q34: alte T | R34: alte E | S34: total T | T34: total E
B35: FSA | C35: 201 | D35: 2 | E35: 35 | F35: 2 | G35: 39 | H35: 30 | I35: 7 | J35: 0 | K35: 0 | L35: 0 | M35: 2 | N35: 0 | O35: 22 | P35: 12 | Q35: 62 | R35: 53 | S35: 368 | T35: 99
B36: FSE S-U I | C36: 105 | D36: 4 | E36: 32 | F36: 6 | G36: 15 | H36: 25 | I36: 13 | J36: 18 | K36: 6 | L36: 4 | M36: 4 | N36: 0 | O36: 2 | P36: 15 | Q36: 32 | R36: 87 | S36: 209 | T36: 159
B37: FSTU | C37: 2 | D37: 0 | E37: 5 | F37: 5 | G37: 1 | H37: 3 | I37: 0 | J37: 1 | K37: 0 | L37: 0 | M37: 0 | N37: 0 | O37: 0 | P37: 0 | Q37: 1 | R37: 28 | S37: 9 | T37: 46
B38: FSVS | C38: 4 | D38: 2 | E38: 5 | F38: 3 | G38: 1 | H38: 11 | I38: 0 | J38: 5 | K38: 0 | L38: 0 | M38: 0 | N38: 0 | O38: 0 | P38: 9 | Q38: 4 | R38: 39 | S38: 14 | T38: 61
B39: DSPP | C39: 9 | D39: 0 | E39: 0 | F39: 0 | G39: 3 | H39: 5 | I39: 0 | J39: 0 | K39: 0 | L39: 0 | M39: 1 | N39: 0 | O39: 0 | P39: 1 | Q39: 0 | R39: 30 | S39: 13 | T39: 35
B40: Univ | C40: =SUM(C35:C39) -> 321 | D40: =SUM(D35:D39) -> 8 | E40: =SUM(E35:E39) -> 77 | F40: =SUM(F35:F39) -> 16 | G40: =SUM(G35:G39) -> 59 | H40: =SUM(H35:H39) -> 74 | I40: =SUM(I35:I39) -> 20 | J40: =SUM(J35:J39) -> 24 | ... S40: =SUM(S35:S39) -> 613 | T40: 400

Sheet Munka9
A3: Tabel 3.2a. Evaluarea atmosferei de lucru din departamente la nivelul anului universitar 2025/2026, în baza evaluării colegiale
A4: Facultatea | B4: Departament | C4: %
C5: Activ | D5: Cooperant | E5: Altruist | F5: Facilitează relaţiile | G5: Creativ | H5: Obiectiv | I5: Consecvent | J5: Punct de vedere hotărât | K5: Media
A6: Știinte și Arte din Cluj-Napoca | B6: Studii Europene | C6: 0.95 | D6: 0.93 | E6: 0.97 | F6: 0.96 | G6: 0.93 | H6: 1 | I6: 0.96 | J6: 0.97 | K6: =(C6+D6+E6+F6+G6+H6+I6+J6)/8 -> 0.95875
B7: Ştiinţe Juridice | C7: 0.889 | D7: 0.9246 | E7: 0.8244 | F7: 0.8736 | G7: 0.853 | H7: 0.9868 | I7: 0.989 | J7: 0.9756 | K7: =(C7+D7+E7+F7+G7+H7+I7+J7)/8 -> 0.9145
B8: Media | C8: 0.988 | D8: 0.988 | E8: 0.984 | F8: 0.987 | G8: 0.995 | H8: 0.991 | I8: 0.988 | J8: 0.996 | K8: =(C8+D8+E8+F8+G8+H8+I8+J8)/8 -> 0.989625
B9: Ştiinţa Mediului | C9: 0.8857 | D9: 0.971 | E9: 1 | F9: 0.942 | G9: 0.914 | H9: 0.942 | I9: 0.971 | J9: 0.971 | K9: =(C9+D9+E9+F9+G9+H9+I9+J9)/8 -> 0.9495875
A10: de Științe Economice, Socio-Umane și Inginerești din Miercurea Ciuc | B10: Ştiinţe Economice | C10: 0.8645 | D10: 0.8347 | E10: 0.886 | F10: 0.8331 | G10: 0.8165 | H10: 0.8264 | I10: 0.9025 | J10: 0.843 | K10: =AVERAGE(C10:J10) -> 0.8508375
B11: Ştiinţe Afacerilor | C11: 0.9016 | D11: 0.8996 | E11: 0.9114 | F11: 0.8767 | G11: 0.8816 | H11: 0.9217 | I11: 0.9522 | J11: 0.9231 | K11: =AVERAGE(C11:J11) -> 0.9084875
B12: Ştiinţe Sociale | C12: 0.956 | D12: 0.953 | E12: 0.9408 | F12: 0.9152 | G12: 0.9288 | H12: 0.9348 | I12: 0.9485 | J12: 0.9592 | K12: =AVERAGE(C12:J12) -> 0.9420375
B13: Ştiinţe Umane | C13: 0.9582 | D13: 0.9591 | E13: 0.9511 | F13: 0.9342 | G13: 0.9324 | H13: 0.9484 | I13: 0.9778 | J13: 0.9422 | K13: =AVERAGE(C13:J13) -> 0.950425
B14: Ştiinţe Alimentare | C14: 0.94 | D14: 0.93 | E14: 0.96 | F14: 0.85 | G14: 0.94 | H14: 0.96 | I14: 0.98 | J14: 0.94 | K14: =AVERAGE(C14:J14) -> 0.9375
B15: Bioinginerie | C15: 0.9515 | D15: 0.9562 | E15: 0.9621 | F15: 0.9527 | G15: 0.9467 | H15: 0.979 | I15: 0.9846 | J15: 0.9964 | K15: =AVERAGE(C15:J15) -> 0.96615
A16: de Științe Tehnice și Umaniste Tg. Mureș | B16: Inginerie Mecanică | C16: 0.94 | D16: 0.97 | E16: 0.96 | F16: 0.95 | G16: 0.95 | H16: 0.96 | I16: 0.96 | J16: 0.98 | K16: 0.9575
B17: Inginerie Electrică | C17: 0.82 | D17: 0.85 | E17: 0.87 | F17: 0.85 | G17: 0.82 | H17: 0.87 | I17: 0.89 | J17: 0.91 | K17: 0.86
B18: Științe Sociale Aplicate | C18: 0.93 | D18: 0.93 | E18: 0.89 | F18: 0.92 | G18: 0.94 | H18: 0.91 | I18: 0.92 | J18: 0.94 | K18: 0.9225
B19: Lingvistică Aplicată | C19: 0.92 | D19: 0.91 | E19: 0.89 | F19: 0.9 | G19: 0.9 | H19: 0.85 | I19: 0.93 | J19: 0.95 | K19: 0.90625
B20: Horticultură | C20: 0.87 | D20: 0.9 | E20: 0.89 | F20: 0.89 | G20: 0.91 | H20: 0.9 | I20: 0.92 | J20: 0.93 | K20: 0.90125
B21: Matematică-Informatică | C21: 0.99 | D21: 0.99 | E21: 0.99 | F21: 0.99 | G21: 0.99 | H21: 0.99 | I21: 0.99 | J21: 0.98 | K21: 0.99
A22: de Științe ale Vieții și Sport | B22: Științe ale Vieții | C22: 0.886 | D22: 0.9349 | E22: 0.9225 | F22: 0.9372 | G22: 0.9012 | H22: 0.9392 | I22: 0.9419 | J22: 0.9465 | K22: =AVERAGE(C22:J22) -> 0.926175
A23: DSPP | B23: DSPP | C23: 1 | D23: 1 | E23: 1 | F23: 1 | G23: 1 | H23: 1 | I23: 1 | J23: 1 | K23: 1
B25: Peste 86% | C25: 60-85% | D25: 50-59% | E25: 24-49% | F25: sub 25%
B26: X | C26: X
B27: Foarte stimulativ | C27: Stimulativ | D27: Nestimulativ | E27: Impedimenteaza | F27: Risc major

Sheet Munka10
B3: Tabelul 3.3. Rezultatele evaluării de către management a cadrelor didactice din departamente pentru anul 2025 se calculează ca valoarea medie aritmetică a calificativelor obţinute de toate cadrele didactice de acelaşi grad universitar din cadrul departamentului
B4: Facultatea | C4: Departamentul | D4: Min/Max | L4: Valoarea medie aritmetică
D5: Prof. | F5: Conf. | H5: Lector | J5: Asistent | L5: Prof. | M5: Conf. | N5: Lector | O5: Asistent | P5: Prep.
D6: Min | E6: Max | F6: Min | G6: Max | H6: Min | I6: Max | J6: Min | K6: Max
B7: de Științe și Arte din Cluj -Napoca | C7: Studii Europene | D7: 230.923 | E7: 230.923 | F7: 84.825 | G7: 204.725 | H7: 61.371 | I7: 126.996 | J7: - | K7: - | L7: 230.923 | M7: 129.187 | N7: 88.371 | O7: - | P7: -
C8: Ştiinţe Juridice | D8: 166.5 | E8: 574.173 | F8: 69.2 | G8: 203.15 | H8: 54.6 | I8: 205.1 | J8: - | K8: - | L8: 370.336 | M8: 145.066 | N8: 114.508 | O8: - | P8: -
C9: Media | D9: 315.66 | E9: 315.66 | F9: 89.4 | G9: 181.248 | H9: 68.1 | I9: 205.484 | J9: 60.4 | K9: 60.4 | L9: 315.66 | M9: 149.451 | N9: 115.116 | O9: 60.4 | P9: -
C10: Ştiinţa Mediului | D10: 118.3 | E10: 118.3 | F10: 304.923 | G10: 304.923 | H10: 40.86 | I10: 236.692 | L10: 118.3 | M10: 304.923 | N10: 148.7148 | O10: - | P10: -
B11: de Științe Economice, Socio-Umane și Inginerești din Miercurea Ciuc | C11: Ştiinţe Economice | D11: 132 | E11: 132 | F11: 96.89 | G11: 132.26 | H11: 70.6 | I11: 146.28 | J11: 0 | K11: 0 | L11: =AVERAGE(D11:E11) -> 132 | M11: =AVERAGE(F11:G11) -> 114.575 | N11: =AVERAGE(H11:I11) -> 108.44 | O11: =AVERAGE(J11:K11) -> 0
C12: Ştiinţe Afacerilor | D12: 194.37 | E12: 194.37 | F12: 94.9 | G12: 158.96 | H12: 73.77 | I12: 123.63 | J12: 0 | K12: 0 | L12: =AVERAGE(D12:E12) -> 194.37 | M12: =AVERAGE(F12:G12) -> 126.93 | N12: =AVERAGE(H12:I12) -> 98.7 | O12: =AVERAGE(J12:K12) -> 0
C13: Ştiinţe Sociale | D13: 178.28 | E13: 178.28 | F13: 68.3 | G13: 194.75 | H13: 65.8 | I13: 116.5 | J13: 0 | K13: 0 | L13: =AVERAGE(D13:E13) -> 178.28 | M13: =AVERAGE(F13:G13) -> 131.525 | N13: =AVERAGE(H13:I13) -> 91.15 | O13: =AVERAGE(J13:K13) -> 0
C14: Ştiinţe Umane | D14: 197.68 | E14: 221.67 | F14: 103.9 | G14: 156.38 | H14: 49.5 | I14: 212.27 | J14: 0 | K14: 0 | L14: =AVERAGE(D14:E14) -> 209.675 | M14: =AVERAGE(F14:G14) -> 130.14 | N14: =AVERAGE(G14:H14) -> 102.94 | O14: =AVERAGE(J14:K14) -> 0
C15: Ştiinţe Alimentare | D15: 166.18 | E15: 166.18 | F15: 153.8 | G15: 220.8 | H15: 82.06 | I15: 132.707 | J15: 54.82 | K15: 54.82 | L15: =AVERAGE(D15:E15) -> 166.18 | M15: =AVERAGE(F15:G15) -> 187.3 | N15: =AVERAGE(G15:H15) -> 151.43 | O15: =AVERAGE(J15:K15) -> 54.82
C16: Bioinginerie | D16: 53.87 | E16: 114.28 | F16: 71.74 | G16: 162.25 | H16: 47.22 | I16: 141.5 | J16: 0 | K16: 0 | L16: =AVERAGE(D16:E16) -> 84.075 | M16: =AVERAGE(F16:G16) -> 116.995 | N16: =AVERAGE(H16:I16) -> 94.36 | O16: =AVERAGE(J16:K16) -> 0
B17: de Științe Tehnice și Umaniste din Tg. Mureş | C17: Inginerie Mecanică | D17: 308 | E17: 308 | F17: 148 | G17: 255 | H17: 162 | I17: 318 | J17: 115 | K17: 125 | L17: 308 | M17: 210 | N17: 224 | O17: 120 | P17: -
C18: Inginerie Electrică | D18: 359 | E18: 218 | F18: 27 | G18: 228 | H18: 112 | I18: 206 | J18: 203 | K18: 203 | L18: 277 | M18: 140 | N18: 152 | O18: 203 | P18: -
C19: Științe Sociale Aplicate | D19: - | E19: - | F19: 218 | G19: 267 | H19: 110 | I19: 257 | J19: - | K19: - | L19: - | M19: 247 | N19: 196 | O19: - | P19: -
C20: Lingvistică Aplicată | D20: 287 | E20: 287 | F20: 106 | G20: 340 | H20: 142 | I20: 288 | J20: 447 | K20: 470 | L20: 287 | M20: 246 | N20: 214 | O20: 308 | P20: -
C21: Horticultură | D21: 208 | E21: 301 | F21: 116 | G21: 323 | H21: 150 | I21: 489 | J21: 231 | K21: 233 | L21: 260 | M21: 249 | N21: 228 | O21: 232 | P21: -
C22: Matematică-Informatică | D22: 233 | E22: 233 | F22: 130 | G22: 253 | H22: 206 | I22: 212 | J22: 177 | K22: 199 | L22: 233 | M22: 210 | N22: 209 | O22: 188 | P22: -
B23: de Științe ale Vieții și Sport | C23: Științe ale Vieții | D23: 300 | E23: 300 | F23: 250 | G23: 450 | H23: 330 | I23: 450 | J23: - | K23: - | L23: 300 | M23: 283.3 | N23: 420.91 | O23: - | P23: -
B24: DSPP | C24: DSPP | G24: 197 | H24: 122 | I24: 154 | N24: 138.6

Sheet Munka11
A2: Tabelul 3.4. Rezultatele evaluării de către studenți a cadrelor didactice din departamente pe anul 2025 se calculează ca valoarea medie aritmetică a calificativelor obţinute de toate cadrele didactice de acelaşi grad universitar din cadrul departamentului
A3: Facultatea | B3: Departamentul | C3: Min/Max | M3: Valoarea medie aritmetică
C4: Prof. | E4: Conf. | G4: Lector | I4: Asistent | K4: Prep. | M4: Prof. | N4: Conf. | O4: Lector | P4: Asistent | Q4: Prep.
C5: Min | D5: Max | E5: Min | F5: Max | G5: Min | H5: Max | I5: Min | J5: Max | K5: Min | L5: Max
A6: de Științe și Arte din Cluj -Napoca | B6: Studii Europene | C6: 4.78 | D6: 4.78 | E6: 4.07 | F6: 4.94 | G6: 3.8 | H6: 5 | I6: - | J6: - | K6: - | L6: - | M6: 4.78 | N6: 4.66 | O6: 4.62 | P6: - | Q6: -
B7: Ştiinţe Juridice | C7: 3.76 | D7: 4.8 | E7: 3.97 | F7: 4.58 | G7: 4.59 | H7: 4.94 | I7: - | J7: - | K7: - | L7: - | M7: 4.28 | N7: 4.33 | O7: 4.73 | P7: - | Q7: -
B8: Media | C8: 4.33 | D8: 4.33 | E8: 3.7 | F8: 4.67 | G8: 4.33 | H8: 4.86 | I8: 4.47 | J8: 4.5 | K8: - | L8: - | M8: 4.33 | N8: 4.42 | O8: 4.6 | P8: 4.49 | Q8: -
B9: Ştiinţa Mediului | C9: 4.61 | D9: 4.61 | E9: 3.83 | F9: 3.83 | G9: 3.54 | H9: 4.83 | I9: - | J9: - | K9: - | L9: - | M9: 4.61 | N9: 3.83 | O9: 4.42 | P9: - | Q9: -
A10: de Științe Economice, Socio-Umane și Inginerești din Miercurea Ciuc | B10: Ştiinţe Economice | C10: 4.83 | D10: 4.83 | E10: 4.67 | F10: 4.9 | G10: 3.97 | H10: 4.89 | I10: 0 | J10: 0 | M10: =AVERAGE(E10:F10) -> 4.785 | N10: =AVERAGE(G10:H10) -> 4.43 | O10: 4.43 | P10: 0
B11: Ştiinţe Afacerilor | C11: 4.22 | D11: 4.22 | E11: 3.63 | F11: 4.41 | G11: 4.42 | H11: 4.91 | I11: 0 | J11: 0 | M11: =AVERAGE(E11:F11) -> 4.02 | N11: =AVERAGE(G11:H11) -> 4.665 | O11: 4.58 | P11: 0
B12: Ştiinţe Sociale | C12: 4.88 | D12: 4.88 | E12: 4.45 | F12: 4.82 | G12: 4.46 | H12: 4.93 | I12: 0 | J12: 0 | M12: =AVERAGE(E12:F12) -> 4.635 | N12: =AVERAGE(G12:H12) -> 4.695 | O12: 4.7 | P12: 0
B13: Ştiinţe Umane | C13: 4.5 | D13: 4.71 | E13: 4.5 | F13: 4.82 | G13: 4.48 | H13: 4.87 | I13: 0 | J13: 0 | M13: =AVERAGE(E13:F13) -> 4.66 | N13: =AVERAGE(G13:H13) -> 4.675 | O13: 4.68 | P13: 0
B14: Ştiinţe Alimentare | C14: 4.85 | D14: 4.85 | E14: 4.82 | F14: 4.96 | G14: 4 | H14: 4.88 | I14: 4.1 | J14: 4.1 | M14: 4.85 | N14: 4.89 | O14: 4.44 | P14: 4.1
B15: Bioinginerie | C15: 4.68 | D15: 4.88 | E15: 4.4 | F15: 4.77 | G15: 4.11 | H15: 4.88 | I15: 0 | J15: 0 | M15: =AVERAGE(E15:F15) -> 4.585 | N15: =AVERAGE(G15:H15) -> 4.495 | O15: 4.5 | P15: 0
A16: de Științe Tehnice și Umaniste Tg. Mureș | B16: Inginerie Mecanică | C16: 4.63 | D16: 4.67 | E16: 4.13 | F16: 4.78 | G16: 4.33 | H16: 4.91 | I16: 4.17 | J16: 4.54 | K16: - | L16: - | M16: 4.67 | N16: 4.54 | O16: 4.63 | P16: 4.35 | Q16: -
B17: Inginerie Electrică | C17: 4.49 | D17: 4.73 | E17: 3.9 | F17: 4.73 | G17: 4.14 | H17: 4.88 | I17: 4.28 | J17: 4.43 | K17: - | L17: - | M17: 4.58 | N17: 4.27 | O17: 4.57 | P17: 4.35 | Q17: -
B18: Științe Sociale Aplicate | C18: 5 | D18: 5 | E18: 3.36 | F18: 4.72 | G18: 4.19 | H18: 4.96 | I18: 4.15 | J18: 4.62 | K18: - | L18: - | M18: 5 | N18: 4.36 | O18: 4.61 | P18: 4.39 | Q18: -
B19: Lingvistică Aplicată | C19: 4.31 | D19: 4.84 | E19: 4.5 | F19: 4.84 | G19: 4.28 | H19: 4.94 | I19: 4.1 | J19: 4.88 | K19: - | L19: - | M19: 4.56 | N19: 4.61 | O19: 4.54 | P19: 4.6 | Q19: -
B20: Horticultură | C20: 4.33 | D20: 4.8 | E20: 4.05 | F20: 4.88 | G20: 3.56 | H20: 4.79 | I20: 3.12 | J20: 5 | K20: - | L20: - | M20: 4.59 | N20: 4.53 | O20: 4.49 | P20: 4.37 | Q20: -
B21: Matematică-Informatică | C21: 4.02 | D21: 4.51 | E21: 3.56 | F21: 4.83 | G21: 4.04 | H21: 4.82 | I21: 4.07 | J21: 4.92 | K21: - | L21: - | M21: 4.28 | N21: 4.33 | O21: 4.46 | P21: 4.37 | Q21: -
A22: de Științe ale Vieții și Sport | B22: Științe ale Vieții | C22: 4.82 | D22: 4.82 | E22: 4.92 | F22: 5 | G22: 3.97 | H22: 4.95 | I22: 0 | J22: 0 | K22: 0 | L22: 0 | M22: 4.89 | N22: =(E22+F22)/2 -> 4.96 | O22: 4.79 | P22: 0 | Q22: 0
A23: DSPP | B23: DSPP | F23: 4.39 | G23: 4.53 | H23: 4.72 | N23: 4.39 | O23: 4.63
A24: Media UNIVERSITATE | M24: 4.65 | N24: 4.59 | O24: 4.62 | P24: 4.33
C26: Prof. | D26: Conf. | E26: Lector | F26: Asistent
B27: FSA | C27: 4.5 | D27: 4.51 | E27: 4.6 | F27: 4.49
B28: FSESUI | C28: 4.59 | D28: 4.65 | E28: 4.56 | F28: 4.1
B29: FSTU | C29: 4.61 | D29: 4.44 | E29: 4.55 | F29: 4.41
B30: FSVS | C30: 4.89 | D30: 4.96 | E30: 4.79 | F30: 0
B31: DSPP | C31: 0 | D31: 4.4 | E31: 4.6 | F31: 0
B32: Univ | C32: 4.65 | D32: 4.59 | E32: 4.62 | F32: 4.33

Sheet Munka16
C2: Tabel 5.1. Sinteza ocupării locurilor la specializările facultăților din cadrul US la examenul de admitere din anul universitar 2025/2026
C3: Facultatea | D3: Programul de studiu | E3: Număr total de locuri | F3: Nr. de locuri bugetate | G3: Nr. de studenţi înscrişi în anul I | K3: Media generalăla admitere | L3: Media generală a anilor precedenţi
G4: Nr. de studeţi bugetaţi | H4: Nr de studenţi cu contribuţii la cheltuieli de studii | I4: Nr. total de studenţi înscrişi | J4: Raportul nr. studenţilor înscrişi pe locuri fără taxă la nr. de locuri bugetate [%] | L4: 2024 | M4: 2023 | N4: 2022
C5: de Ştiinţe şi Arte Cluj-Napoca | D5: Relaţii internaţionale şi studii europene | E5: 30 | F5: 23 | G5: 12 | H5: 0 | I5: 12 | J5: =G5/F5 -> 0.52173913 | K5: 7.57 | L5: 7.91 | M5: 7.74 | N5: 7.92
D6: Drept | E6: 40 | F6: 20 | G6: 20 | H6: 10 | I6: 30 | J6: =G6/F6 -> 1 | K6: 8.22 | L6: 8.32 | M6: 8.34 | N6: 8.19
D7: Cinematografie, fotografie, media | L7: 8.53 | M7: 7,8 | N7: 8.36
D8: Cinematografie, fotografie, media - CAV | E8: 7 | F8: 4 | G8: 4 | H8: 2 | I8: 6 | J8: =G8/F8 -> 1 | K8: 8.6
D9: Cinematografie, fotografie, media - IMG | E9: 9 | F9: 4 | G9: 4 | H9: 2 | I9: 6 | J9: =G9/F9 -> 1 | K9: 8.46
D10: Cinematografie, fotografie, media - REG | E10: 9 | F10: 4 | G10: 4 | H10: 4 | I10: 8 | J10: =G10/F10 -> 1 | K10: 8.09
D11: Artele spectacolului (coreografie) | E11: 15 | F11: 10 | G11: 9 | H11: 4 | I11: 13 | J11: =G11/F11 -> 0.9 | K11: 8 | L11: 8.7 | M11: 8.69 | N11: 8.21
D12: Ştiinţa mediului | E12: 25 | F12: 13 | G12: 4 | H12: 0 | I12: 4 | J12: =G12/F12 -> 0.30769231 | K12: 8.05 | L12: 7.54 | M12: 7.41 | N12: 7.93
D13: Total licenţă | E13: =SUM(E5:E12) -> 135 | F13: =SUM(F5:F12) -> 78 | G13: =SUM(G5:G12) -> 57 | H13: =SUM(H5:H12) -> 22 | I13: =SUM(I5:I12) -> 79
D14: Diplomație și studii interculturale | E14: 15 | F14: 8 | G14: 8 | H14: 5 | I14: 13 | J14: =G14/F14 -> 1 | K14: 8.91 | L14: 9.12 | M14: 8.56 | N14: 8.46
D15: Carieră judiciară | E15: 20 | F15: 10 | G15: 10 | H15: 2 | I15: 12 | J15: =G15/F15 -> 1 | K15: 9.21 | L15: 9.11 | M15: 9.18 | N15: 9.12
D16: Studii de film | E16: 15 | F16: 10 | G16: 8 | H16: 0 | I16: 8 | J16: =G16/F16 -> 0.8 | K16: 9.79 | L16: 8.21 | M16: 9.74 | N16: 8.97
D17: Protecția și monitorizarea mediului | E17: 10 | F17: 7 | G17: 5 | H17: 0 | I17: 5 | J17: =G17/F17 -> 0.71428571 | K17: 9.04 | L17: 9.32 | M17: 9.14 | N17: 9.52
D18: Total master | E18: =SUM(E14:E17) -> 60 | F18: =SUM(F14:F17) -> 35 | G18: =SUM(G14:G17) -> 31 | H18: =SUM(H14:H17) -> 7 | I18: =SUM(I14:I17) -> 38
D19: Total Facultate | E19: =SUM(E13,E18) -> 195 | F19: =SUM(F13,F18) -> 113 | G19: =SUM(G13,G18) -> 88 | H19: =SUM(H13,H18) -> 29 | I19: =SUM(I13,I18) -> 117
C20: de Știinte Economice, Socio-Umane și Inginerești din Miercurea Ciuc | D20: Contabilitate şi informatică de gestiune | E20: 50 | F20: 25 | G20: 25 | H20: 13 | I20: =G20+H20 -> 38 | J20: =G20/F20 -> 1 | L20: 7.58 | M20: 7.43 | N20: 7.48
D21: Economie agroalimentară | E21: 60 | F21: 40 | G21: 40 | H21: 4 | I21: =G21+H21 -> 44 | J21: =G21/F21 -> 1 | L21: 7.38 | M21: 7.3 | N21: 7.63
D22: Economie generală | I22: =G22+H22 -> 0
D23: Marketing | E23: 30 | F23: 15 | G23: 15 | H23: 3 | I23: =G23+H23 -> 18 | J23: =G23/F23 -> 1 | L23: 7.24 | M23: 7.15 | N23: 7.06
D24: Informatică economică | E24: 30 | F24: 20 | G24: 20 | H24: 3 | I24: =G24+H24 -> 23 | J24: =G24/F24 -> 1 | L24: 7.74 | M24: 7.11 | N24: 7.32
D25: Comunicare și relații publice | E25: 50 | F25: 16 | G25: 16 | H25: 3 | I25: =G25+H25 -> 19 | J25: =G25/F25 -> 1 | L25: 7.18 | M25: 7.47 | N25: 7.62
D26: Sociologie | E26: 25 | F26: 10 | G26: 10 | H26: 6 | I26: =G26+H26 -> 16 | J26: =G26/F26 -> 1 | L26: 7.06 | M26: 7.4 | N26: 7.28
D27: Resurse umane | E27: 25 | F27: 10 | G27: 10 | H27: 1 | I27: =G27+H27 -> 11 | J27: =G27/F27 -> 1 | L27: 7.22 | M27: 7.18 | N27: 7.46
D28: Lb. şi lit. rom. – lb. şi lit. eng. | E28: 30 | F28: 16 | G28: 16 | H28: 2 | I28: =G28+H28 -> 18 | J28: =G28/F28 -> 1 | L28: 8.22 | M28: 7.39 | N28: 8.72
D29: Lit. univ. şi comp. – lb. şi lit. eng. | E29: 30 | F29: 16 | G29: 16 | H29: 0 | I29: =G29+H29 -> 16 | J29: =G29/F29 -> 1 | L29: 8.45 | M29: 7.8 | N29: 8.46
D30: Ingineria produselor alimentare | E30: 40 | F30: 22 | G30: 19 | H30: 0 | I30: =G30+H30 -> 19 | J30: =G30/F30 -> 0.86363636 | L30: 7.06 | M30: 7.05 | N30: 6.9
D31: Inginerie genetică | E31: 25 | F31: 21 | G31: 20 | H31: 1 | I31: =G31+H31 -> 21 | J31: =G31/F31 -> 0.95238095 | L31: 7.57 | M31: 8.23 | N31: 7.58
D32: Inginerie și management în alimentație publică și agroturism | E32: 30 | F32: 21 | G32: 19 | H32: 0 | I32: =G32+H32 -> 19 | J32: =G32/F32 -> 0.9047619 | L32: 7.5 | M32: 7.57 | N32: 7.04
D33: Educație fizică și sportivă | E33: 25 | F33: 10 | G33: 15 | H33: 9 | I33: =G33+H33 -> 24 | J33: =G33/F33 -> 1.5 | L33: 8.12 | M33: 7.86
D34: Total licenţă | E34: =SUM(E20:E33) -> 450 | F34: =SUM(F20:F33) -> 242 | G34: =SUM(G20:G33) -> 241 | H34: =SUM(H20:H33) -> 45 | I34: =SUM(I20:I33) -> 286 | J34: =G34/F34 -> 0.99586777
D35: Traducere şi interpretare | E35: 16 | F35: 12 | G35: 12 | H35: 3 | I35: =G35+H35 -> 15 | J35: =G35/F35 -> 1 | L35: 8.45 | M35: 7.76 | N35: 7.93
D36: Leadership şi management în economia agrară | E36: 30 | F36: 20 | G36: 20 | H36: 7 | I36: =G36+H36 -> 27 | J36: =G36/F36 -> 1 | L36: 9.38 | M36: 9.26 | N36: 9.49
D37: Economie aplicată şi finanţe | E37: 30 | F37: 20 | G37: 20 | H37: 1 | I37: =G37+H37 -> 21 | J37: =G37/F37 -> 1 | L37: 9.3 | M37: 9.57 | N37: 9.37
D38: Biotehnologii sustenabile | E38: 20 | F38: 12 | G38: 9 | H38: 0 | I38: =G38+H38 -> 9 | J38: =G38/F38 -> 0.75 | L38: 9.61 | M38: 9.51 | N38: 9.17
D39: Comunicare şi relaţii publice | E39: 50 | F39: 26 | G39: 23 | H39: 1 | I39: =G39+H39 -> 24 | J39: =G39/F39 -> 0.88461538 | L39: 9.23 | M39: 9.13 | N39: 9.25
D40: Total master | E40: =SUM(E35:E39) -> 146 | F40: =SUM(F35:F39) -> 90 | G40: =SUM(G35:G39) -> 84 | H40: =SUM(H35:H39) -> 12 | I40: =SUM(I35:I39) -> 96 | J40: =G40/F40 -> 0.93333333
D41: Total Facultate | E41: =E34+E40 -> 596 | F41: =F34+F40 -> 332 | G41: =G34+G40 -> 325 | H41: =H34+H40 -> 57 | I41: =I34+I40 -> 382 | J41: =G41/F41 -> 0.97891566
...

Sheet Munka17
B3: Tabelul 5.2. Efectivul de studenţi şi formaţii de studiu la nivel de specializări și facultăți conform statelor de funcții din anul universitar 2025/2026
B4: Facultatea | C4: Programul de studiu | D4: Anul de studiu | E4: Nr. cursanţi | I4: Structura formaţiei de lucru
E5: Total | F5: Fără taxă | G5: Contri-buţii la cheltuieli de studii | H5: Altă categorie | I5: Grupe mari (G) | K5: Grupe mici (g)
I6: Nr. G | J6: Nr.st/G | K6: Nr.g | L6: Nr. stud/g
B7: de Ştiinţe şi Arte Cluj-Napoca | C7: Relaţii internaţionale şi studii europene | D7: I | E7: =SUM(F7:H7) -> 12 | F7: 12 | G7: 0 | H7: 0 | I7: 1 | J7: =E7/I7 -> 12 | K7: 1 | L7: =E7/K7 -> 12
D8: II | E8: =SUM(F8:H8) -> 16 | F8: 9 | G8: 5 | H8: 2 | I8: 1 | J8: =E8/I8 -> 16 | K8: 1 | L8: =E8/K8 -> 16
D9: III | E9: =SUM(F9:H9) -> 16 | F9: 5 | G9: 11 | H9: 0 | I9: 1 | J9: =E9/I9 -> 16 | K9: 1 | L9: =E9/K9 -> 16
D10: III+ | E10: =SUM(F10:H10) -> 1 | F10: 0 | G10: 0 | H10: 1 | I10: 0
D11: Total | E11: =SUM(E7:E10) -> 45 | F11: =SUM(F7:F10) -> 26 | G11: =SUM(G7:G10) -> 16 | H11: =SUM(H7:H10) -> 3 | I11: =SUM(I7:I10) -> 3 | K11: =SUM(K7:K10) -> 3
C12: Drept | D12: I | E12: =SUM(F12:H12) -> 30 | F12: 20 | G12: 9 | H12: 1 | I12: 1 | J12: =E12/I12 -> 30 | K12: 2 | L12: =E12/K12 -> 15
D13: II | E13: =SUM(F13:H13) -> 28 | F13: 11 | G13: 17 | H13: 0 | I13: 1 | J13: =E13/I13 -> 28 | K13: 2 | L13: =E13/K13 -> 14
D14: III | E14: =SUM(F14:H14) -> 26 | F14: 14 | G14: 12 | H14: 0 | I14: 1 | J14: =E14/I14 -> 26 | K14: 1 | L14: =E14/K14 -> 26
D15: IV | E15: =SUM(F15:H15) -> 30 | F15: 10 | G15: 20 | H15: 0 | I15: 1 | J15: =E15/I15 -> 30 | K15: 1 | L15: =E15/K15 -> 30
D16: IV+ | E16: =SUM(F16:H16) -> 6 | F16: 0 | G16: 0 | H16: 6
D17: Total | E17: =SUM(E12:E16) -> 120 | F17: =SUM(F12:F16) -> 55 | G17: =SUM(G12:G16) -> 58 | H17: =SUM(H12:H16) -> 7 | I17: =SUM(I12:I16) -> 4 | K17: =SUM(K12:K16) -> 6
C18: Cinematografie, fotografie, media | D18: I | E18: =SUM(F18:H18) -> 6 | F18: 4 | G18: 2 | H18: 0 | I18: 0
E19: =SUM(F19:H19) -> 6 | F19: 4 | G19: 2 | H19: 0 | I19: 0
E20: =SUM(F20:H20) -> 8 | F20: 4 | G20: 4 | H20: 0 | I20: 0
D21: II | E21: =SUM(F21:H21) -> 19 | F21: 8 | G21: 11 | H21: 0 | I21: 1 | J21: =E21/I21 -> 19 | K21: 2 | L21: =E21/K21 -> 9.5
D22: III | E22: =SUM(F22:H22) -> 19 | F22: 11 | G22: 8 | H22: 0 | I22: 2 | J22: =E22/I22 -> 9.5 | K22: 2 | L22: =E22/K22 -> 9.5
D23: III+ | E23: =SUM(F23:H23) -> 5 | F23: 0 | G23: 0 | H23: 5 | I23: 0
D24: Total | E24: =SUM(E18:E23) -> 63 | F24: =SUM(F18:F23) -> 31 | G24: =SUM(G18:G23) -> 27 | H24: =SUM(H18:H23) -> 5 | I24: =SUM(I18:I23) -> 3 | K24: =SUM(K18:K23) -> 4
C25: Ştiinţa mediului | D25: I | E25: =SUM(F25:H25) -> 4 | F25: 4 | G25: 0 | H25: 0 | I25: 1 | J25: =E25/I25 -> 4 | K25: 1 | L25: =E25/K25 -> 4
D26: II | E26: =SUM(F26:H26) -> 8 | F26: 3 | G26: 5 | H26: 0 | I26: 1 | J26: =E26/I26 -> 8 | K26: 1 | L26: =E26/K26 -> 8
D27: III | E27: =SUM(F27:H27) -> 1 | F27: 1 | G27: 0 | H27: 0 | I27: 1 | J27: =E27/I27 -> 1 | K27: 1 | L27: =E27/K27 -> 1
D28: III+ | E28: =SUM(F28:H28) -> 0 | F28: 0 | G28: 0 | H28: 0 | I28: 0
D29: Total | E29: =SUM(E25:E28) -> 13 | F29: =SUM(F25:F28) -> 8 | G29: =SUM(G25:G28) -> 5 | H29: =SUM(H25:H28) -> 0 | I29: =SUM(I25:I28) -> 3 | K29: =SUM(K25:K28) -> 3
C30: Artele spectacolului (coreografie) | D30: I | E30: =SUM(F30:H30) -> 14 | F30: 10 | G30: 4 | H30: 0 | I30: 1 | J30: =E30/I30 -> 14 | K30: 1 | L30: =E30/K30 -> 14
D31: II | E31: =SUM(F31:H31) -> 15 | F31: 10 | G31: 5 | H31: 0 | I31: 1 | J31: =E31/I31 -> 15 | K31: 1 | L31: =E31/K31 -> 15
D32: III | E32: =SUM(F32:H32) -> 9 | F32: 6 | G32: 3 | H32: 0 | I32: 1 | J32: =E32/I32 -> 9 | K32: 1 | L32: =E32/K32 -> 9
D33: III+ | E33: =SUM(F33:H33) -> 2 | G33: 2 | H33: 0 | I33: 0
D34: Total | E34: =SUM(E30:E33) -> 40 | F34: =SUM(F30:F33) -> 26 | G34: =SUM(G30:G33) -> 14 | H34: =SUM(H30:H33) -> 0 | I34: =SUM(I30:I33) -> 3 | K34: =SUM(K30:K33) -> 3
C35: Total licenţă | E35: =SUM(E11,E17,E24,E29,E34) -> 281 | F35: =SUM(F11,F17,F24,F29,F34) -> 146 | G35: =SUM(G11,G17,G24,G29,G34) -> 120 | H35: =SUM(H11,H17,H24,H29,H34) -> 15 | I35: =SUM(I11,I17,I24,I29,I34) -> 16 | K35: =SUM(K11,K17,K24,K29,K34) -> 19
C36: Diplomație și studii interculturale | D36: I | E36: =SUM(F36:H36) -> 0 | F36: 0 | G36: 0 | H36: 0 | I36: 0
D37: II | E37: =SUM(F37:H37) -> 7 | F37: 4 | G37: 3 | H37: 0 | I37: 1 | J37: =E37/I37 -> 7 | K37: 1 | L37: =E37/K37 -> 7
D38: II+ | E38: =SUM(F38:H38) -> 2 | F38: 0 | G38: 0 | H38: 2 | I38: 0
D39: Total | E39: =SUM(E36:E38) -> 9 | F39: =SUM(F36:F38) -> 4 | G39: =SUM(G36:G38) -> 3 | H39: =SUM(H36:H38) -> 2 | I39: =SUM(I36:I38) -> 1 | K39: =SUM(K36:K38) -> 1
C40: Studii de film | D40: I | E40: =SUM(F40:H40) -> 8 | F40: 8 | G40: 0 | H40: 0 | I40: 1 | J40: =E40/I40 -> 8 | K40: 1 | L40: =E40/K40 -> 8
D41: II | E41: =SUM(F41:H41) -> 8 | F41: 5 | G41: 3 | H41: 0 | I41: 1 | J41: =E41/I41 -> 8 | K41: 1 | L41: =E41/K41 -> 8
D42: II+ | E42: =SUM(F42:H42) -> 2 | G42: 2 | H42: 0 | I42: 0
...

Sheet Munka18
C4: Situaţia gradului de promovare a anilor de studii în anul universitar 2025/2026. Inscris î n anul…, P- promovat, adică a îndeplinit 40 de credite stabilite de Regulament, CI- a acumulat minim 60 de credite, A - absolvent
B5: Facultatea | C5: Programul de studiu | D5: I | G5: II | J5: III | M5: IV | P5: Prelungire | S5: Total
D6: I | E6: P | F6: CI | G6: I | H6: P | I6: CI | J6: I | K6: P | L6: CI | M6: I | N6: P | O6: CI | P6: I | Q6: P | R6: A | S6: I | T6: P | U6: CI+A | Y6: I | Z6: P | AA6: CI+A
B7: de Ştiinţe şi Arte Cluj-Napoca | C7: Relaţii internaţionale şi studii europene | D7: 16 | E7: 4 | F7: 10 | G7: 16 | H7: 9 | I7: 7 | J7: 12 | K7: 0 | L7: 11 | P7: 1 | Q7: 0 | R7: 0 | S7: =D7+G7+J7+M7+P7 -> 45 | T7: =E7+H7+K7+Q7 -> 13 | U7: =F7+I7+L7+R7 -> 28 | W7: FSA | X7: Bsc | Y7: 233 | Z7: 71 | AA7: 135
C8: Drept | D8: 35 | E8: 15 | F8: 14 | G8: 27 | H8: 15 | I8: 10 | J8: 32 | K8: 18 | L8: 12 | M8: 12 | N8: 2 | O8: 10 | P8: 4 | Q8: 3 | R8: 1 | S8: =D8+G8+J8+M8+P8 -> 110 | T8: =E8+H8+K8+Q8 -> 51 | U8: =F8+I8+L8+R8 -> 37 | X8: Msc | Y8: 52 | Z8: 12 | AA8: 31
C9: Cinematografie, fotografie, media | D9: 20 | E9: 3 | F9: 16 | G9: 20 | H9: 5 | I9: 14 | J9: 24 | K9: 3 | L9: 20 | P9: 4 | Q9: 3 | R9: 1 | S9: =D9+G9+J9+P9 -> 68 | T9: =E9+H9+K9+Q9 -> 14 | U9: =F9+I9+L9+R9 -> 51 | W9: FSEUI | X9: Bsc | Y9: 627 | Z9: 127 | AA9: 472
C10: Ştiinţa mediului | D10: 10 | E10: 3 | F10: 5 | G10: 1 | H10: 0 | I10: 1 | J10: 6 | K10: 0 | L10: 6 | P10: 0 | Q10: 0 | R10: 0 | S10: =D10+G10+J10+P10 -> 17 | T10: =E10+H10+K10+Q10 -> 3 | U10: =F10+I10+L10+R10 -> 12 | X10: Msc | Y10: 196 | Z10: 15 | AA10: 161
C11: Artele spectacolului (coregrafie) | D11: 15 | E11: 1 | F11: 14 | G11: 9 | H11: 1 | I11: 8 | J11: 14 | K11: 1 | L11: 13 | P11: 1 | Q11: 0 | R11: 0 | S11: =D11+G11+J11 -> 38 | T11: =E11+H11+K11+Q11 -> 3 | U11: =F11+I11+L11+R11 -> 35 | W11: FSUI | X11: BSc | Y11: 870 | Z11: 714 | AA11: 522
